BEGIN:VCALENDAR
VERSION:2.0
PRODID:-//DANCE SOUL 舞魂街舞學校 - ECPv6.15.18//NONSGML v1.0//EN
CALSCALE:GREGORIAN
METHOD:PUBLISH
X-WR-CALNAME:DANCE SOUL 舞魂街舞學校
X-ORIGINAL-URL:https://www.dancesoul.com.tw
X-WR-CALDESC:Events for DANCE SOUL 舞魂街舞學校
REFRESH-INTERVAL;VALUE=DURATION:PT1H
X-Robots-Tag:noindex
X-PUBLISHED-TTL:PT1H
BEGIN:VTIMEZONE
TZID:Asia/Shanghai
BEGIN:STANDARD
TZOFFSETFROM:+0800
TZOFFSETTO:+0800
TZNAME:CST
DTSTART:20240101T000000
END:STANDARD
END:VTIMEZONE
BEGIN:VEVENT
DTSTART;TZID=Asia/Shanghai:20250826T154000
DTEND;TZID=Asia/Shanghai:20250826T164000
DTSTAMP:20260426T115151
CREATED:20250623T121009Z
LAST-MODIFIED:20250725T074903Z
UID:10022062-1756222800-1756226400@www.dancesoul.com.tw
SUMMARY:MV-俊宏
DESCRIPTION:
URL:https://www.dancesoul.com.tw/schedule/mv-%e4%bf%8a%e5%ae%8f/2025-08-26/
CATEGORIES:MV課
END:VEVENT
BEGIN:VEVENT
DTSTART;TZID=Asia/Shanghai:20250826T165000
DTEND;TZID=Asia/Shanghai:20250826T175000
DTSTAMP:20260426T115151
CREATED:20250725T075045Z
LAST-MODIFIED:20250725T075045Z
UID:10022066-1756227000-1756230600@www.dancesoul.com.tw
SUMMARY:MV-俊宏x薇臻
DESCRIPTION:
URL:https://www.dancesoul.com.tw/schedule/mv-%e4%bf%8a%e5%ae%8fx%e8%96%87%e8%87%bb/2025-08-26/
CATEGORIES:MV課,特別課程
END:VEVENT
BEGIN:VEVENT
DTSTART;TZID=Asia/Shanghai:20250826T182000
DTEND;TZID=Asia/Shanghai:20250826T192000
DTSTAMP:20260426T115151
CREATED:20250623T121300Z
LAST-MODIFIED:20250725T075226Z
UID:10022070-1756232400-1756236000@www.dancesoul.com.tw
SUMMARY:MV-薇臻
DESCRIPTION:
URL:https://www.dancesoul.com.tw/schedule/mv-%e8%96%87%e8%87%bb-3/2025-08-26/
CATEGORIES:MV課
END:VEVENT
BEGIN:VEVENT
DTSTART;TZID=Asia/Shanghai:20250829T143000
DTEND;TZID=Asia/Shanghai:20250829T143000
DTSTAMP:20260426T115151
CREATED:20250725T082101Z
LAST-MODIFIED:20250725T082101Z
UID:10022145-1756477800-1756477800@www.dancesoul.com.tw
SUMMARY:MV-瑜庭
DESCRIPTION:
URL:https://www.dancesoul.com.tw/schedule/mv-%e7%91%9c%e5%ba%ad/2025-08-29/
CATEGORIES:MV課,常態課_一般,課程
END:VEVENT
BEGIN:VEVENT
DTSTART;TZID=Asia/Shanghai:20250830T132000
DTEND;TZID=Asia/Shanghai:20250830T142000
DTSTAMP:20260426T115151
CREATED:20250725T084212Z
LAST-MODIFIED:20250725T084514Z
UID:10022190-1756560000-1756563600@www.dancesoul.com.tw
SUMMARY:兒童MV(初)(izna-BEEP)-薇臻
DESCRIPTION:
URL:https://www.dancesoul.com.tw/schedule/%e5%85%92%e7%ab%a5mv%e5%88%9dizna-beep-%e8%96%87%e8%87%bb/2025-08-30/
CATEGORIES:MV課,兒童MV,課程
END:VEVENT
BEGIN:VEVENT
DTSTART;TZID=Asia/Shanghai:20250830T143000
DTEND;TZID=Asia/Shanghai:20250830T153000
DTSTAMP:20260426T115151
CREATED:20250725T084348Z
LAST-MODIFIED:20250725T084348Z
UID:10022185-1756564200-1756567800@www.dancesoul.com.tw
SUMMARY:兒童MV(aespa-DIRTY WORK)-薇臻
DESCRIPTION:
URL:https://www.dancesoul.com.tw/schedule/%e5%85%92%e7%ab%a5mvaespa-dirty-work-%e8%96%87%e8%87%bb/2025-08-30/
CATEGORIES:MV課,兒童MV,課程
END:VEVENT
BEGIN:VEVENT
DTSTART;TZID=Asia/Shanghai:20250830T143000
DTEND;TZID=Asia/Shanghai:20250830T153000
DTSTAMP:20260426T115151
CREATED:20251202T055414Z
LAST-MODIFIED:20260315T072223Z
UID:10031365-1756564200-1756567800@www.dancesoul.com.tw
SUMMARY:兒童MV(IVE - 'BANG BANG')-薇臻
DESCRIPTION:
URL:https://www.dancesoul.com.tw/schedule/%e5%85%92%e7%ab%a5mvbabymonster-hot-sauce-%e8%96%87%e8%87%bb-2/2025-08-30/
CATEGORIES:MV課,兒童MV,課程
END:VEVENT
BEGIN:VEVENT
DTSTART;TZID=Asia/Shanghai:20250830T164000
DTEND;TZID=Asia/Shanghai:20250830T174000
DTSTAMP:20260426T115151
CREATED:20250901T055344Z
LAST-MODIFIED:20251202T055314Z
UID:10030726-1756572000-1756575600@www.dancesoul.com.tw
SUMMARY:MV(BABYMONSTER - ‘PSYCHO’)-凝琦
DESCRIPTION:
URL:https://www.dancesoul.com.tw/schedule/mvive-xoxz-%e5%87%9d%e7%90%a6/2025-08-30/
CATEGORIES:MV課,課程
END:VEVENT
BEGIN:VEVENT
DTSTART;TZID=Asia/Shanghai:20250830T164000
DTEND;TZID=Asia/Shanghai:20250830T174000
DTSTAMP:20260426T115151
CREATED:20260315T072002Z
LAST-MODIFIED:20260315T072518Z
UID:10031427-1756572000-1756575600@www.dancesoul.com.tw
SUMMARY:MV(IVE - ‘BANG BANG’)-薇臻
DESCRIPTION:
URL:https://www.dancesoul.com.tw/schedule/mvive-xoxz-%e5%87%9d%e7%90%a6-2-2/2025-08-30/
CATEGORIES:MV課,課程
END:VEVENT
BEGIN:VEVENT
DTSTART;TZID=Asia/Shanghai:20250830T165000
DTEND;TZID=Asia/Shanghai:20250830T175000
DTSTAMP:20260426T115151
CREATED:20250725T090159Z
LAST-MODIFIED:20250725T090159Z
UID:10022200-1756572600-1756576200@www.dancesoul.com.tw
SUMMARY:MV(KATSEYE-Gabriela)-凝琦(丁丁代課)
DESCRIPTION:
URL:https://www.dancesoul.com.tw/schedule/mvkatseye-gabriela-%e5%87%9d%e7%90%a6%e4%b8%81%e4%b8%81%e4%bb%a3%e8%aa%b2/2025-08-30/
CATEGORIES:MV課,課程
END:VEVENT
BEGIN:VEVENT
DTSTART;TZID=Asia/Shanghai:20250830T165000
DTEND;TZID=Asia/Shanghai:20250830T175000
DTSTAMP:20260426T115151
CREATED:20251201T095640Z
LAST-MODIFIED:20260315T071631Z
UID:10031276-1756572600-1756576200@www.dancesoul.com.tw
SUMMARY:MV(Apink - 'Love Me More')-Jenny
DESCRIPTION:
URL:https://www.dancesoul.com.tw/schedule/mvsomi-closer-%e7%91%9c%e5%ba%ad-2/2025-08-30/
CATEGORIES:MV課,課程
END:VEVENT
BEGIN:VEVENT
DTSTART;TZID=Asia/Shanghai:20250831T143000
DTEND;TZID=Asia/Shanghai:20250831T153000
DTSTAMP:20260426T115151
CREATED:20250725T092140Z
LAST-MODIFIED:20250725T092140Z
UID:10022225-1756650600-1756654200@www.dancesoul.com.tw
SUMMARY:兒童MV(TWICE-THIS IS FOR)-羿芃
DESCRIPTION:
URL:https://www.dancesoul.com.tw/schedule/%e5%85%92%e7%ab%a5mvtwice-this-is-for-%e7%be%bf%e8%8a%83/2025-08-31/
CATEGORIES:MV課,兒童MV
END:VEVENT
BEGIN:VEVENT
DTSTART;TZID=Asia/Shanghai:20250831T165000
DTEND;TZID=Asia/Shanghai:20250831T175000
DTSTAMP:20260426T115151
CREATED:20251201T095640Z
LAST-MODIFIED:20260315T071631Z
UID:10031277-1756659000-1756662600@www.dancesoul.com.tw
SUMMARY:MV(Apink - 'Love Me More')-Jenny
DESCRIPTION:
URL:https://www.dancesoul.com.tw/schedule/mvsomi-closer-%e7%91%9c%e5%ba%ad-2/2025-08-31/
CATEGORIES:MV課,課程
END:VEVENT
END:VCALENDAR