BEGIN:VCALENDAR
VERSION:2.0
PRODID:-//DANCE SOUL 舞魂街舞學校 - ECPv6.15.18//NONSGML v1.0//EN
CALSCALE:GREGORIAN
METHOD:PUBLISH
X-WR-CALNAME:DANCE SOUL 舞魂街舞學校
X-ORIGINAL-URL:https://www.dancesoul.com.tw
X-WR-CALDESC:Events for DANCE SOUL 舞魂街舞學校
REFRESH-INTERVAL;VALUE=DURATION:PT1H
X-Robots-Tag:noindex
X-PUBLISHED-TTL:PT1H
BEGIN:VTIMEZONE
TZID:Asia/Shanghai
BEGIN:STANDARD
TZOFFSETFROM:+0800
TZOFFSETTO:+0800
TZNAME:CST
DTSTART:20230101T000000
END:STANDARD
END:VTIMEZONE
BEGIN:VEVENT
DTSTART;TZID=Asia/Shanghai:20241006T154000
DTEND;TZID=Asia/Shanghai:20241006T164000
DTSTAMP:20260422T033635
CREATED:20240924T082647Z
LAST-MODIFIED:20240924T082647Z
UID:10020344-1728229200-1728232800@www.dancesoul.com.tw
SUMMARY:兒童 Street Jazz-傘傘
DESCRIPTION:
URL:https://www.dancesoul.com.tw/schedule/%e5%85%92%e7%ab%a5-street-jazz-%e5%82%98%e5%82%98-3/2024-10-06/
CATEGORIES:兒童 Street Jazz,兒童課,課程
END:VEVENT
BEGIN:VEVENT
DTSTART;TZID=Asia/Shanghai:20241013T154000
DTEND;TZID=Asia/Shanghai:20241013T164000
DTSTAMP:20260422T033635
CREATED:20240924T082647Z
LAST-MODIFIED:20240924T082647Z
UID:10020345-1728834000-1728837600@www.dancesoul.com.tw
SUMMARY:兒童 Street Jazz-傘傘
DESCRIPTION:
URL:https://www.dancesoul.com.tw/schedule/%e5%85%92%e7%ab%a5-street-jazz-%e5%82%98%e5%82%98-3/2024-10-13/
CATEGORIES:兒童 Street Jazz,兒童課,課程
END:VEVENT
BEGIN:VEVENT
DTSTART;TZID=Asia/Shanghai:20241020T154000
DTEND;TZID=Asia/Shanghai:20241020T164000
DTSTAMP:20260422T033635
CREATED:20240924T082647Z
LAST-MODIFIED:20240924T082647Z
UID:10020346-1729438800-1729442400@www.dancesoul.com.tw
SUMMARY:兒童 Street Jazz-傘傘
DESCRIPTION:
URL:https://www.dancesoul.com.tw/schedule/%e5%85%92%e7%ab%a5-street-jazz-%e5%82%98%e5%82%98-3/2024-10-20/
CATEGORIES:兒童 Street Jazz,兒童課,課程
END:VEVENT
BEGIN:VEVENT
DTSTART;TZID=Asia/Shanghai:20241027T154000
DTEND;TZID=Asia/Shanghai:20241027T164000
DTSTAMP:20260422T033635
CREATED:20240924T082647Z
LAST-MODIFIED:20240924T082647Z
UID:10020347-1730043600-1730047200@www.dancesoul.com.tw
SUMMARY:兒童 Street Jazz-傘傘
DESCRIPTION:
URL:https://www.dancesoul.com.tw/schedule/%e5%85%92%e7%ab%a5-street-jazz-%e5%82%98%e5%82%98-3/2024-10-27/
CATEGORIES:兒童 Street Jazz,兒童課,課程
END:VEVENT
END:VCALENDAR