BEGIN:VCALENDAR
VERSION:2.0
PRODID:-//DANCE SOUL 舞魂街舞學校 - ECPv6.15.18//NONSGML v1.0//EN
CALSCALE:GREGORIAN
METHOD:PUBLISH
X-ORIGINAL-URL:https://www.dancesoul.com.tw
X-WR-CALDESC:Events for DANCE SOUL 舞魂街舞學校
REFRESH-INTERVAL;VALUE=DURATION:PT1H
X-Robots-Tag:noindex
X-PUBLISHED-TTL:PT1H
BEGIN:VTIMEZONE
TZID:Asia/Shanghai
BEGIN:STANDARD
TZOFFSETFROM:+0800
TZOFFSETTO:+0800
TZNAME:CST
DTSTART:20250101T000000
END:STANDARD
END:VTIMEZONE
BEGIN:VEVENT
DTSTART;TZID=Asia/Shanghai:20260103T132000
DTEND;TZID=Asia/Shanghai:20260103T142000
DTSTAMP:20260421T221456
CREATED:20251201T070320Z
LAST-MODIFIED:20260315T072345Z
UID:10027278-1767446400-1767450000@www.dancesoul.com.tw
SUMMARY:兒童MV(初)(i-dle - 'Mona(Feat.skaiwater)')-薇臻
DESCRIPTION:
URL:https://www.dancesoul.com.tw/schedule/%e5%85%92%e7%ab%a5%e8%a1%97%e8%88%9e-%e8%96%87%e8%87%bb-21-2-2-2/2026-01-03/
CATEGORIES:兒童街舞,兒童課
END:VEVENT
BEGIN:VEVENT
DTSTART;TZID=Asia/Shanghai:20260103T143000
DTEND;TZID=Asia/Shanghai:20260103T153000
DTSTAMP:20260421T221456
CREATED:20251202T055414Z
LAST-MODIFIED:20260315T072223Z
UID:10027539-1767450600-1767454200@www.dancesoul.com.tw
SUMMARY:兒童MV(IVE - 'BANG BANG')-薇臻
DESCRIPTION:
URL:https://www.dancesoul.com.tw/schedule/%e5%85%92%e7%ab%a5mvbabymonster-hot-sauce-%e8%96%87%e8%87%bb-2/2026-01-03/
CATEGORIES:MV課,兒童MV,課程
END:VEVENT
BEGIN:VEVENT
DTSTART;TZID=Asia/Shanghai:20260104T132000
DTEND;TZID=Asia/Shanghai:20260104T142000
DTSTAMP:20260421T221456
CREATED:20250901T055750Z
LAST-MODIFIED:20250901T055750Z
UID:10028845-1767532800-1767536400@www.dancesoul.com.tw
SUMMARY:兒童街舞-羿芃
DESCRIPTION:
URL:https://www.dancesoul.com.tw/schedule/%e5%85%92%e7%ab%a5%e8%a1%97%e8%88%9e-%e7%be%bf%e8%8a%83-20/2026-01-04/
CATEGORIES:兒童街舞,課程
END:VEVENT
BEGIN:VEVENT
DTSTART;TZID=Asia/Shanghai:20260104T143000
DTEND;TZID=Asia/Shanghai:20260104T153000
DTSTAMP:20260421T221456
CREATED:20260315T071830Z
LAST-MODIFIED:20260315T071830Z
UID:10031308-1767537000-1767540600@www.dancesoul.com.tw
SUMMARY:兒童MV(ILLIT-opps!)-羿芃
DESCRIPTION:
URL:https://www.dancesoul.com.tw/schedule/%e5%85%92%e7%ab%a5mvizna-sass-%e7%be%bf%e8%8a%83-2-2/2026-01-04/
CATEGORIES:兒童MV,兒童課
END:VEVENT
BEGIN:VEVENT
DTSTART;TZID=Asia/Shanghai:20260104T154000
DTEND;TZID=Asia/Shanghai:20260104T164000
DTSTAMP:20260421T221456
CREATED:20250901T060229Z
LAST-MODIFIED:20250901T060229Z
UID:10029367-1767541200-1767544800@www.dancesoul.com.tw
SUMMARY:兒童Street Jazz-傘傘
DESCRIPTION:
URL:https://www.dancesoul.com.tw/schedule/%e5%85%92%e7%ab%a5street-jazz-%e5%82%98%e5%82%98-4/2026-01-04/
CATEGORIES:兒童街舞,兒童課
END:VEVENT
BEGIN:VEVENT
DTSTART;TZID=Asia/Shanghai:20260110T132000
DTEND;TZID=Asia/Shanghai:20260110T142000
DTSTAMP:20260421T221456
CREATED:20251201T070320Z
LAST-MODIFIED:20260315T072345Z
UID:10027279-1768051200-1768054800@www.dancesoul.com.tw
SUMMARY:兒童MV(初)(i-dle - 'Mona(Feat.skaiwater)')-薇臻
DESCRIPTION:
URL:https://www.dancesoul.com.tw/schedule/%e5%85%92%e7%ab%a5%e8%a1%97%e8%88%9e-%e8%96%87%e8%87%bb-21-2-2-2/2026-01-10/
CATEGORIES:兒童街舞,兒童課
END:VEVENT
BEGIN:VEVENT
DTSTART;TZID=Asia/Shanghai:20260110T143000
DTEND;TZID=Asia/Shanghai:20260110T153000
DTSTAMP:20260421T221456
CREATED:20251202T055414Z
LAST-MODIFIED:20260315T072223Z
UID:10027540-1768055400-1768059000@www.dancesoul.com.tw
SUMMARY:兒童MV(IVE - 'BANG BANG')-薇臻
DESCRIPTION:
URL:https://www.dancesoul.com.tw/schedule/%e5%85%92%e7%ab%a5mvbabymonster-hot-sauce-%e8%96%87%e8%87%bb-2/2026-01-10/
CATEGORIES:MV課,兒童MV,課程
END:VEVENT
BEGIN:VEVENT
DTSTART;TZID=Asia/Shanghai:20260111T132000
DTEND;TZID=Asia/Shanghai:20260111T142000
DTSTAMP:20260421T221457
CREATED:20250901T055750Z
LAST-MODIFIED:20250901T055750Z
UID:10028846-1768137600-1768141200@www.dancesoul.com.tw
SUMMARY:兒童街舞-羿芃
DESCRIPTION:
URL:https://www.dancesoul.com.tw/schedule/%e5%85%92%e7%ab%a5%e8%a1%97%e8%88%9e-%e7%be%bf%e8%8a%83-20/2026-01-11/
CATEGORIES:兒童街舞,課程
END:VEVENT
BEGIN:VEVENT
DTSTART;TZID=Asia/Shanghai:20260111T143000
DTEND;TZID=Asia/Shanghai:20260111T153000
DTSTAMP:20260421T221457
CREATED:20260315T071830Z
LAST-MODIFIED:20260315T071830Z
UID:10031309-1768141800-1768145400@www.dancesoul.com.tw
SUMMARY:兒童MV(ILLIT-opps!)-羿芃
DESCRIPTION:
URL:https://www.dancesoul.com.tw/schedule/%e5%85%92%e7%ab%a5mvizna-sass-%e7%be%bf%e8%8a%83-2-2/2026-01-11/
CATEGORIES:兒童MV,兒童課
END:VEVENT
BEGIN:VEVENT
DTSTART;TZID=Asia/Shanghai:20260111T154000
DTEND;TZID=Asia/Shanghai:20260111T164000
DTSTAMP:20260421T221457
CREATED:20250901T060229Z
LAST-MODIFIED:20250901T060229Z
UID:10029368-1768146000-1768149600@www.dancesoul.com.tw
SUMMARY:兒童Street Jazz-傘傘
DESCRIPTION:
URL:https://www.dancesoul.com.tw/schedule/%e5%85%92%e7%ab%a5street-jazz-%e5%82%98%e5%82%98-4/2026-01-11/
CATEGORIES:兒童街舞,兒童課
END:VEVENT
BEGIN:VEVENT
DTSTART;TZID=Asia/Shanghai:20260117T132000
DTEND;TZID=Asia/Shanghai:20260117T142000
DTSTAMP:20260421T221457
CREATED:20251201T070320Z
LAST-MODIFIED:20260315T072345Z
UID:10027280-1768656000-1768659600@www.dancesoul.com.tw
SUMMARY:兒童MV(初)(i-dle - 'Mona(Feat.skaiwater)')-薇臻
DESCRIPTION:
URL:https://www.dancesoul.com.tw/schedule/%e5%85%92%e7%ab%a5%e8%a1%97%e8%88%9e-%e8%96%87%e8%87%bb-21-2-2-2/2026-01-17/
CATEGORIES:兒童街舞,兒童課
END:VEVENT
BEGIN:VEVENT
DTSTART;TZID=Asia/Shanghai:20260117T143000
DTEND;TZID=Asia/Shanghai:20260117T153000
DTSTAMP:20260421T221457
CREATED:20251202T055414Z
LAST-MODIFIED:20260315T072223Z
UID:10027541-1768660200-1768663800@www.dancesoul.com.tw
SUMMARY:兒童MV(IVE - 'BANG BANG')-薇臻
DESCRIPTION:
URL:https://www.dancesoul.com.tw/schedule/%e5%85%92%e7%ab%a5mvbabymonster-hot-sauce-%e8%96%87%e8%87%bb-2/2026-01-17/
CATEGORIES:MV課,兒童MV,課程
END:VEVENT
BEGIN:VEVENT
DTSTART;TZID=Asia/Shanghai:20260118T132000
DTEND;TZID=Asia/Shanghai:20260118T142000
DTSTAMP:20260421T221457
CREATED:20250901T055750Z
LAST-MODIFIED:20250901T055750Z
UID:10028847-1768742400-1768746000@www.dancesoul.com.tw
SUMMARY:兒童街舞-羿芃
DESCRIPTION:
URL:https://www.dancesoul.com.tw/schedule/%e5%85%92%e7%ab%a5%e8%a1%97%e8%88%9e-%e7%be%bf%e8%8a%83-20/2026-01-18/
CATEGORIES:兒童街舞,課程
END:VEVENT
BEGIN:VEVENT
DTSTART;TZID=Asia/Shanghai:20260118T143000
DTEND;TZID=Asia/Shanghai:20260118T153000
DTSTAMP:20260421T221457
CREATED:20260315T071830Z
LAST-MODIFIED:20260315T071830Z
UID:10031310-1768746600-1768750200@www.dancesoul.com.tw
SUMMARY:兒童MV(ILLIT-opps!)-羿芃
DESCRIPTION:
URL:https://www.dancesoul.com.tw/schedule/%e5%85%92%e7%ab%a5mvizna-sass-%e7%be%bf%e8%8a%83-2-2/2026-01-18/
CATEGORIES:兒童MV,兒童課
END:VEVENT
BEGIN:VEVENT
DTSTART;TZID=Asia/Shanghai:20260118T154000
DTEND;TZID=Asia/Shanghai:20260118T164000
DTSTAMP:20260421T221457
CREATED:20250901T060229Z
LAST-MODIFIED:20250901T060229Z
UID:10029369-1768750800-1768754400@www.dancesoul.com.tw
SUMMARY:兒童Street Jazz-傘傘
DESCRIPTION:
URL:https://www.dancesoul.com.tw/schedule/%e5%85%92%e7%ab%a5street-jazz-%e5%82%98%e5%82%98-4/2026-01-18/
CATEGORIES:兒童街舞,兒童課
END:VEVENT
BEGIN:VEVENT
DTSTART;TZID=Asia/Shanghai:20260124T132000
DTEND;TZID=Asia/Shanghai:20260124T142000
DTSTAMP:20260421T221457
CREATED:20251201T070320Z
LAST-MODIFIED:20260315T072345Z
UID:10027281-1769260800-1769264400@www.dancesoul.com.tw
SUMMARY:兒童MV(初)(i-dle - 'Mona(Feat.skaiwater)')-薇臻
DESCRIPTION:
URL:https://www.dancesoul.com.tw/schedule/%e5%85%92%e7%ab%a5%e8%a1%97%e8%88%9e-%e8%96%87%e8%87%bb-21-2-2-2/2026-01-24/
CATEGORIES:兒童街舞,兒童課
END:VEVENT
BEGIN:VEVENT
DTSTART;TZID=Asia/Shanghai:20260124T143000
DTEND;TZID=Asia/Shanghai:20260124T153000
DTSTAMP:20260421T221457
CREATED:20251202T055414Z
LAST-MODIFIED:20260315T072223Z
UID:10027542-1769265000-1769268600@www.dancesoul.com.tw
SUMMARY:兒童MV(IVE - 'BANG BANG')-薇臻
DESCRIPTION:
URL:https://www.dancesoul.com.tw/schedule/%e5%85%92%e7%ab%a5mvbabymonster-hot-sauce-%e8%96%87%e8%87%bb-2/2026-01-24/
CATEGORIES:MV課,兒童MV,課程
END:VEVENT
BEGIN:VEVENT
DTSTART;TZID=Asia/Shanghai:20260125T132000
DTEND;TZID=Asia/Shanghai:20260125T142000
DTSTAMP:20260421T221457
CREATED:20250901T055750Z
LAST-MODIFIED:20250901T055750Z
UID:10028848-1769347200-1769350800@www.dancesoul.com.tw
SUMMARY:兒童街舞-羿芃
DESCRIPTION:
URL:https://www.dancesoul.com.tw/schedule/%e5%85%92%e7%ab%a5%e8%a1%97%e8%88%9e-%e7%be%bf%e8%8a%83-20/2026-01-25/
CATEGORIES:兒童街舞,課程
END:VEVENT
BEGIN:VEVENT
DTSTART;TZID=Asia/Shanghai:20260125T143000
DTEND;TZID=Asia/Shanghai:20260125T153000
DTSTAMP:20260421T221457
CREATED:20260315T071830Z
LAST-MODIFIED:20260315T071830Z
UID:10031311-1769351400-1769355000@www.dancesoul.com.tw
SUMMARY:兒童MV(ILLIT-opps!)-羿芃
DESCRIPTION:
URL:https://www.dancesoul.com.tw/schedule/%e5%85%92%e7%ab%a5mvizna-sass-%e7%be%bf%e8%8a%83-2-2/2026-01-25/
CATEGORIES:兒童MV,兒童課
END:VEVENT
BEGIN:VEVENT
DTSTART;TZID=Asia/Shanghai:20260125T154000
DTEND;TZID=Asia/Shanghai:20260125T164000
DTSTAMP:20260421T221457
CREATED:20250901T060229Z
LAST-MODIFIED:20250901T060229Z
UID:10029370-1769355600-1769359200@www.dancesoul.com.tw
SUMMARY:兒童Street Jazz-傘傘
DESCRIPTION:
URL:https://www.dancesoul.com.tw/schedule/%e5%85%92%e7%ab%a5street-jazz-%e5%82%98%e5%82%98-4/2026-01-25/
CATEGORIES:兒童街舞,兒童課
END:VEVENT
BEGIN:VEVENT
DTSTART;TZID=Asia/Shanghai:20260131T132000
DTEND;TZID=Asia/Shanghai:20260131T142000
DTSTAMP:20260421T221457
CREATED:20251201T070320Z
LAST-MODIFIED:20260315T072345Z
UID:10027282-1769865600-1769869200@www.dancesoul.com.tw
SUMMARY:兒童MV(初)(i-dle - 'Mona(Feat.skaiwater)')-薇臻
DESCRIPTION:
URL:https://www.dancesoul.com.tw/schedule/%e5%85%92%e7%ab%a5%e8%a1%97%e8%88%9e-%e8%96%87%e8%87%bb-21-2-2-2/2026-01-31/
CATEGORIES:兒童街舞,兒童課
END:VEVENT
BEGIN:VEVENT
DTSTART;TZID=Asia/Shanghai:20260131T143000
DTEND;TZID=Asia/Shanghai:20260131T153000
DTSTAMP:20260421T221457
CREATED:20251202T055414Z
LAST-MODIFIED:20260315T072223Z
UID:10027543-1769869800-1769873400@www.dancesoul.com.tw
SUMMARY:兒童MV(IVE - 'BANG BANG')-薇臻
DESCRIPTION:
URL:https://www.dancesoul.com.tw/schedule/%e5%85%92%e7%ab%a5mvbabymonster-hot-sauce-%e8%96%87%e8%87%bb-2/2026-01-31/
CATEGORIES:MV課,兒童MV,課程
END:VEVENT
END:VCALENDAR