BEGIN:VCALENDAR
VERSION:2.0
PRODID:-//DANCE SOUL 舞魂街舞學校 - ECPv6.15.18//NONSGML v1.0//EN
CALSCALE:GREGORIAN
METHOD:PUBLISH
X-ORIGINAL-URL:https://www.dancesoul.com.tw
X-WR-CALDESC:Events for DANCE SOUL 舞魂街舞學校
REFRESH-INTERVAL;VALUE=DURATION:PT1H
X-Robots-Tag:noindex
X-PUBLISHED-TTL:PT1H
BEGIN:VTIMEZONE
TZID:Asia/Shanghai
BEGIN:STANDARD
TZOFFSETFROM:+0800
TZOFFSETTO:+0800
TZNAME:CST
DTSTART:20240101T000000
END:STANDARD
END:VTIMEZONE
BEGIN:VEVENT
DTSTART;TZID=Asia/Shanghai:20250906T143000
DTEND;TZID=Asia/Shanghai:20250906T153000
DTSTAMP:20260422T031635
CREATED:20250901T054940Z
LAST-MODIFIED:20250901T054940Z
UID:10027522-1757169000-1757172600@www.dancesoul.com.tw
SUMMARY:兒童MV(BABYMONSTER-HOT SAUCE)-薇臻
DESCRIPTION:
URL:https://www.dancesoul.com.tw/schedule/%e5%85%92%e7%ab%a5mvbabymonster-hot-sauce-%e8%96%87%e8%87%bb/2025-09-06/
CATEGORIES:MV課,兒童MV,課程
END:VEVENT
BEGIN:VEVENT
DTSTART;TZID=Asia/Shanghai:20250906T143000
DTEND;TZID=Asia/Shanghai:20250906T153000
DTSTAMP:20260422T031635
CREATED:20251202T055414Z
LAST-MODIFIED:20260315T072223Z
UID:10031366-1757169000-1757172600@www.dancesoul.com.tw
SUMMARY:兒童MV(IVE - 'BANG BANG')-薇臻
DESCRIPTION:
URL:https://www.dancesoul.com.tw/schedule/%e5%85%92%e7%ab%a5mvbabymonster-hot-sauce-%e8%96%87%e8%87%bb-2/2025-09-06/
CATEGORIES:MV課,兒童MV,課程
END:VEVENT
BEGIN:VEVENT
DTSTART;TZID=Asia/Shanghai:20250907T143000
DTEND;TZID=Asia/Shanghai:20250907T153000
DTSTAMP:20260422T031635
CREATED:20250901T060121Z
LAST-MODIFIED:20250901T060121Z
UID:10029089-1757255400-1757259000@www.dancesoul.com.tw
SUMMARY:兒童MV(IZNA-SASS)-羿芃
DESCRIPTION:
URL:https://www.dancesoul.com.tw/schedule/%e5%85%92%e7%ab%a5mvizna-sass-%e7%be%bf%e8%8a%83/2025-09-07/
CATEGORIES:兒童MV,兒童課
END:VEVENT
BEGIN:VEVENT
DTSTART;TZID=Asia/Shanghai:20250913T143000
DTEND;TZID=Asia/Shanghai:20250913T153000
DTSTAMP:20260422T031635
CREATED:20250901T054940Z
LAST-MODIFIED:20250901T054940Z
UID:10027523-1757773800-1757777400@www.dancesoul.com.tw
SUMMARY:兒童MV(BABYMONSTER-HOT SAUCE)-薇臻
DESCRIPTION:
URL:https://www.dancesoul.com.tw/schedule/%e5%85%92%e7%ab%a5mvbabymonster-hot-sauce-%e8%96%87%e8%87%bb/2025-09-13/
CATEGORIES:MV課,兒童MV,課程
END:VEVENT
BEGIN:VEVENT
DTSTART;TZID=Asia/Shanghai:20250913T143000
DTEND;TZID=Asia/Shanghai:20250913T153000
DTSTAMP:20260422T031635
CREATED:20251202T055414Z
LAST-MODIFIED:20260315T072223Z
UID:10031367-1757773800-1757777400@www.dancesoul.com.tw
SUMMARY:兒童MV(IVE - 'BANG BANG')-薇臻
DESCRIPTION:
URL:https://www.dancesoul.com.tw/schedule/%e5%85%92%e7%ab%a5mvbabymonster-hot-sauce-%e8%96%87%e8%87%bb-2/2025-09-13/
CATEGORIES:MV課,兒童MV,課程
END:VEVENT
BEGIN:VEVENT
DTSTART;TZID=Asia/Shanghai:20250914T143000
DTEND;TZID=Asia/Shanghai:20250914T153000
DTSTAMP:20260422T031635
CREATED:20250901T060121Z
LAST-MODIFIED:20250901T060121Z
UID:10029090-1757860200-1757863800@www.dancesoul.com.tw
SUMMARY:兒童MV(IZNA-SASS)-羿芃
DESCRIPTION:
URL:https://www.dancesoul.com.tw/schedule/%e5%85%92%e7%ab%a5mvizna-sass-%e7%be%bf%e8%8a%83/2025-09-14/
CATEGORIES:兒童MV,兒童課
END:VEVENT
BEGIN:VEVENT
DTSTART;TZID=Asia/Shanghai:20250920T143000
DTEND;TZID=Asia/Shanghai:20250920T153000
DTSTAMP:20260422T031635
CREATED:20250901T054940Z
LAST-MODIFIED:20250901T054940Z
UID:10027524-1758378600-1758382200@www.dancesoul.com.tw
SUMMARY:兒童MV(BABYMONSTER-HOT SAUCE)-薇臻
DESCRIPTION:
URL:https://www.dancesoul.com.tw/schedule/%e5%85%92%e7%ab%a5mvbabymonster-hot-sauce-%e8%96%87%e8%87%bb/2025-09-20/
CATEGORIES:MV課,兒童MV,課程
END:VEVENT
BEGIN:VEVENT
DTSTART;TZID=Asia/Shanghai:20250920T143000
DTEND;TZID=Asia/Shanghai:20250920T153000
DTSTAMP:20260422T031635
CREATED:20251202T055414Z
LAST-MODIFIED:20260315T072223Z
UID:10031368-1758378600-1758382200@www.dancesoul.com.tw
SUMMARY:兒童MV(IVE - 'BANG BANG')-薇臻
DESCRIPTION:
URL:https://www.dancesoul.com.tw/schedule/%e5%85%92%e7%ab%a5mvbabymonster-hot-sauce-%e8%96%87%e8%87%bb-2/2025-09-20/
CATEGORIES:MV課,兒童MV,課程
END:VEVENT
BEGIN:VEVENT
DTSTART;TZID=Asia/Shanghai:20250921T143000
DTEND;TZID=Asia/Shanghai:20250921T153000
DTSTAMP:20260422T031635
CREATED:20250901T060121Z
LAST-MODIFIED:20250901T060121Z
UID:10029091-1758465000-1758468600@www.dancesoul.com.tw
SUMMARY:兒童MV(IZNA-SASS)-羿芃
DESCRIPTION:
URL:https://www.dancesoul.com.tw/schedule/%e5%85%92%e7%ab%a5mvizna-sass-%e7%be%bf%e8%8a%83/2025-09-21/
CATEGORIES:兒童MV,兒童課
END:VEVENT
BEGIN:VEVENT
DTSTART;TZID=Asia/Shanghai:20250927T143000
DTEND;TZID=Asia/Shanghai:20250927T153000
DTSTAMP:20260422T031635
CREATED:20250901T054940Z
LAST-MODIFIED:20250901T054940Z
UID:10027525-1758983400-1758987000@www.dancesoul.com.tw
SUMMARY:兒童MV(BABYMONSTER-HOT SAUCE)-薇臻
DESCRIPTION:
URL:https://www.dancesoul.com.tw/schedule/%e5%85%92%e7%ab%a5mvbabymonster-hot-sauce-%e8%96%87%e8%87%bb/2025-09-27/
CATEGORIES:MV課,兒童MV,課程
END:VEVENT
BEGIN:VEVENT
DTSTART;TZID=Asia/Shanghai:20250927T143000
DTEND;TZID=Asia/Shanghai:20250927T153000
DTSTAMP:20260422T031635
CREATED:20251202T055414Z
LAST-MODIFIED:20260315T072223Z
UID:10031369-1758983400-1758987000@www.dancesoul.com.tw
SUMMARY:兒童MV(IVE - 'BANG BANG')-薇臻
DESCRIPTION:
URL:https://www.dancesoul.com.tw/schedule/%e5%85%92%e7%ab%a5mvbabymonster-hot-sauce-%e8%96%87%e8%87%bb-2/2025-09-27/
CATEGORIES:MV課,兒童MV,課程
END:VEVENT
BEGIN:VEVENT
DTSTART;TZID=Asia/Shanghai:20250928T143000
DTEND;TZID=Asia/Shanghai:20250928T153000
DTSTAMP:20260422T031635
CREATED:20250901T060121Z
LAST-MODIFIED:20250901T060121Z
UID:10029092-1759069800-1759073400@www.dancesoul.com.tw
SUMMARY:兒童MV(IZNA-SASS)-羿芃
DESCRIPTION:
URL:https://www.dancesoul.com.tw/schedule/%e5%85%92%e7%ab%a5mvizna-sass-%e7%be%bf%e8%8a%83/2025-09-28/
CATEGORIES:兒童MV,兒童課
END:VEVENT
END:VCALENDAR