BEGIN:VCALENDAR
VERSION:2.0
PRODID:-//DANCE SOUL 舞魂街舞學校 - ECPv6.15.18//NONSGML v1.0//EN
CALSCALE:GREGORIAN
METHOD:PUBLISH
X-ORIGINAL-URL:https://www.dancesoul.com.tw
X-WR-CALDESC:Events for DANCE SOUL 舞魂街舞學校
REFRESH-INTERVAL;VALUE=DURATION:PT1H
X-Robots-Tag:noindex
X-PUBLISHED-TTL:PT1H
BEGIN:VTIMEZONE
TZID:Asia/Shanghai
BEGIN:STANDARD
TZOFFSETFROM:+0800
TZOFFSETTO:+0800
TZNAME:CST
DTSTART:20250101T000000
END:STANDARD
END:VTIMEZONE
BEGIN:VEVENT
DTSTART;TZID=Asia/Shanghai:20261003T143000
DTEND;TZID=Asia/Shanghai:20261003T153000
DTSTAMP:20260421T232821
CREATED:20251202T055414Z
LAST-MODIFIED:20260315T072223Z
UID:10027578-1791037800-1791041400@www.dancesoul.com.tw
SUMMARY:兒童MV(IVE - 'BANG BANG')-薇臻
DESCRIPTION:
URL:https://www.dancesoul.com.tw/schedule/%e5%85%92%e7%ab%a5mvbabymonster-hot-sauce-%e8%96%87%e8%87%bb-2/2026-10-03/
CATEGORIES:MV課,兒童MV,課程
END:VEVENT
BEGIN:VEVENT
DTSTART;TZID=Asia/Shanghai:20261004T143000
DTEND;TZID=Asia/Shanghai:20261004T153000
DTSTAMP:20260421T232821
CREATED:20260315T071830Z
LAST-MODIFIED:20260315T071830Z
UID:10029145-1791124200-1791127800@www.dancesoul.com.tw
SUMMARY:兒童MV(ILLIT-opps!)-羿芃
DESCRIPTION:
URL:https://www.dancesoul.com.tw/schedule/%e5%85%92%e7%ab%a5mvizna-sass-%e7%be%bf%e8%8a%83-2-2/2026-10-04/
CATEGORIES:兒童MV,兒童課
END:VEVENT
BEGIN:VEVENT
DTSTART;TZID=Asia/Shanghai:20261010T143000
DTEND;TZID=Asia/Shanghai:20261010T153000
DTSTAMP:20260421T232821
CREATED:20251202T055414Z
LAST-MODIFIED:20260315T072223Z
UID:10027579-1791642600-1791646200@www.dancesoul.com.tw
SUMMARY:兒童MV(IVE - 'BANG BANG')-薇臻
DESCRIPTION:
URL:https://www.dancesoul.com.tw/schedule/%e5%85%92%e7%ab%a5mvbabymonster-hot-sauce-%e8%96%87%e8%87%bb-2/2026-10-10/
CATEGORIES:MV課,兒童MV,課程
END:VEVENT
BEGIN:VEVENT
DTSTART;TZID=Asia/Shanghai:20261011T143000
DTEND;TZID=Asia/Shanghai:20261011T153000
DTSTAMP:20260421T232821
CREATED:20260315T071830Z
LAST-MODIFIED:20260315T071830Z
UID:10029146-1791729000-1791732600@www.dancesoul.com.tw
SUMMARY:兒童MV(ILLIT-opps!)-羿芃
DESCRIPTION:
URL:https://www.dancesoul.com.tw/schedule/%e5%85%92%e7%ab%a5mvizna-sass-%e7%be%bf%e8%8a%83-2-2/2026-10-11/
CATEGORIES:兒童MV,兒童課
END:VEVENT
BEGIN:VEVENT
DTSTART;TZID=Asia/Shanghai:20261017T143000
DTEND;TZID=Asia/Shanghai:20261017T153000
DTSTAMP:20260421T232821
CREATED:20251202T055414Z
LAST-MODIFIED:20260315T072223Z
UID:10027580-1792247400-1792251000@www.dancesoul.com.tw
SUMMARY:兒童MV(IVE - 'BANG BANG')-薇臻
DESCRIPTION:
URL:https://www.dancesoul.com.tw/schedule/%e5%85%92%e7%ab%a5mvbabymonster-hot-sauce-%e8%96%87%e8%87%bb-2/2026-10-17/
CATEGORIES:MV課,兒童MV,課程
END:VEVENT
BEGIN:VEVENT
DTSTART;TZID=Asia/Shanghai:20261018T143000
DTEND;TZID=Asia/Shanghai:20261018T153000
DTSTAMP:20260421T232821
CREATED:20260315T071830Z
LAST-MODIFIED:20260315T071830Z
UID:10029147-1792333800-1792337400@www.dancesoul.com.tw
SUMMARY:兒童MV(ILLIT-opps!)-羿芃
DESCRIPTION:
URL:https://www.dancesoul.com.tw/schedule/%e5%85%92%e7%ab%a5mvizna-sass-%e7%be%bf%e8%8a%83-2-2/2026-10-18/
CATEGORIES:兒童MV,兒童課
END:VEVENT
BEGIN:VEVENT
DTSTART;TZID=Asia/Shanghai:20261024T143000
DTEND;TZID=Asia/Shanghai:20261024T153000
DTSTAMP:20260421T232821
CREATED:20251202T055414Z
LAST-MODIFIED:20260315T072223Z
UID:10027581-1792852200-1792855800@www.dancesoul.com.tw
SUMMARY:兒童MV(IVE - 'BANG BANG')-薇臻
DESCRIPTION:
URL:https://www.dancesoul.com.tw/schedule/%e5%85%92%e7%ab%a5mvbabymonster-hot-sauce-%e8%96%87%e8%87%bb-2/2026-10-24/
CATEGORIES:MV課,兒童MV,課程
END:VEVENT
BEGIN:VEVENT
DTSTART;TZID=Asia/Shanghai:20261025T143000
DTEND;TZID=Asia/Shanghai:20261025T153000
DTSTAMP:20260421T232821
CREATED:20260315T071830Z
LAST-MODIFIED:20260315T071830Z
UID:10029148-1792938600-1792942200@www.dancesoul.com.tw
SUMMARY:兒童MV(ILLIT-opps!)-羿芃
DESCRIPTION:
URL:https://www.dancesoul.com.tw/schedule/%e5%85%92%e7%ab%a5mvizna-sass-%e7%be%bf%e8%8a%83-2-2/2026-10-25/
CATEGORIES:兒童MV,兒童課
END:VEVENT
BEGIN:VEVENT
DTSTART;TZID=Asia/Shanghai:20261031T143000
DTEND;TZID=Asia/Shanghai:20261031T153000
DTSTAMP:20260421T232821
CREATED:20251202T055414Z
LAST-MODIFIED:20260315T072223Z
UID:10027582-1793457000-1793460600@www.dancesoul.com.tw
SUMMARY:兒童MV(IVE - 'BANG BANG')-薇臻
DESCRIPTION:
URL:https://www.dancesoul.com.tw/schedule/%e5%85%92%e7%ab%a5mvbabymonster-hot-sauce-%e8%96%87%e8%87%bb-2/2026-10-31/
CATEGORIES:MV課,兒童MV,課程
END:VEVENT
END:VCALENDAR