BEGIN:VCALENDAR
VERSION:2.0
PRODID:-//DANCE SOUL 舞魂街舞學校 - ECPv6.15.18//NONSGML v1.0//EN
CALSCALE:GREGORIAN
METHOD:PUBLISH
X-ORIGINAL-URL:https://www.dancesoul.com.tw
X-WR-CALDESC:Events for DANCE SOUL 舞魂街舞學校
REFRESH-INTERVAL;VALUE=DURATION:PT1H
X-Robots-Tag:noindex
X-PUBLISHED-TTL:PT1H
BEGIN:VTIMEZONE
TZID:Asia/Shanghai
BEGIN:STANDARD
TZOFFSETFROM:+0800
TZOFFSETTO:+0800
TZNAME:CST
DTSTART:20260101T000000
END:STANDARD
END:VTIMEZONE
BEGIN:VEVENT
DTSTART;TZID=Asia/Shanghai:20270102T143000
DTEND;TZID=Asia/Shanghai:20270102T153000
DTSTAMP:20260423T043134
CREATED:20251202T055414Z
LAST-MODIFIED:20260315T072223Z
UID:10027591-1798900200-1798903800@www.dancesoul.com.tw
SUMMARY:兒童MV(IVE - 'BANG BANG')-薇臻
DESCRIPTION:
URL:https://www.dancesoul.com.tw/schedule/%e5%85%92%e7%ab%a5mvbabymonster-hot-sauce-%e8%96%87%e8%87%bb-2/2027-01-02/
CATEGORIES:MV課,兒童MV,課程
END:VEVENT
BEGIN:VEVENT
DTSTART;TZID=Asia/Shanghai:20270103T143000
DTEND;TZID=Asia/Shanghai:20270103T153000
DTSTAMP:20260423T043134
CREATED:20260315T071830Z
LAST-MODIFIED:20260315T071830Z
UID:10029158-1798986600-1798990200@www.dancesoul.com.tw
SUMMARY:兒童MV(ILLIT-opps!)-羿芃
DESCRIPTION:
URL:https://www.dancesoul.com.tw/schedule/%e5%85%92%e7%ab%a5mvizna-sass-%e7%be%bf%e8%8a%83-2-2/2027-01-03/
CATEGORIES:兒童MV,兒童課
END:VEVENT
BEGIN:VEVENT
DTSTART;TZID=Asia/Shanghai:20270109T143000
DTEND;TZID=Asia/Shanghai:20270109T153000
DTSTAMP:20260423T043134
CREATED:20251202T055414Z
LAST-MODIFIED:20260315T072223Z
UID:10027592-1799505000-1799508600@www.dancesoul.com.tw
SUMMARY:兒童MV(IVE - 'BANG BANG')-薇臻
DESCRIPTION:
URL:https://www.dancesoul.com.tw/schedule/%e5%85%92%e7%ab%a5mvbabymonster-hot-sauce-%e8%96%87%e8%87%bb-2/2027-01-09/
CATEGORIES:MV課,兒童MV,課程
END:VEVENT
BEGIN:VEVENT
DTSTART;TZID=Asia/Shanghai:20270110T143000
DTEND;TZID=Asia/Shanghai:20270110T153000
DTSTAMP:20260423T043134
CREATED:20260315T071830Z
LAST-MODIFIED:20260315T071830Z
UID:10029159-1799591400-1799595000@www.dancesoul.com.tw
SUMMARY:兒童MV(ILLIT-opps!)-羿芃
DESCRIPTION:
URL:https://www.dancesoul.com.tw/schedule/%e5%85%92%e7%ab%a5mvizna-sass-%e7%be%bf%e8%8a%83-2-2/2027-01-10/
CATEGORIES:兒童MV,兒童課
END:VEVENT
BEGIN:VEVENT
DTSTART;TZID=Asia/Shanghai:20270116T143000
DTEND;TZID=Asia/Shanghai:20270116T153000
DTSTAMP:20260423T043134
CREATED:20251202T055414Z
LAST-MODIFIED:20260315T072223Z
UID:10027593-1800109800-1800113400@www.dancesoul.com.tw
SUMMARY:兒童MV(IVE - 'BANG BANG')-薇臻
DESCRIPTION:
URL:https://www.dancesoul.com.tw/schedule/%e5%85%92%e7%ab%a5mvbabymonster-hot-sauce-%e8%96%87%e8%87%bb-2/2027-01-16/
CATEGORIES:MV課,兒童MV,課程
END:VEVENT
BEGIN:VEVENT
DTSTART;TZID=Asia/Shanghai:20270117T143000
DTEND;TZID=Asia/Shanghai:20270117T153000
DTSTAMP:20260423T043134
CREATED:20260315T071830Z
LAST-MODIFIED:20260315T071830Z
UID:10029160-1800196200-1800199800@www.dancesoul.com.tw
SUMMARY:兒童MV(ILLIT-opps!)-羿芃
DESCRIPTION:
URL:https://www.dancesoul.com.tw/schedule/%e5%85%92%e7%ab%a5mvizna-sass-%e7%be%bf%e8%8a%83-2-2/2027-01-17/
CATEGORIES:兒童MV,兒童課
END:VEVENT
BEGIN:VEVENT
DTSTART;TZID=Asia/Shanghai:20270123T143000
DTEND;TZID=Asia/Shanghai:20270123T153000
DTSTAMP:20260423T043134
CREATED:20251202T055414Z
LAST-MODIFIED:20260315T072223Z
UID:10027594-1800714600-1800718200@www.dancesoul.com.tw
SUMMARY:兒童MV(IVE - 'BANG BANG')-薇臻
DESCRIPTION:
URL:https://www.dancesoul.com.tw/schedule/%e5%85%92%e7%ab%a5mvbabymonster-hot-sauce-%e8%96%87%e8%87%bb-2/2027-01-23/
CATEGORIES:MV課,兒童MV,課程
END:VEVENT
BEGIN:VEVENT
DTSTART;TZID=Asia/Shanghai:20270124T143000
DTEND;TZID=Asia/Shanghai:20270124T153000
DTSTAMP:20260423T043134
CREATED:20260315T071830Z
LAST-MODIFIED:20260315T071830Z
UID:10029161-1800801000-1800804600@www.dancesoul.com.tw
SUMMARY:兒童MV(ILLIT-opps!)-羿芃
DESCRIPTION:
URL:https://www.dancesoul.com.tw/schedule/%e5%85%92%e7%ab%a5mvizna-sass-%e7%be%bf%e8%8a%83-2-2/2027-01-24/
CATEGORIES:兒童MV,兒童課
END:VEVENT
BEGIN:VEVENT
DTSTART;TZID=Asia/Shanghai:20270130T143000
DTEND;TZID=Asia/Shanghai:20270130T153000
DTSTAMP:20260423T043134
CREATED:20251202T055414Z
LAST-MODIFIED:20260315T072223Z
UID:10027595-1801319400-1801323000@www.dancesoul.com.tw
SUMMARY:兒童MV(IVE - 'BANG BANG')-薇臻
DESCRIPTION:
URL:https://www.dancesoul.com.tw/schedule/%e5%85%92%e7%ab%a5mvbabymonster-hot-sauce-%e8%96%87%e8%87%bb-2/2027-01-30/
CATEGORIES:MV課,兒童MV,課程
END:VEVENT
BEGIN:VEVENT
DTSTART;TZID=Asia/Shanghai:20270131T143000
DTEND;TZID=Asia/Shanghai:20270131T153000
DTSTAMP:20260423T043134
CREATED:20260315T071830Z
LAST-MODIFIED:20260315T071830Z
UID:10029162-1801405800-1801409400@www.dancesoul.com.tw
SUMMARY:兒童MV(ILLIT-opps!)-羿芃
DESCRIPTION:
URL:https://www.dancesoul.com.tw/schedule/%e5%85%92%e7%ab%a5mvizna-sass-%e7%be%bf%e8%8a%83-2-2/2027-01-31/
CATEGORIES:兒童MV,兒童課
END:VEVENT
END:VCALENDAR