BEGIN:VCALENDAR
VERSION:2.0
PRODID:-//DANCE SOUL 舞魂街舞學校 - ECPv6.15.18//NONSGML v1.0//EN
CALSCALE:GREGORIAN
METHOD:PUBLISH
X-WR-CALNAME:DANCE SOUL 舞魂街舞學校
X-ORIGINAL-URL:https://www.dancesoul.com.tw
X-WR-CALDESC:Events for DANCE SOUL 舞魂街舞學校
REFRESH-INTERVAL;VALUE=DURATION:PT1H
X-Robots-Tag:noindex
X-PUBLISHED-TTL:PT1H
BEGIN:VTIMEZONE
TZID:Asia/Shanghai
BEGIN:STANDARD
TZOFFSETFROM:+0800
TZOFFSETTO:+0800
TZNAME:CST
DTSTART:20270101T000000
END:STANDARD
END:VTIMEZONE
BEGIN:VEVENT
DTSTART;TZID=Asia/Shanghai:20280116T143000
DTEND;TZID=Asia/Shanghai:20280116T153000
DTSTAMP:20260426T091852
CREATED:20260315T071830Z
LAST-MODIFIED:20260315T071830Z
UID:10029212-1831645800-1831649400@www.dancesoul.com.tw
SUMMARY:兒童MV(ILLIT-opps!)-羿芃
DESCRIPTION:
URL:https://www.dancesoul.com.tw/schedule/%e5%85%92%e7%ab%a5mvizna-sass-%e7%be%bf%e8%8a%83-2-2/2028-01-16/
CATEGORIES:兒童MV,兒童課
END:VEVENT
BEGIN:VEVENT
DTSTART;TZID=Asia/Shanghai:20280122T143000
DTEND;TZID=Asia/Shanghai:20280122T153000
DTSTAMP:20260426T091852
CREATED:20251202T055414Z
LAST-MODIFIED:20260315T072223Z
UID:10027646-1832164200-1832167800@www.dancesoul.com.tw
SUMMARY:兒童MV(IVE - 'BANG BANG')-薇臻
DESCRIPTION:
URL:https://www.dancesoul.com.tw/schedule/%e5%85%92%e7%ab%a5mvbabymonster-hot-sauce-%e8%96%87%e8%87%bb-2/2028-01-22/
CATEGORIES:MV課,兒童MV,課程
END:VEVENT
BEGIN:VEVENT
DTSTART;TZID=Asia/Shanghai:20280123T143000
DTEND;TZID=Asia/Shanghai:20280123T153000
DTSTAMP:20260426T091852
CREATED:20260315T071830Z
LAST-MODIFIED:20260315T071830Z
UID:10029213-1832250600-1832254200@www.dancesoul.com.tw
SUMMARY:兒童MV(ILLIT-opps!)-羿芃
DESCRIPTION:
URL:https://www.dancesoul.com.tw/schedule/%e5%85%92%e7%ab%a5mvizna-sass-%e7%be%bf%e8%8a%83-2-2/2028-01-23/
CATEGORIES:兒童MV,兒童課
END:VEVENT
BEGIN:VEVENT
DTSTART;TZID=Asia/Shanghai:20280129T143000
DTEND;TZID=Asia/Shanghai:20280129T153000
DTSTAMP:20260426T091852
CREATED:20251202T055414Z
LAST-MODIFIED:20260315T072223Z
UID:10027647-1832769000-1832772600@www.dancesoul.com.tw
SUMMARY:兒童MV(IVE - 'BANG BANG')-薇臻
DESCRIPTION:
URL:https://www.dancesoul.com.tw/schedule/%e5%85%92%e7%ab%a5mvbabymonster-hot-sauce-%e8%96%87%e8%87%bb-2/2028-01-29/
CATEGORIES:MV課,兒童MV,課程
END:VEVENT
BEGIN:VEVENT
DTSTART;TZID=Asia/Shanghai:20280130T143000
DTEND;TZID=Asia/Shanghai:20280130T153000
DTSTAMP:20260426T091852
CREATED:20260315T071830Z
LAST-MODIFIED:20260315T071830Z
UID:10029214-1832855400-1832859000@www.dancesoul.com.tw
SUMMARY:兒童MV(ILLIT-opps!)-羿芃
DESCRIPTION:
URL:https://www.dancesoul.com.tw/schedule/%e5%85%92%e7%ab%a5mvizna-sass-%e7%be%bf%e8%8a%83-2-2/2028-01-30/
CATEGORIES:兒童MV,兒童課
END:VEVENT
BEGIN:VEVENT
DTSTART;TZID=Asia/Shanghai:20280205T143000
DTEND;TZID=Asia/Shanghai:20280205T153000
DTSTAMP:20260426T091852
CREATED:20251202T055414Z
LAST-MODIFIED:20260315T072223Z
UID:10027648-1833373800-1833377400@www.dancesoul.com.tw
SUMMARY:兒童MV(IVE - 'BANG BANG')-薇臻
DESCRIPTION:
URL:https://www.dancesoul.com.tw/schedule/%e5%85%92%e7%ab%a5mvbabymonster-hot-sauce-%e8%96%87%e8%87%bb-2/2028-02-05/
CATEGORIES:MV課,兒童MV,課程
END:VEVENT
BEGIN:VEVENT
DTSTART;TZID=Asia/Shanghai:20280206T143000
DTEND;TZID=Asia/Shanghai:20280206T153000
DTSTAMP:20260426T091852
CREATED:20260315T071830Z
LAST-MODIFIED:20260315T071830Z
UID:10029215-1833460200-1833463800@www.dancesoul.com.tw
SUMMARY:兒童MV(ILLIT-opps!)-羿芃
DESCRIPTION:
URL:https://www.dancesoul.com.tw/schedule/%e5%85%92%e7%ab%a5mvizna-sass-%e7%be%bf%e8%8a%83-2-2/2028-02-06/
CATEGORIES:兒童MV,兒童課
END:VEVENT
BEGIN:VEVENT
DTSTART;TZID=Asia/Shanghai:20280212T143000
DTEND;TZID=Asia/Shanghai:20280212T153000
DTSTAMP:20260426T091852
CREATED:20251202T055414Z
LAST-MODIFIED:20260315T072223Z
UID:10027649-1833978600-1833982200@www.dancesoul.com.tw
SUMMARY:兒童MV(IVE - 'BANG BANG')-薇臻
DESCRIPTION:
URL:https://www.dancesoul.com.tw/schedule/%e5%85%92%e7%ab%a5mvbabymonster-hot-sauce-%e8%96%87%e8%87%bb-2/2028-02-12/
CATEGORIES:MV課,兒童MV,課程
END:VEVENT
BEGIN:VEVENT
DTSTART;TZID=Asia/Shanghai:20280213T143000
DTEND;TZID=Asia/Shanghai:20280213T153000
DTSTAMP:20260426T091852
CREATED:20260315T071830Z
LAST-MODIFIED:20260315T071830Z
UID:10029216-1834065000-1834068600@www.dancesoul.com.tw
SUMMARY:兒童MV(ILLIT-opps!)-羿芃
DESCRIPTION:
URL:https://www.dancesoul.com.tw/schedule/%e5%85%92%e7%ab%a5mvizna-sass-%e7%be%bf%e8%8a%83-2-2/2028-02-13/
CATEGORIES:兒童MV,兒童課
END:VEVENT
BEGIN:VEVENT
DTSTART;TZID=Asia/Shanghai:20280219T143000
DTEND;TZID=Asia/Shanghai:20280219T153000
DTSTAMP:20260426T091852
CREATED:20251202T055414Z
LAST-MODIFIED:20260315T072223Z
UID:10027650-1834583400-1834587000@www.dancesoul.com.tw
SUMMARY:兒童MV(IVE - 'BANG BANG')-薇臻
DESCRIPTION:
URL:https://www.dancesoul.com.tw/schedule/%e5%85%92%e7%ab%a5mvbabymonster-hot-sauce-%e8%96%87%e8%87%bb-2/2028-02-19/
CATEGORIES:MV課,兒童MV,課程
END:VEVENT
BEGIN:VEVENT
DTSTART;TZID=Asia/Shanghai:20280220T143000
DTEND;TZID=Asia/Shanghai:20280220T153000
DTSTAMP:20260426T091852
CREATED:20260315T071830Z
LAST-MODIFIED:20260315T071830Z
UID:10029217-1834669800-1834673400@www.dancesoul.com.tw
SUMMARY:兒童MV(ILLIT-opps!)-羿芃
DESCRIPTION:
URL:https://www.dancesoul.com.tw/schedule/%e5%85%92%e7%ab%a5mvizna-sass-%e7%be%bf%e8%8a%83-2-2/2028-02-20/
CATEGORIES:兒童MV,兒童課
END:VEVENT
BEGIN:VEVENT
DTSTART;TZID=Asia/Shanghai:20280226T143000
DTEND;TZID=Asia/Shanghai:20280226T153000
DTSTAMP:20260426T091852
CREATED:20251202T055414Z
LAST-MODIFIED:20260315T072223Z
UID:10027651-1835188200-1835191800@www.dancesoul.com.tw
SUMMARY:兒童MV(IVE - 'BANG BANG')-薇臻
DESCRIPTION:
URL:https://www.dancesoul.com.tw/schedule/%e5%85%92%e7%ab%a5mvbabymonster-hot-sauce-%e8%96%87%e8%87%bb-2/2028-02-26/
CATEGORIES:MV課,兒童MV,課程
END:VEVENT
BEGIN:VEVENT
DTSTART;TZID=Asia/Shanghai:20280227T143000
DTEND;TZID=Asia/Shanghai:20280227T153000
DTSTAMP:20260426T091852
CREATED:20260315T071830Z
LAST-MODIFIED:20260315T071830Z
UID:10029218-1835274600-1835278200@www.dancesoul.com.tw
SUMMARY:兒童MV(ILLIT-opps!)-羿芃
DESCRIPTION:
URL:https://www.dancesoul.com.tw/schedule/%e5%85%92%e7%ab%a5mvizna-sass-%e7%be%bf%e8%8a%83-2-2/2028-02-27/
CATEGORIES:兒童MV,兒童課
END:VEVENT
BEGIN:VEVENT
DTSTART;TZID=Asia/Shanghai:20280304T143000
DTEND;TZID=Asia/Shanghai:20280304T153000
DTSTAMP:20260426T091852
CREATED:20251202T055414Z
LAST-MODIFIED:20260315T072223Z
UID:10027652-1835793000-1835796600@www.dancesoul.com.tw
SUMMARY:兒童MV(IVE - 'BANG BANG')-薇臻
DESCRIPTION:
URL:https://www.dancesoul.com.tw/schedule/%e5%85%92%e7%ab%a5mvbabymonster-hot-sauce-%e8%96%87%e8%87%bb-2/2028-03-04/
CATEGORIES:MV課,兒童MV,課程
END:VEVENT
BEGIN:VEVENT
DTSTART;TZID=Asia/Shanghai:20280305T143000
DTEND;TZID=Asia/Shanghai:20280305T153000
DTSTAMP:20260426T091852
CREATED:20260315T071830Z
LAST-MODIFIED:20260315T071830Z
UID:10029219-1835879400-1835883000@www.dancesoul.com.tw
SUMMARY:兒童MV(ILLIT-opps!)-羿芃
DESCRIPTION:
URL:https://www.dancesoul.com.tw/schedule/%e5%85%92%e7%ab%a5mvizna-sass-%e7%be%bf%e8%8a%83-2-2/2028-03-05/
CATEGORIES:兒童MV,兒童課
END:VEVENT
BEGIN:VEVENT
DTSTART;TZID=Asia/Shanghai:20280311T143000
DTEND;TZID=Asia/Shanghai:20280311T153000
DTSTAMP:20260426T091852
CREATED:20251202T055414Z
LAST-MODIFIED:20260315T072223Z
UID:10027653-1836397800-1836401400@www.dancesoul.com.tw
SUMMARY:兒童MV(IVE - 'BANG BANG')-薇臻
DESCRIPTION:
URL:https://www.dancesoul.com.tw/schedule/%e5%85%92%e7%ab%a5mvbabymonster-hot-sauce-%e8%96%87%e8%87%bb-2/2028-03-11/
CATEGORIES:MV課,兒童MV,課程
END:VEVENT
BEGIN:VEVENT
DTSTART;TZID=Asia/Shanghai:20280312T143000
DTEND;TZID=Asia/Shanghai:20280312T153000
DTSTAMP:20260426T091852
CREATED:20260315T071830Z
LAST-MODIFIED:20260315T071830Z
UID:10029220-1836484200-1836487800@www.dancesoul.com.tw
SUMMARY:兒童MV(ILLIT-opps!)-羿芃
DESCRIPTION:
URL:https://www.dancesoul.com.tw/schedule/%e5%85%92%e7%ab%a5mvizna-sass-%e7%be%bf%e8%8a%83-2-2/2028-03-12/
CATEGORIES:兒童MV,兒童課
END:VEVENT
BEGIN:VEVENT
DTSTART;TZID=Asia/Shanghai:20280318T143000
DTEND;TZID=Asia/Shanghai:20280318T153000
DTSTAMP:20260426T091852
CREATED:20251202T055414Z
LAST-MODIFIED:20260315T072223Z
UID:10027654-1837002600-1837006200@www.dancesoul.com.tw
SUMMARY:兒童MV(IVE - 'BANG BANG')-薇臻
DESCRIPTION:
URL:https://www.dancesoul.com.tw/schedule/%e5%85%92%e7%ab%a5mvbabymonster-hot-sauce-%e8%96%87%e8%87%bb-2/2028-03-18/
CATEGORIES:MV課,兒童MV,課程
END:VEVENT
BEGIN:VEVENT
DTSTART;TZID=Asia/Shanghai:20280319T143000
DTEND;TZID=Asia/Shanghai:20280319T153000
DTSTAMP:20260426T091852
CREATED:20260315T071830Z
LAST-MODIFIED:20260315T071830Z
UID:10029221-1837089000-1837092600@www.dancesoul.com.tw
SUMMARY:兒童MV(ILLIT-opps!)-羿芃
DESCRIPTION:
URL:https://www.dancesoul.com.tw/schedule/%e5%85%92%e7%ab%a5mvizna-sass-%e7%be%bf%e8%8a%83-2-2/2028-03-19/
CATEGORIES:兒童MV,兒童課
END:VEVENT
BEGIN:VEVENT
DTSTART;TZID=Asia/Shanghai:20280325T143000
DTEND;TZID=Asia/Shanghai:20280325T153000
DTSTAMP:20260426T091852
CREATED:20251202T055414Z
LAST-MODIFIED:20260315T072223Z
UID:10027655-1837607400-1837611000@www.dancesoul.com.tw
SUMMARY:兒童MV(IVE - 'BANG BANG')-薇臻
DESCRIPTION:
URL:https://www.dancesoul.com.tw/schedule/%e5%85%92%e7%ab%a5mvbabymonster-hot-sauce-%e8%96%87%e8%87%bb-2/2028-03-25/
CATEGORIES:MV課,兒童MV,課程
END:VEVENT
BEGIN:VEVENT
DTSTART;TZID=Asia/Shanghai:20280326T143000
DTEND;TZID=Asia/Shanghai:20280326T153000
DTSTAMP:20260426T091852
CREATED:20260315T071830Z
LAST-MODIFIED:20260315T071830Z
UID:10029222-1837693800-1837697400@www.dancesoul.com.tw
SUMMARY:兒童MV(ILLIT-opps!)-羿芃
DESCRIPTION:
URL:https://www.dancesoul.com.tw/schedule/%e5%85%92%e7%ab%a5mvizna-sass-%e7%be%bf%e8%8a%83-2-2/2028-03-26/
CATEGORIES:兒童MV,兒童課
END:VEVENT
BEGIN:VEVENT
DTSTART;TZID=Asia/Shanghai:20280401T143000
DTEND;TZID=Asia/Shanghai:20280401T153000
DTSTAMP:20260426T091852
CREATED:20251202T055414Z
LAST-MODIFIED:20260315T072223Z
UID:10027656-1838212200-1838215800@www.dancesoul.com.tw
SUMMARY:兒童MV(IVE - 'BANG BANG')-薇臻
DESCRIPTION:
URL:https://www.dancesoul.com.tw/schedule/%e5%85%92%e7%ab%a5mvbabymonster-hot-sauce-%e8%96%87%e8%87%bb-2/2028-04-01/
CATEGORIES:MV課,兒童MV,課程
END:VEVENT
BEGIN:VEVENT
DTSTART;TZID=Asia/Shanghai:20280402T143000
DTEND;TZID=Asia/Shanghai:20280402T153000
DTSTAMP:20260426T091852
CREATED:20260315T071830Z
LAST-MODIFIED:20260315T071830Z
UID:10029223-1838298600-1838302200@www.dancesoul.com.tw
SUMMARY:兒童MV(ILLIT-opps!)-羿芃
DESCRIPTION:
URL:https://www.dancesoul.com.tw/schedule/%e5%85%92%e7%ab%a5mvizna-sass-%e7%be%bf%e8%8a%83-2-2/2028-04-02/
CATEGORIES:兒童MV,兒童課
END:VEVENT
BEGIN:VEVENT
DTSTART;TZID=Asia/Shanghai:20280408T143000
DTEND;TZID=Asia/Shanghai:20280408T153000
DTSTAMP:20260426T091852
CREATED:20251202T055414Z
LAST-MODIFIED:20260315T072223Z
UID:10027657-1838817000-1838820600@www.dancesoul.com.tw
SUMMARY:兒童MV(IVE - 'BANG BANG')-薇臻
DESCRIPTION:
URL:https://www.dancesoul.com.tw/schedule/%e5%85%92%e7%ab%a5mvbabymonster-hot-sauce-%e8%96%87%e8%87%bb-2/2028-04-08/
CATEGORIES:MV課,兒童MV,課程
END:VEVENT
BEGIN:VEVENT
DTSTART;TZID=Asia/Shanghai:20280409T143000
DTEND;TZID=Asia/Shanghai:20280409T153000
DTSTAMP:20260426T091852
CREATED:20260315T071830Z
LAST-MODIFIED:20260315T071830Z
UID:10029224-1838903400-1838907000@www.dancesoul.com.tw
SUMMARY:兒童MV(ILLIT-opps!)-羿芃
DESCRIPTION:
URL:https://www.dancesoul.com.tw/schedule/%e5%85%92%e7%ab%a5mvizna-sass-%e7%be%bf%e8%8a%83-2-2/2028-04-09/
CATEGORIES:兒童MV,兒童課
END:VEVENT
BEGIN:VEVENT
DTSTART;TZID=Asia/Shanghai:20280415T143000
DTEND;TZID=Asia/Shanghai:20280415T153000
DTSTAMP:20260426T091852
CREATED:20251202T055414Z
LAST-MODIFIED:20260315T072223Z
UID:10027658-1839421800-1839425400@www.dancesoul.com.tw
SUMMARY:兒童MV(IVE - 'BANG BANG')-薇臻
DESCRIPTION:
URL:https://www.dancesoul.com.tw/schedule/%e5%85%92%e7%ab%a5mvbabymonster-hot-sauce-%e8%96%87%e8%87%bb-2/2028-04-15/
CATEGORIES:MV課,兒童MV,課程
END:VEVENT
BEGIN:VEVENT
DTSTART;TZID=Asia/Shanghai:20280416T143000
DTEND;TZID=Asia/Shanghai:20280416T153000
DTSTAMP:20260426T091852
CREATED:20260315T071830Z
LAST-MODIFIED:20260315T071830Z
UID:10029225-1839508200-1839511800@www.dancesoul.com.tw
SUMMARY:兒童MV(ILLIT-opps!)-羿芃
DESCRIPTION:
URL:https://www.dancesoul.com.tw/schedule/%e5%85%92%e7%ab%a5mvizna-sass-%e7%be%bf%e8%8a%83-2-2/2028-04-16/
CATEGORIES:兒童MV,兒童課
END:VEVENT
BEGIN:VEVENT
DTSTART;TZID=Asia/Shanghai:20280422T143000
DTEND;TZID=Asia/Shanghai:20280422T153000
DTSTAMP:20260426T091852
CREATED:20251202T055414Z
LAST-MODIFIED:20260315T072223Z
UID:10027659-1840026600-1840030200@www.dancesoul.com.tw
SUMMARY:兒童MV(IVE - 'BANG BANG')-薇臻
DESCRIPTION:
URL:https://www.dancesoul.com.tw/schedule/%e5%85%92%e7%ab%a5mvbabymonster-hot-sauce-%e8%96%87%e8%87%bb-2/2028-04-22/
CATEGORIES:MV課,兒童MV,課程
END:VEVENT
BEGIN:VEVENT
DTSTART;TZID=Asia/Shanghai:20280423T143000
DTEND;TZID=Asia/Shanghai:20280423T153000
DTSTAMP:20260426T091852
CREATED:20260315T071830Z
LAST-MODIFIED:20260315T071830Z
UID:10029226-1840113000-1840116600@www.dancesoul.com.tw
SUMMARY:兒童MV(ILLIT-opps!)-羿芃
DESCRIPTION:
URL:https://www.dancesoul.com.tw/schedule/%e5%85%92%e7%ab%a5mvizna-sass-%e7%be%bf%e8%8a%83-2-2/2028-04-23/
CATEGORIES:兒童MV,兒童課
END:VEVENT
BEGIN:VEVENT
DTSTART;TZID=Asia/Shanghai:20280429T143000
DTEND;TZID=Asia/Shanghai:20280429T153000
DTSTAMP:20260426T091852
CREATED:20251202T055414Z
LAST-MODIFIED:20260315T072223Z
UID:10027660-1840631400-1840635000@www.dancesoul.com.tw
SUMMARY:兒童MV(IVE - 'BANG BANG')-薇臻
DESCRIPTION:
URL:https://www.dancesoul.com.tw/schedule/%e5%85%92%e7%ab%a5mvbabymonster-hot-sauce-%e8%96%87%e8%87%bb-2/2028-04-29/
CATEGORIES:MV課,兒童MV,課程
END:VEVENT
END:VCALENDAR