BEGIN:VCALENDAR
VERSION:2.0
PRODID:-//DANCE SOUL 舞魂街舞學校 - ECPv6.15.18//NONSGML v1.0//EN
CALSCALE:GREGORIAN
METHOD:PUBLISH
X-WR-CALNAME:DANCE SOUL 舞魂街舞學校
X-ORIGINAL-URL:https://www.dancesoul.com.tw
X-WR-CALDESC:Events for DANCE SOUL 舞魂街舞學校
REFRESH-INTERVAL;VALUE=DURATION:PT1H
X-Robots-Tag:noindex
X-PUBLISHED-TTL:PT1H
BEGIN:VTIMEZONE
TZID:Asia/Shanghai
BEGIN:STANDARD
TZOFFSETFROM:+0800
TZOFFSETTO:+0800
TZNAME:CST
DTSTART:20270101T000000
END:STANDARD
END:VTIMEZONE
BEGIN:VEVENT
DTSTART;TZID=Asia/Shanghai:20280813T143000
DTEND;TZID=Asia/Shanghai:20280813T153000
DTSTAMP:20260426T105543
CREATED:20260315T071830Z
LAST-MODIFIED:20260315T071830Z
UID:10029242-1849789800-1849793400@www.dancesoul.com.tw
SUMMARY:兒童MV(ILLIT-opps!)-羿芃
DESCRIPTION:
URL:https://www.dancesoul.com.tw/schedule/%e5%85%92%e7%ab%a5mvizna-sass-%e7%be%bf%e8%8a%83-2-2/2028-08-13/
CATEGORIES:兒童MV,兒童課
END:VEVENT
BEGIN:VEVENT
DTSTART;TZID=Asia/Shanghai:20280819T143000
DTEND;TZID=Asia/Shanghai:20280819T153000
DTSTAMP:20260426T105543
CREATED:20251202T055414Z
LAST-MODIFIED:20260315T072223Z
UID:10027676-1850308200-1850311800@www.dancesoul.com.tw
SUMMARY:兒童MV(IVE - 'BANG BANG')-薇臻
DESCRIPTION:
URL:https://www.dancesoul.com.tw/schedule/%e5%85%92%e7%ab%a5mvbabymonster-hot-sauce-%e8%96%87%e8%87%bb-2/2028-08-19/
CATEGORIES:MV課,兒童MV,課程
END:VEVENT
BEGIN:VEVENT
DTSTART;TZID=Asia/Shanghai:20280820T143000
DTEND;TZID=Asia/Shanghai:20280820T153000
DTSTAMP:20260426T105543
CREATED:20260315T071830Z
LAST-MODIFIED:20260315T071830Z
UID:10029243-1850394600-1850398200@www.dancesoul.com.tw
SUMMARY:兒童MV(ILLIT-opps!)-羿芃
DESCRIPTION:
URL:https://www.dancesoul.com.tw/schedule/%e5%85%92%e7%ab%a5mvizna-sass-%e7%be%bf%e8%8a%83-2-2/2028-08-20/
CATEGORIES:兒童MV,兒童課
END:VEVENT
BEGIN:VEVENT
DTSTART;TZID=Asia/Shanghai:20280826T143000
DTEND;TZID=Asia/Shanghai:20280826T153000
DTSTAMP:20260426T105543
CREATED:20251202T055414Z
LAST-MODIFIED:20260315T072223Z
UID:10027677-1850913000-1850916600@www.dancesoul.com.tw
SUMMARY:兒童MV(IVE - 'BANG BANG')-薇臻
DESCRIPTION:
URL:https://www.dancesoul.com.tw/schedule/%e5%85%92%e7%ab%a5mvbabymonster-hot-sauce-%e8%96%87%e8%87%bb-2/2028-08-26/
CATEGORIES:MV課,兒童MV,課程
END:VEVENT
BEGIN:VEVENT
DTSTART;TZID=Asia/Shanghai:20280827T143000
DTEND;TZID=Asia/Shanghai:20280827T153000
DTSTAMP:20260426T105543
CREATED:20260315T071830Z
LAST-MODIFIED:20260315T071830Z
UID:10029244-1850999400-1851003000@www.dancesoul.com.tw
SUMMARY:兒童MV(ILLIT-opps!)-羿芃
DESCRIPTION:
URL:https://www.dancesoul.com.tw/schedule/%e5%85%92%e7%ab%a5mvizna-sass-%e7%be%bf%e8%8a%83-2-2/2028-08-27/
CATEGORIES:兒童MV,兒童課
END:VEVENT
BEGIN:VEVENT
DTSTART;TZID=Asia/Shanghai:20280902T143000
DTEND;TZID=Asia/Shanghai:20280902T153000
DTSTAMP:20260426T105543
CREATED:20251202T055414Z
LAST-MODIFIED:20260315T072223Z
UID:10027678-1851517800-1851521400@www.dancesoul.com.tw
SUMMARY:兒童MV(IVE - 'BANG BANG')-薇臻
DESCRIPTION:
URL:https://www.dancesoul.com.tw/schedule/%e5%85%92%e7%ab%a5mvbabymonster-hot-sauce-%e8%96%87%e8%87%bb-2/2028-09-02/
CATEGORIES:MV課,兒童MV,課程
END:VEVENT
BEGIN:VEVENT
DTSTART;TZID=Asia/Shanghai:20280903T143000
DTEND;TZID=Asia/Shanghai:20280903T153000
DTSTAMP:20260426T105543
CREATED:20260315T071830Z
LAST-MODIFIED:20260315T071830Z
UID:10029245-1851604200-1851607800@www.dancesoul.com.tw
SUMMARY:兒童MV(ILLIT-opps!)-羿芃
DESCRIPTION:
URL:https://www.dancesoul.com.tw/schedule/%e5%85%92%e7%ab%a5mvizna-sass-%e7%be%bf%e8%8a%83-2-2/2028-09-03/
CATEGORIES:兒童MV,兒童課
END:VEVENT
BEGIN:VEVENT
DTSTART;TZID=Asia/Shanghai:20280909T143000
DTEND;TZID=Asia/Shanghai:20280909T153000
DTSTAMP:20260426T105543
CREATED:20251202T055414Z
LAST-MODIFIED:20260315T072223Z
UID:10027679-1852122600-1852126200@www.dancesoul.com.tw
SUMMARY:兒童MV(IVE - 'BANG BANG')-薇臻
DESCRIPTION:
URL:https://www.dancesoul.com.tw/schedule/%e5%85%92%e7%ab%a5mvbabymonster-hot-sauce-%e8%96%87%e8%87%bb-2/2028-09-09/
CATEGORIES:MV課,兒童MV,課程
END:VEVENT
BEGIN:VEVENT
DTSTART;TZID=Asia/Shanghai:20280910T143000
DTEND;TZID=Asia/Shanghai:20280910T153000
DTSTAMP:20260426T105543
CREATED:20260315T071830Z
LAST-MODIFIED:20260315T071830Z
UID:10029246-1852209000-1852212600@www.dancesoul.com.tw
SUMMARY:兒童MV(ILLIT-opps!)-羿芃
DESCRIPTION:
URL:https://www.dancesoul.com.tw/schedule/%e5%85%92%e7%ab%a5mvizna-sass-%e7%be%bf%e8%8a%83-2-2/2028-09-10/
CATEGORIES:兒童MV,兒童課
END:VEVENT
BEGIN:VEVENT
DTSTART;TZID=Asia/Shanghai:20280916T143000
DTEND;TZID=Asia/Shanghai:20280916T153000
DTSTAMP:20260426T105543
CREATED:20251202T055414Z
LAST-MODIFIED:20260315T072223Z
UID:10027680-1852727400-1852731000@www.dancesoul.com.tw
SUMMARY:兒童MV(IVE - 'BANG BANG')-薇臻
DESCRIPTION:
URL:https://www.dancesoul.com.tw/schedule/%e5%85%92%e7%ab%a5mvbabymonster-hot-sauce-%e8%96%87%e8%87%bb-2/2028-09-16/
CATEGORIES:MV課,兒童MV,課程
END:VEVENT
BEGIN:VEVENT
DTSTART;TZID=Asia/Shanghai:20280917T143000
DTEND;TZID=Asia/Shanghai:20280917T153000
DTSTAMP:20260426T105543
CREATED:20260315T071830Z
LAST-MODIFIED:20260315T071830Z
UID:10029247-1852813800-1852817400@www.dancesoul.com.tw
SUMMARY:兒童MV(ILLIT-opps!)-羿芃
DESCRIPTION:
URL:https://www.dancesoul.com.tw/schedule/%e5%85%92%e7%ab%a5mvizna-sass-%e7%be%bf%e8%8a%83-2-2/2028-09-17/
CATEGORIES:兒童MV,兒童課
END:VEVENT
BEGIN:VEVENT
DTSTART;TZID=Asia/Shanghai:20280923T143000
DTEND;TZID=Asia/Shanghai:20280923T153000
DTSTAMP:20260426T105543
CREATED:20251202T055414Z
LAST-MODIFIED:20260315T072223Z
UID:10027681-1853332200-1853335800@www.dancesoul.com.tw
SUMMARY:兒童MV(IVE - 'BANG BANG')-薇臻
DESCRIPTION:
URL:https://www.dancesoul.com.tw/schedule/%e5%85%92%e7%ab%a5mvbabymonster-hot-sauce-%e8%96%87%e8%87%bb-2/2028-09-23/
CATEGORIES:MV課,兒童MV,課程
END:VEVENT
BEGIN:VEVENT
DTSTART;TZID=Asia/Shanghai:20280924T143000
DTEND;TZID=Asia/Shanghai:20280924T153000
DTSTAMP:20260426T105543
CREATED:20260315T071830Z
LAST-MODIFIED:20260315T071830Z
UID:10029248-1853418600-1853422200@www.dancesoul.com.tw
SUMMARY:兒童MV(ILLIT-opps!)-羿芃
DESCRIPTION:
URL:https://www.dancesoul.com.tw/schedule/%e5%85%92%e7%ab%a5mvizna-sass-%e7%be%bf%e8%8a%83-2-2/2028-09-24/
CATEGORIES:兒童MV,兒童課
END:VEVENT
BEGIN:VEVENT
DTSTART;TZID=Asia/Shanghai:20280930T143000
DTEND;TZID=Asia/Shanghai:20280930T153000
DTSTAMP:20260426T105543
CREATED:20251202T055414Z
LAST-MODIFIED:20260315T072223Z
UID:10027682-1853937000-1853940600@www.dancesoul.com.tw
SUMMARY:兒童MV(IVE - 'BANG BANG')-薇臻
DESCRIPTION:
URL:https://www.dancesoul.com.tw/schedule/%e5%85%92%e7%ab%a5mvbabymonster-hot-sauce-%e8%96%87%e8%87%bb-2/2028-09-30/
CATEGORIES:MV課,兒童MV,課程
END:VEVENT
BEGIN:VEVENT
DTSTART;TZID=Asia/Shanghai:20281001T143000
DTEND;TZID=Asia/Shanghai:20281001T153000
DTSTAMP:20260426T105543
CREATED:20260315T071830Z
LAST-MODIFIED:20260315T071830Z
UID:10029249-1854023400-1854027000@www.dancesoul.com.tw
SUMMARY:兒童MV(ILLIT-opps!)-羿芃
DESCRIPTION:
URL:https://www.dancesoul.com.tw/schedule/%e5%85%92%e7%ab%a5mvizna-sass-%e7%be%bf%e8%8a%83-2-2/2028-10-01/
CATEGORIES:兒童MV,兒童課
END:VEVENT
BEGIN:VEVENT
DTSTART;TZID=Asia/Shanghai:20281007T143000
DTEND;TZID=Asia/Shanghai:20281007T153000
DTSTAMP:20260426T105543
CREATED:20251202T055414Z
LAST-MODIFIED:20260315T072223Z
UID:10027683-1854541800-1854545400@www.dancesoul.com.tw
SUMMARY:兒童MV(IVE - 'BANG BANG')-薇臻
DESCRIPTION:
URL:https://www.dancesoul.com.tw/schedule/%e5%85%92%e7%ab%a5mvbabymonster-hot-sauce-%e8%96%87%e8%87%bb-2/2028-10-07/
CATEGORIES:MV課,兒童MV,課程
END:VEVENT
BEGIN:VEVENT
DTSTART;TZID=Asia/Shanghai:20281008T143000
DTEND;TZID=Asia/Shanghai:20281008T153000
DTSTAMP:20260426T105543
CREATED:20260315T071830Z
LAST-MODIFIED:20260315T071830Z
UID:10029250-1854628200-1854631800@www.dancesoul.com.tw
SUMMARY:兒童MV(ILLIT-opps!)-羿芃
DESCRIPTION:
URL:https://www.dancesoul.com.tw/schedule/%e5%85%92%e7%ab%a5mvizna-sass-%e7%be%bf%e8%8a%83-2-2/2028-10-08/
CATEGORIES:兒童MV,兒童課
END:VEVENT
BEGIN:VEVENT
DTSTART;TZID=Asia/Shanghai:20281014T143000
DTEND;TZID=Asia/Shanghai:20281014T153000
DTSTAMP:20260426T105543
CREATED:20251202T055414Z
LAST-MODIFIED:20260315T072223Z
UID:10027684-1855146600-1855150200@www.dancesoul.com.tw
SUMMARY:兒童MV(IVE - 'BANG BANG')-薇臻
DESCRIPTION:
URL:https://www.dancesoul.com.tw/schedule/%e5%85%92%e7%ab%a5mvbabymonster-hot-sauce-%e8%96%87%e8%87%bb-2/2028-10-14/
CATEGORIES:MV課,兒童MV,課程
END:VEVENT
BEGIN:VEVENT
DTSTART;TZID=Asia/Shanghai:20281015T143000
DTEND;TZID=Asia/Shanghai:20281015T153000
DTSTAMP:20260426T105543
CREATED:20260315T071830Z
LAST-MODIFIED:20260315T071830Z
UID:10029251-1855233000-1855236600@www.dancesoul.com.tw
SUMMARY:兒童MV(ILLIT-opps!)-羿芃
DESCRIPTION:
URL:https://www.dancesoul.com.tw/schedule/%e5%85%92%e7%ab%a5mvizna-sass-%e7%be%bf%e8%8a%83-2-2/2028-10-15/
CATEGORIES:兒童MV,兒童課
END:VEVENT
BEGIN:VEVENT
DTSTART;TZID=Asia/Shanghai:20281021T143000
DTEND;TZID=Asia/Shanghai:20281021T153000
DTSTAMP:20260426T105543
CREATED:20251202T055414Z
LAST-MODIFIED:20260315T072223Z
UID:10027685-1855751400-1855755000@www.dancesoul.com.tw
SUMMARY:兒童MV(IVE - 'BANG BANG')-薇臻
DESCRIPTION:
URL:https://www.dancesoul.com.tw/schedule/%e5%85%92%e7%ab%a5mvbabymonster-hot-sauce-%e8%96%87%e8%87%bb-2/2028-10-21/
CATEGORIES:MV課,兒童MV,課程
END:VEVENT
BEGIN:VEVENT
DTSTART;TZID=Asia/Shanghai:20281022T143000
DTEND;TZID=Asia/Shanghai:20281022T153000
DTSTAMP:20260426T105543
CREATED:20260315T071830Z
LAST-MODIFIED:20260315T071830Z
UID:10029252-1855837800-1855841400@www.dancesoul.com.tw
SUMMARY:兒童MV(ILLIT-opps!)-羿芃
DESCRIPTION:
URL:https://www.dancesoul.com.tw/schedule/%e5%85%92%e7%ab%a5mvizna-sass-%e7%be%bf%e8%8a%83-2-2/2028-10-22/
CATEGORIES:兒童MV,兒童課
END:VEVENT
BEGIN:VEVENT
DTSTART;TZID=Asia/Shanghai:20281028T143000
DTEND;TZID=Asia/Shanghai:20281028T153000
DTSTAMP:20260426T105543
CREATED:20251202T055414Z
LAST-MODIFIED:20260315T072223Z
UID:10027686-1856356200-1856359800@www.dancesoul.com.tw
SUMMARY:兒童MV(IVE - 'BANG BANG')-薇臻
DESCRIPTION:
URL:https://www.dancesoul.com.tw/schedule/%e5%85%92%e7%ab%a5mvbabymonster-hot-sauce-%e8%96%87%e8%87%bb-2/2028-10-28/
CATEGORIES:MV課,兒童MV,課程
END:VEVENT
BEGIN:VEVENT
DTSTART;TZID=Asia/Shanghai:20281029T143000
DTEND;TZID=Asia/Shanghai:20281029T153000
DTSTAMP:20260426T105543
CREATED:20260315T071830Z
LAST-MODIFIED:20260315T071830Z
UID:10029253-1856442600-1856446200@www.dancesoul.com.tw
SUMMARY:兒童MV(ILLIT-opps!)-羿芃
DESCRIPTION:
URL:https://www.dancesoul.com.tw/schedule/%e5%85%92%e7%ab%a5mvizna-sass-%e7%be%bf%e8%8a%83-2-2/2028-10-29/
CATEGORIES:兒童MV,兒童課
END:VEVENT
BEGIN:VEVENT
DTSTART;TZID=Asia/Shanghai:20281104T143000
DTEND;TZID=Asia/Shanghai:20281104T153000
DTSTAMP:20260426T105543
CREATED:20251202T055414Z
LAST-MODIFIED:20260315T072223Z
UID:10027687-1856961000-1856964600@www.dancesoul.com.tw
SUMMARY:兒童MV(IVE - 'BANG BANG')-薇臻
DESCRIPTION:
URL:https://www.dancesoul.com.tw/schedule/%e5%85%92%e7%ab%a5mvbabymonster-hot-sauce-%e8%96%87%e8%87%bb-2/2028-11-04/
CATEGORIES:MV課,兒童MV,課程
END:VEVENT
BEGIN:VEVENT
DTSTART;TZID=Asia/Shanghai:20281105T143000
DTEND;TZID=Asia/Shanghai:20281105T153000
DTSTAMP:20260426T105543
CREATED:20260315T071830Z
LAST-MODIFIED:20260315T071830Z
UID:10029254-1857047400-1857051000@www.dancesoul.com.tw
SUMMARY:兒童MV(ILLIT-opps!)-羿芃
DESCRIPTION:
URL:https://www.dancesoul.com.tw/schedule/%e5%85%92%e7%ab%a5mvizna-sass-%e7%be%bf%e8%8a%83-2-2/2028-11-05/
CATEGORIES:兒童MV,兒童課
END:VEVENT
BEGIN:VEVENT
DTSTART;TZID=Asia/Shanghai:20281111T143000
DTEND;TZID=Asia/Shanghai:20281111T153000
DTSTAMP:20260426T105543
CREATED:20251202T055414Z
LAST-MODIFIED:20260315T072223Z
UID:10027688-1857565800-1857569400@www.dancesoul.com.tw
SUMMARY:兒童MV(IVE - 'BANG BANG')-薇臻
DESCRIPTION:
URL:https://www.dancesoul.com.tw/schedule/%e5%85%92%e7%ab%a5mvbabymonster-hot-sauce-%e8%96%87%e8%87%bb-2/2028-11-11/
CATEGORIES:MV課,兒童MV,課程
END:VEVENT
BEGIN:VEVENT
DTSTART;TZID=Asia/Shanghai:20281112T143000
DTEND;TZID=Asia/Shanghai:20281112T153000
DTSTAMP:20260426T105543
CREATED:20260315T071830Z
LAST-MODIFIED:20260315T071830Z
UID:10029255-1857652200-1857655800@www.dancesoul.com.tw
SUMMARY:兒童MV(ILLIT-opps!)-羿芃
DESCRIPTION:
URL:https://www.dancesoul.com.tw/schedule/%e5%85%92%e7%ab%a5mvizna-sass-%e7%be%bf%e8%8a%83-2-2/2028-11-12/
CATEGORIES:兒童MV,兒童課
END:VEVENT
BEGIN:VEVENT
DTSTART;TZID=Asia/Shanghai:20281118T143000
DTEND;TZID=Asia/Shanghai:20281118T153000
DTSTAMP:20260426T105543
CREATED:20251202T055414Z
LAST-MODIFIED:20260315T072223Z
UID:10027689-1858170600-1858174200@www.dancesoul.com.tw
SUMMARY:兒童MV(IVE - 'BANG BANG')-薇臻
DESCRIPTION:
URL:https://www.dancesoul.com.tw/schedule/%e5%85%92%e7%ab%a5mvbabymonster-hot-sauce-%e8%96%87%e8%87%bb-2/2028-11-18/
CATEGORIES:MV課,兒童MV,課程
END:VEVENT
BEGIN:VEVENT
DTSTART;TZID=Asia/Shanghai:20281119T143000
DTEND;TZID=Asia/Shanghai:20281119T153000
DTSTAMP:20260426T105543
CREATED:20260315T071830Z
LAST-MODIFIED:20260315T071830Z
UID:10029256-1858257000-1858260600@www.dancesoul.com.tw
SUMMARY:兒童MV(ILLIT-opps!)-羿芃
DESCRIPTION:
URL:https://www.dancesoul.com.tw/schedule/%e5%85%92%e7%ab%a5mvizna-sass-%e7%be%bf%e8%8a%83-2-2/2028-11-19/
CATEGORIES:兒童MV,兒童課
END:VEVENT
BEGIN:VEVENT
DTSTART;TZID=Asia/Shanghai:20281125T143000
DTEND;TZID=Asia/Shanghai:20281125T153000
DTSTAMP:20260426T105543
CREATED:20251202T055414Z
LAST-MODIFIED:20260315T072223Z
UID:10027690-1858775400-1858779000@www.dancesoul.com.tw
SUMMARY:兒童MV(IVE - 'BANG BANG')-薇臻
DESCRIPTION:
URL:https://www.dancesoul.com.tw/schedule/%e5%85%92%e7%ab%a5mvbabymonster-hot-sauce-%e8%96%87%e8%87%bb-2/2028-11-25/
CATEGORIES:MV課,兒童MV,課程
END:VEVENT
END:VCALENDAR