BEGIN:VCALENDAR
VERSION:2.0
PRODID:-//DANCE SOUL 舞魂街舞學校 - ECPv6.15.18//NONSGML v1.0//EN
CALSCALE:GREGORIAN
METHOD:PUBLISH
X-WR-CALNAME:DANCE SOUL 舞魂街舞學校
X-ORIGINAL-URL:https://www.dancesoul.com.tw
X-WR-CALDESC:Events for DANCE SOUL 舞魂街舞學校
REFRESH-INTERVAL;VALUE=DURATION:PT1H
X-Robots-Tag:noindex
X-PUBLISHED-TTL:PT1H
BEGIN:VTIMEZONE
TZID:Asia/Shanghai
BEGIN:STANDARD
TZOFFSETFROM:+0800
TZOFFSETTO:+0800
TZNAME:CST
DTSTART:20260101T000000
END:STANDARD
END:VTIMEZONE
BEGIN:VEVENT
DTSTART;TZID=Asia/Shanghai:20270619T143000
DTEND;TZID=Asia/Shanghai:20270619T153000
DTSTAMP:20260423T064824
CREATED:20251202T055414Z
LAST-MODIFIED:20260315T072223Z
UID:10027615-1813415400-1813419000@www.dancesoul.com.tw
SUMMARY:兒童MV(IVE - 'BANG BANG')-薇臻
DESCRIPTION:
URL:https://www.dancesoul.com.tw/schedule/%e5%85%92%e7%ab%a5mvbabymonster-hot-sauce-%e8%96%87%e8%87%bb-2/2027-06-19/
CATEGORIES:MV課,兒童MV,課程
END:VEVENT
BEGIN:VEVENT
DTSTART;TZID=Asia/Shanghai:20270620T143000
DTEND;TZID=Asia/Shanghai:20270620T153000
DTSTAMP:20260423T064824
CREATED:20260315T071830Z
LAST-MODIFIED:20260315T071830Z
UID:10029182-1813501800-1813505400@www.dancesoul.com.tw
SUMMARY:兒童MV(ILLIT-opps!)-羿芃
DESCRIPTION:
URL:https://www.dancesoul.com.tw/schedule/%e5%85%92%e7%ab%a5mvizna-sass-%e7%be%bf%e8%8a%83-2-2/2027-06-20/
CATEGORIES:兒童MV,兒童課
END:VEVENT
BEGIN:VEVENT
DTSTART;TZID=Asia/Shanghai:20270626T143000
DTEND;TZID=Asia/Shanghai:20270626T153000
DTSTAMP:20260423T064824
CREATED:20251202T055414Z
LAST-MODIFIED:20260315T072223Z
UID:10027616-1814020200-1814023800@www.dancesoul.com.tw
SUMMARY:兒童MV(IVE - 'BANG BANG')-薇臻
DESCRIPTION:
URL:https://www.dancesoul.com.tw/schedule/%e5%85%92%e7%ab%a5mvbabymonster-hot-sauce-%e8%96%87%e8%87%bb-2/2027-06-26/
CATEGORIES:MV課,兒童MV,課程
END:VEVENT
BEGIN:VEVENT
DTSTART;TZID=Asia/Shanghai:20270627T143000
DTEND;TZID=Asia/Shanghai:20270627T153000
DTSTAMP:20260423T064824
CREATED:20260315T071830Z
LAST-MODIFIED:20260315T071830Z
UID:10029183-1814106600-1814110200@www.dancesoul.com.tw
SUMMARY:兒童MV(ILLIT-opps!)-羿芃
DESCRIPTION:
URL:https://www.dancesoul.com.tw/schedule/%e5%85%92%e7%ab%a5mvizna-sass-%e7%be%bf%e8%8a%83-2-2/2027-06-27/
CATEGORIES:兒童MV,兒童課
END:VEVENT
BEGIN:VEVENT
DTSTART;TZID=Asia/Shanghai:20270703T143000
DTEND;TZID=Asia/Shanghai:20270703T153000
DTSTAMP:20260423T064824
CREATED:20251202T055414Z
LAST-MODIFIED:20260315T072223Z
UID:10027617-1814625000-1814628600@www.dancesoul.com.tw
SUMMARY:兒童MV(IVE - 'BANG BANG')-薇臻
DESCRIPTION:
URL:https://www.dancesoul.com.tw/schedule/%e5%85%92%e7%ab%a5mvbabymonster-hot-sauce-%e8%96%87%e8%87%bb-2/2027-07-03/
CATEGORIES:MV課,兒童MV,課程
END:VEVENT
BEGIN:VEVENT
DTSTART;TZID=Asia/Shanghai:20270704T143000
DTEND;TZID=Asia/Shanghai:20270704T153000
DTSTAMP:20260423T064824
CREATED:20260315T071830Z
LAST-MODIFIED:20260315T071830Z
UID:10029184-1814711400-1814715000@www.dancesoul.com.tw
SUMMARY:兒童MV(ILLIT-opps!)-羿芃
DESCRIPTION:
URL:https://www.dancesoul.com.tw/schedule/%e5%85%92%e7%ab%a5mvizna-sass-%e7%be%bf%e8%8a%83-2-2/2027-07-04/
CATEGORIES:兒童MV,兒童課
END:VEVENT
BEGIN:VEVENT
DTSTART;TZID=Asia/Shanghai:20270710T143000
DTEND;TZID=Asia/Shanghai:20270710T153000
DTSTAMP:20260423T064824
CREATED:20251202T055414Z
LAST-MODIFIED:20260315T072223Z
UID:10027618-1815229800-1815233400@www.dancesoul.com.tw
SUMMARY:兒童MV(IVE - 'BANG BANG')-薇臻
DESCRIPTION:
URL:https://www.dancesoul.com.tw/schedule/%e5%85%92%e7%ab%a5mvbabymonster-hot-sauce-%e8%96%87%e8%87%bb-2/2027-07-10/
CATEGORIES:MV課,兒童MV,課程
END:VEVENT
BEGIN:VEVENT
DTSTART;TZID=Asia/Shanghai:20270711T143000
DTEND;TZID=Asia/Shanghai:20270711T153000
DTSTAMP:20260423T064824
CREATED:20260315T071830Z
LAST-MODIFIED:20260315T071830Z
UID:10029185-1815316200-1815319800@www.dancesoul.com.tw
SUMMARY:兒童MV(ILLIT-opps!)-羿芃
DESCRIPTION:
URL:https://www.dancesoul.com.tw/schedule/%e5%85%92%e7%ab%a5mvizna-sass-%e7%be%bf%e8%8a%83-2-2/2027-07-11/
CATEGORIES:兒童MV,兒童課
END:VEVENT
BEGIN:VEVENT
DTSTART;TZID=Asia/Shanghai:20270717T143000
DTEND;TZID=Asia/Shanghai:20270717T153000
DTSTAMP:20260423T064824
CREATED:20251202T055414Z
LAST-MODIFIED:20260315T072223Z
UID:10027619-1815834600-1815838200@www.dancesoul.com.tw
SUMMARY:兒童MV(IVE - 'BANG BANG')-薇臻
DESCRIPTION:
URL:https://www.dancesoul.com.tw/schedule/%e5%85%92%e7%ab%a5mvbabymonster-hot-sauce-%e8%96%87%e8%87%bb-2/2027-07-17/
CATEGORIES:MV課,兒童MV,課程
END:VEVENT
BEGIN:VEVENT
DTSTART;TZID=Asia/Shanghai:20270718T143000
DTEND;TZID=Asia/Shanghai:20270718T153000
DTSTAMP:20260423T064824
CREATED:20260315T071830Z
LAST-MODIFIED:20260315T071830Z
UID:10029186-1815921000-1815924600@www.dancesoul.com.tw
SUMMARY:兒童MV(ILLIT-opps!)-羿芃
DESCRIPTION:
URL:https://www.dancesoul.com.tw/schedule/%e5%85%92%e7%ab%a5mvizna-sass-%e7%be%bf%e8%8a%83-2-2/2027-07-18/
CATEGORIES:兒童MV,兒童課
END:VEVENT
BEGIN:VEVENT
DTSTART;TZID=Asia/Shanghai:20270724T143000
DTEND;TZID=Asia/Shanghai:20270724T153000
DTSTAMP:20260423T064824
CREATED:20251202T055414Z
LAST-MODIFIED:20260315T072223Z
UID:10027620-1816439400-1816443000@www.dancesoul.com.tw
SUMMARY:兒童MV(IVE - 'BANG BANG')-薇臻
DESCRIPTION:
URL:https://www.dancesoul.com.tw/schedule/%e5%85%92%e7%ab%a5mvbabymonster-hot-sauce-%e8%96%87%e8%87%bb-2/2027-07-24/
CATEGORIES:MV課,兒童MV,課程
END:VEVENT
BEGIN:VEVENT
DTSTART;TZID=Asia/Shanghai:20270725T143000
DTEND;TZID=Asia/Shanghai:20270725T153000
DTSTAMP:20260423T064824
CREATED:20260315T071830Z
LAST-MODIFIED:20260315T071830Z
UID:10029187-1816525800-1816529400@www.dancesoul.com.tw
SUMMARY:兒童MV(ILLIT-opps!)-羿芃
DESCRIPTION:
URL:https://www.dancesoul.com.tw/schedule/%e5%85%92%e7%ab%a5mvizna-sass-%e7%be%bf%e8%8a%83-2-2/2027-07-25/
CATEGORIES:兒童MV,兒童課
END:VEVENT
BEGIN:VEVENT
DTSTART;TZID=Asia/Shanghai:20270731T143000
DTEND;TZID=Asia/Shanghai:20270731T153000
DTSTAMP:20260423T064824
CREATED:20251202T055414Z
LAST-MODIFIED:20260315T072223Z
UID:10027621-1817044200-1817047800@www.dancesoul.com.tw
SUMMARY:兒童MV(IVE - 'BANG BANG')-薇臻
DESCRIPTION:
URL:https://www.dancesoul.com.tw/schedule/%e5%85%92%e7%ab%a5mvbabymonster-hot-sauce-%e8%96%87%e8%87%bb-2/2027-07-31/
CATEGORIES:MV課,兒童MV,課程
END:VEVENT
BEGIN:VEVENT
DTSTART;TZID=Asia/Shanghai:20270801T143000
DTEND;TZID=Asia/Shanghai:20270801T153000
DTSTAMP:20260423T064824
CREATED:20260315T071830Z
LAST-MODIFIED:20260315T071830Z
UID:10029188-1817130600-1817134200@www.dancesoul.com.tw
SUMMARY:兒童MV(ILLIT-opps!)-羿芃
DESCRIPTION:
URL:https://www.dancesoul.com.tw/schedule/%e5%85%92%e7%ab%a5mvizna-sass-%e7%be%bf%e8%8a%83-2-2/2027-08-01/
CATEGORIES:兒童MV,兒童課
END:VEVENT
BEGIN:VEVENT
DTSTART;TZID=Asia/Shanghai:20270807T143000
DTEND;TZID=Asia/Shanghai:20270807T153000
DTSTAMP:20260423T064824
CREATED:20251202T055414Z
LAST-MODIFIED:20260315T072223Z
UID:10027622-1817649000-1817652600@www.dancesoul.com.tw
SUMMARY:兒童MV(IVE - 'BANG BANG')-薇臻
DESCRIPTION:
URL:https://www.dancesoul.com.tw/schedule/%e5%85%92%e7%ab%a5mvbabymonster-hot-sauce-%e8%96%87%e8%87%bb-2/2027-08-07/
CATEGORIES:MV課,兒童MV,課程
END:VEVENT
BEGIN:VEVENT
DTSTART;TZID=Asia/Shanghai:20270808T143000
DTEND;TZID=Asia/Shanghai:20270808T153000
DTSTAMP:20260423T064824
CREATED:20260315T071830Z
LAST-MODIFIED:20260315T071830Z
UID:10029189-1817735400-1817739000@www.dancesoul.com.tw
SUMMARY:兒童MV(ILLIT-opps!)-羿芃
DESCRIPTION:
URL:https://www.dancesoul.com.tw/schedule/%e5%85%92%e7%ab%a5mvizna-sass-%e7%be%bf%e8%8a%83-2-2/2027-08-08/
CATEGORIES:兒童MV,兒童課
END:VEVENT
BEGIN:VEVENT
DTSTART;TZID=Asia/Shanghai:20270814T143000
DTEND;TZID=Asia/Shanghai:20270814T153000
DTSTAMP:20260423T064824
CREATED:20251202T055414Z
LAST-MODIFIED:20260315T072223Z
UID:10027623-1818253800-1818257400@www.dancesoul.com.tw
SUMMARY:兒童MV(IVE - 'BANG BANG')-薇臻
DESCRIPTION:
URL:https://www.dancesoul.com.tw/schedule/%e5%85%92%e7%ab%a5mvbabymonster-hot-sauce-%e8%96%87%e8%87%bb-2/2027-08-14/
CATEGORIES:MV課,兒童MV,課程
END:VEVENT
BEGIN:VEVENT
DTSTART;TZID=Asia/Shanghai:20270815T143000
DTEND;TZID=Asia/Shanghai:20270815T153000
DTSTAMP:20260423T064824
CREATED:20260315T071830Z
LAST-MODIFIED:20260315T071830Z
UID:10029190-1818340200-1818343800@www.dancesoul.com.tw
SUMMARY:兒童MV(ILLIT-opps!)-羿芃
DESCRIPTION:
URL:https://www.dancesoul.com.tw/schedule/%e5%85%92%e7%ab%a5mvizna-sass-%e7%be%bf%e8%8a%83-2-2/2027-08-15/
CATEGORIES:兒童MV,兒童課
END:VEVENT
BEGIN:VEVENT
DTSTART;TZID=Asia/Shanghai:20270821T143000
DTEND;TZID=Asia/Shanghai:20270821T153000
DTSTAMP:20260423T064824
CREATED:20251202T055414Z
LAST-MODIFIED:20260315T072223Z
UID:10027624-1818858600-1818862200@www.dancesoul.com.tw
SUMMARY:兒童MV(IVE - 'BANG BANG')-薇臻
DESCRIPTION:
URL:https://www.dancesoul.com.tw/schedule/%e5%85%92%e7%ab%a5mvbabymonster-hot-sauce-%e8%96%87%e8%87%bb-2/2027-08-21/
CATEGORIES:MV課,兒童MV,課程
END:VEVENT
BEGIN:VEVENT
DTSTART;TZID=Asia/Shanghai:20270822T143000
DTEND;TZID=Asia/Shanghai:20270822T153000
DTSTAMP:20260423T064824
CREATED:20260315T071830Z
LAST-MODIFIED:20260315T071830Z
UID:10029191-1818945000-1818948600@www.dancesoul.com.tw
SUMMARY:兒童MV(ILLIT-opps!)-羿芃
DESCRIPTION:
URL:https://www.dancesoul.com.tw/schedule/%e5%85%92%e7%ab%a5mvizna-sass-%e7%be%bf%e8%8a%83-2-2/2027-08-22/
CATEGORIES:兒童MV,兒童課
END:VEVENT
BEGIN:VEVENT
DTSTART;TZID=Asia/Shanghai:20270828T143000
DTEND;TZID=Asia/Shanghai:20270828T153000
DTSTAMP:20260423T064824
CREATED:20251202T055414Z
LAST-MODIFIED:20260315T072223Z
UID:10027625-1819463400-1819467000@www.dancesoul.com.tw
SUMMARY:兒童MV(IVE - 'BANG BANG')-薇臻
DESCRIPTION:
URL:https://www.dancesoul.com.tw/schedule/%e5%85%92%e7%ab%a5mvbabymonster-hot-sauce-%e8%96%87%e8%87%bb-2/2027-08-28/
CATEGORIES:MV課,兒童MV,課程
END:VEVENT
BEGIN:VEVENT
DTSTART;TZID=Asia/Shanghai:20270829T143000
DTEND;TZID=Asia/Shanghai:20270829T153000
DTSTAMP:20260423T064824
CREATED:20260315T071830Z
LAST-MODIFIED:20260315T071830Z
UID:10029192-1819549800-1819553400@www.dancesoul.com.tw
SUMMARY:兒童MV(ILLIT-opps!)-羿芃
DESCRIPTION:
URL:https://www.dancesoul.com.tw/schedule/%e5%85%92%e7%ab%a5mvizna-sass-%e7%be%bf%e8%8a%83-2-2/2027-08-29/
CATEGORIES:兒童MV,兒童課
END:VEVENT
BEGIN:VEVENT
DTSTART;TZID=Asia/Shanghai:20270904T143000
DTEND;TZID=Asia/Shanghai:20270904T153000
DTSTAMP:20260423T064824
CREATED:20251202T055414Z
LAST-MODIFIED:20260315T072223Z
UID:10027626-1820068200-1820071800@www.dancesoul.com.tw
SUMMARY:兒童MV(IVE - 'BANG BANG')-薇臻
DESCRIPTION:
URL:https://www.dancesoul.com.tw/schedule/%e5%85%92%e7%ab%a5mvbabymonster-hot-sauce-%e8%96%87%e8%87%bb-2/2027-09-04/
CATEGORIES:MV課,兒童MV,課程
END:VEVENT
BEGIN:VEVENT
DTSTART;TZID=Asia/Shanghai:20270905T143000
DTEND;TZID=Asia/Shanghai:20270905T153000
DTSTAMP:20260423T064824
CREATED:20260315T071830Z
LAST-MODIFIED:20260315T071830Z
UID:10029193-1820154600-1820158200@www.dancesoul.com.tw
SUMMARY:兒童MV(ILLIT-opps!)-羿芃
DESCRIPTION:
URL:https://www.dancesoul.com.tw/schedule/%e5%85%92%e7%ab%a5mvizna-sass-%e7%be%bf%e8%8a%83-2-2/2027-09-05/
CATEGORIES:兒童MV,兒童課
END:VEVENT
BEGIN:VEVENT
DTSTART;TZID=Asia/Shanghai:20270911T143000
DTEND;TZID=Asia/Shanghai:20270911T153000
DTSTAMP:20260423T064824
CREATED:20251202T055414Z
LAST-MODIFIED:20260315T072223Z
UID:10027627-1820673000-1820676600@www.dancesoul.com.tw
SUMMARY:兒童MV(IVE - 'BANG BANG')-薇臻
DESCRIPTION:
URL:https://www.dancesoul.com.tw/schedule/%e5%85%92%e7%ab%a5mvbabymonster-hot-sauce-%e8%96%87%e8%87%bb-2/2027-09-11/
CATEGORIES:MV課,兒童MV,課程
END:VEVENT
BEGIN:VEVENT
DTSTART;TZID=Asia/Shanghai:20270912T143000
DTEND;TZID=Asia/Shanghai:20270912T153000
DTSTAMP:20260423T064824
CREATED:20260315T071830Z
LAST-MODIFIED:20260315T071830Z
UID:10029194-1820759400-1820763000@www.dancesoul.com.tw
SUMMARY:兒童MV(ILLIT-opps!)-羿芃
DESCRIPTION:
URL:https://www.dancesoul.com.tw/schedule/%e5%85%92%e7%ab%a5mvizna-sass-%e7%be%bf%e8%8a%83-2-2/2027-09-12/
CATEGORIES:兒童MV,兒童課
END:VEVENT
BEGIN:VEVENT
DTSTART;TZID=Asia/Shanghai:20270918T143000
DTEND;TZID=Asia/Shanghai:20270918T153000
DTSTAMP:20260423T064824
CREATED:20251202T055414Z
LAST-MODIFIED:20260315T072223Z
UID:10027628-1821277800-1821281400@www.dancesoul.com.tw
SUMMARY:兒童MV(IVE - 'BANG BANG')-薇臻
DESCRIPTION:
URL:https://www.dancesoul.com.tw/schedule/%e5%85%92%e7%ab%a5mvbabymonster-hot-sauce-%e8%96%87%e8%87%bb-2/2027-09-18/
CATEGORIES:MV課,兒童MV,課程
END:VEVENT
BEGIN:VEVENT
DTSTART;TZID=Asia/Shanghai:20270919T143000
DTEND;TZID=Asia/Shanghai:20270919T153000
DTSTAMP:20260423T064824
CREATED:20260315T071830Z
LAST-MODIFIED:20260315T071830Z
UID:10029195-1821364200-1821367800@www.dancesoul.com.tw
SUMMARY:兒童MV(ILLIT-opps!)-羿芃
DESCRIPTION:
URL:https://www.dancesoul.com.tw/schedule/%e5%85%92%e7%ab%a5mvizna-sass-%e7%be%bf%e8%8a%83-2-2/2027-09-19/
CATEGORIES:兒童MV,兒童課
END:VEVENT
BEGIN:VEVENT
DTSTART;TZID=Asia/Shanghai:20270925T143000
DTEND;TZID=Asia/Shanghai:20270925T153000
DTSTAMP:20260423T064824
CREATED:20251202T055414Z
LAST-MODIFIED:20260315T072223Z
UID:10027629-1821882600-1821886200@www.dancesoul.com.tw
SUMMARY:兒童MV(IVE - 'BANG BANG')-薇臻
DESCRIPTION:
URL:https://www.dancesoul.com.tw/schedule/%e5%85%92%e7%ab%a5mvbabymonster-hot-sauce-%e8%96%87%e8%87%bb-2/2027-09-25/
CATEGORIES:MV課,兒童MV,課程
END:VEVENT
BEGIN:VEVENT
DTSTART;TZID=Asia/Shanghai:20270926T143000
DTEND;TZID=Asia/Shanghai:20270926T153000
DTSTAMP:20260423T064824
CREATED:20260315T071830Z
LAST-MODIFIED:20260315T071830Z
UID:10029196-1821969000-1821972600@www.dancesoul.com.tw
SUMMARY:兒童MV(ILLIT-opps!)-羿芃
DESCRIPTION:
URL:https://www.dancesoul.com.tw/schedule/%e5%85%92%e7%ab%a5mvizna-sass-%e7%be%bf%e8%8a%83-2-2/2027-09-26/
CATEGORIES:兒童MV,兒童課
END:VEVENT
END:VCALENDAR