BEGIN:VCALENDAR
VERSION:2.0
PRODID:-//DANCE SOUL 舞魂街舞學校 - ECPv6.15.18//NONSGML v1.0//EN
CALSCALE:GREGORIAN
METHOD:PUBLISH
X-WR-CALNAME:DANCE SOUL 舞魂街舞學校
X-ORIGINAL-URL:https://www.dancesoul.com.tw
X-WR-CALDESC:Events for DANCE SOUL 舞魂街舞學校
REFRESH-INTERVAL;VALUE=DURATION:PT1H
X-Robots-Tag:noindex
X-PUBLISHED-TTL:PT1H
BEGIN:VTIMEZONE
TZID:Asia/Shanghai
BEGIN:STANDARD
TZOFFSETFROM:+0800
TZOFFSETTO:+0800
TZNAME:CST
DTSTART:20260101T000000
END:STANDARD
END:VTIMEZONE
BEGIN:VEVENT
DTSTART;TZID=Asia/Shanghai:20271106T143000
DTEND;TZID=Asia/Shanghai:20271106T153000
DTSTAMP:20260423T064041
CREATED:20251202T055414Z
LAST-MODIFIED:20260315T072223Z
UID:10027635-1825511400-1825515000@www.dancesoul.com.tw
SUMMARY:兒童MV(IVE - 'BANG BANG')-薇臻
DESCRIPTION:
URL:https://www.dancesoul.com.tw/schedule/%e5%85%92%e7%ab%a5mvbabymonster-hot-sauce-%e8%96%87%e8%87%bb-2/2027-11-06/
CATEGORIES:MV課,兒童MV,課程
END:VEVENT
BEGIN:VEVENT
DTSTART;TZID=Asia/Shanghai:20271107T143000
DTEND;TZID=Asia/Shanghai:20271107T153000
DTSTAMP:20260423T064041
CREATED:20260315T071830Z
LAST-MODIFIED:20260315T071830Z
UID:10029202-1825597800-1825601400@www.dancesoul.com.tw
SUMMARY:兒童MV(ILLIT-opps!)-羿芃
DESCRIPTION:
URL:https://www.dancesoul.com.tw/schedule/%e5%85%92%e7%ab%a5mvizna-sass-%e7%be%bf%e8%8a%83-2-2/2027-11-07/
CATEGORIES:兒童MV,兒童課
END:VEVENT
BEGIN:VEVENT
DTSTART;TZID=Asia/Shanghai:20271113T143000
DTEND;TZID=Asia/Shanghai:20271113T153000
DTSTAMP:20260423T064041
CREATED:20251202T055414Z
LAST-MODIFIED:20260315T072223Z
UID:10027636-1826116200-1826119800@www.dancesoul.com.tw
SUMMARY:兒童MV(IVE - 'BANG BANG')-薇臻
DESCRIPTION:
URL:https://www.dancesoul.com.tw/schedule/%e5%85%92%e7%ab%a5mvbabymonster-hot-sauce-%e8%96%87%e8%87%bb-2/2027-11-13/
CATEGORIES:MV課,兒童MV,課程
END:VEVENT
BEGIN:VEVENT
DTSTART;TZID=Asia/Shanghai:20271114T143000
DTEND;TZID=Asia/Shanghai:20271114T153000
DTSTAMP:20260423T064041
CREATED:20260315T071830Z
LAST-MODIFIED:20260315T071830Z
UID:10029203-1826202600-1826206200@www.dancesoul.com.tw
SUMMARY:兒童MV(ILLIT-opps!)-羿芃
DESCRIPTION:
URL:https://www.dancesoul.com.tw/schedule/%e5%85%92%e7%ab%a5mvizna-sass-%e7%be%bf%e8%8a%83-2-2/2027-11-14/
CATEGORIES:兒童MV,兒童課
END:VEVENT
BEGIN:VEVENT
DTSTART;TZID=Asia/Shanghai:20271120T143000
DTEND;TZID=Asia/Shanghai:20271120T153000
DTSTAMP:20260423T064041
CREATED:20251202T055414Z
LAST-MODIFIED:20260315T072223Z
UID:10027637-1826721000-1826724600@www.dancesoul.com.tw
SUMMARY:兒童MV(IVE - 'BANG BANG')-薇臻
DESCRIPTION:
URL:https://www.dancesoul.com.tw/schedule/%e5%85%92%e7%ab%a5mvbabymonster-hot-sauce-%e8%96%87%e8%87%bb-2/2027-11-20/
CATEGORIES:MV課,兒童MV,課程
END:VEVENT
BEGIN:VEVENT
DTSTART;TZID=Asia/Shanghai:20271121T143000
DTEND;TZID=Asia/Shanghai:20271121T153000
DTSTAMP:20260423T064041
CREATED:20260315T071830Z
LAST-MODIFIED:20260315T071830Z
UID:10029204-1826807400-1826811000@www.dancesoul.com.tw
SUMMARY:兒童MV(ILLIT-opps!)-羿芃
DESCRIPTION:
URL:https://www.dancesoul.com.tw/schedule/%e5%85%92%e7%ab%a5mvizna-sass-%e7%be%bf%e8%8a%83-2-2/2027-11-21/
CATEGORIES:兒童MV,兒童課
END:VEVENT
BEGIN:VEVENT
DTSTART;TZID=Asia/Shanghai:20271127T143000
DTEND;TZID=Asia/Shanghai:20271127T153000
DTSTAMP:20260423T064041
CREATED:20251202T055414Z
LAST-MODIFIED:20260315T072223Z
UID:10027638-1827325800-1827329400@www.dancesoul.com.tw
SUMMARY:兒童MV(IVE - 'BANG BANG')-薇臻
DESCRIPTION:
URL:https://www.dancesoul.com.tw/schedule/%e5%85%92%e7%ab%a5mvbabymonster-hot-sauce-%e8%96%87%e8%87%bb-2/2027-11-27/
CATEGORIES:MV課,兒童MV,課程
END:VEVENT
BEGIN:VEVENT
DTSTART;TZID=Asia/Shanghai:20271128T143000
DTEND;TZID=Asia/Shanghai:20271128T153000
DTSTAMP:20260423T064041
CREATED:20260315T071830Z
LAST-MODIFIED:20260315T071830Z
UID:10029205-1827412200-1827415800@www.dancesoul.com.tw
SUMMARY:兒童MV(ILLIT-opps!)-羿芃
DESCRIPTION:
URL:https://www.dancesoul.com.tw/schedule/%e5%85%92%e7%ab%a5mvizna-sass-%e7%be%bf%e8%8a%83-2-2/2027-11-28/
CATEGORIES:兒童MV,兒童課
END:VEVENT
BEGIN:VEVENT
DTSTART;TZID=Asia/Shanghai:20271204T143000
DTEND;TZID=Asia/Shanghai:20271204T153000
DTSTAMP:20260423T064041
CREATED:20251202T055414Z
LAST-MODIFIED:20260315T072223Z
UID:10027639-1827930600-1827934200@www.dancesoul.com.tw
SUMMARY:兒童MV(IVE - 'BANG BANG')-薇臻
DESCRIPTION:
URL:https://www.dancesoul.com.tw/schedule/%e5%85%92%e7%ab%a5mvbabymonster-hot-sauce-%e8%96%87%e8%87%bb-2/2027-12-04/
CATEGORIES:MV課,兒童MV,課程
END:VEVENT
BEGIN:VEVENT
DTSTART;TZID=Asia/Shanghai:20271205T143000
DTEND;TZID=Asia/Shanghai:20271205T153000
DTSTAMP:20260423T064041
CREATED:20260315T071830Z
LAST-MODIFIED:20260315T071830Z
UID:10029206-1828017000-1828020600@www.dancesoul.com.tw
SUMMARY:兒童MV(ILLIT-opps!)-羿芃
DESCRIPTION:
URL:https://www.dancesoul.com.tw/schedule/%e5%85%92%e7%ab%a5mvizna-sass-%e7%be%bf%e8%8a%83-2-2/2027-12-05/
CATEGORIES:兒童MV,兒童課
END:VEVENT
BEGIN:VEVENT
DTSTART;TZID=Asia/Shanghai:20271211T143000
DTEND;TZID=Asia/Shanghai:20271211T153000
DTSTAMP:20260423T064041
CREATED:20251202T055414Z
LAST-MODIFIED:20260315T072223Z
UID:10027640-1828535400-1828539000@www.dancesoul.com.tw
SUMMARY:兒童MV(IVE - 'BANG BANG')-薇臻
DESCRIPTION:
URL:https://www.dancesoul.com.tw/schedule/%e5%85%92%e7%ab%a5mvbabymonster-hot-sauce-%e8%96%87%e8%87%bb-2/2027-12-11/
CATEGORIES:MV課,兒童MV,課程
END:VEVENT
BEGIN:VEVENT
DTSTART;TZID=Asia/Shanghai:20271212T143000
DTEND;TZID=Asia/Shanghai:20271212T153000
DTSTAMP:20260423T064041
CREATED:20260315T071830Z
LAST-MODIFIED:20260315T071830Z
UID:10029207-1828621800-1828625400@www.dancesoul.com.tw
SUMMARY:兒童MV(ILLIT-opps!)-羿芃
DESCRIPTION:
URL:https://www.dancesoul.com.tw/schedule/%e5%85%92%e7%ab%a5mvizna-sass-%e7%be%bf%e8%8a%83-2-2/2027-12-12/
CATEGORIES:兒童MV,兒童課
END:VEVENT
BEGIN:VEVENT
DTSTART;TZID=Asia/Shanghai:20271218T143000
DTEND;TZID=Asia/Shanghai:20271218T153000
DTSTAMP:20260423T064041
CREATED:20251202T055414Z
LAST-MODIFIED:20260315T072223Z
UID:10027641-1829140200-1829143800@www.dancesoul.com.tw
SUMMARY:兒童MV(IVE - 'BANG BANG')-薇臻
DESCRIPTION:
URL:https://www.dancesoul.com.tw/schedule/%e5%85%92%e7%ab%a5mvbabymonster-hot-sauce-%e8%96%87%e8%87%bb-2/2027-12-18/
CATEGORIES:MV課,兒童MV,課程
END:VEVENT
BEGIN:VEVENT
DTSTART;TZID=Asia/Shanghai:20271219T143000
DTEND;TZID=Asia/Shanghai:20271219T153000
DTSTAMP:20260423T064041
CREATED:20260315T071830Z
LAST-MODIFIED:20260315T071830Z
UID:10029208-1829226600-1829230200@www.dancesoul.com.tw
SUMMARY:兒童MV(ILLIT-opps!)-羿芃
DESCRIPTION:
URL:https://www.dancesoul.com.tw/schedule/%e5%85%92%e7%ab%a5mvizna-sass-%e7%be%bf%e8%8a%83-2-2/2027-12-19/
CATEGORIES:兒童MV,兒童課
END:VEVENT
BEGIN:VEVENT
DTSTART;TZID=Asia/Shanghai:20271225T143000
DTEND;TZID=Asia/Shanghai:20271225T153000
DTSTAMP:20260423T064041
CREATED:20251202T055414Z
LAST-MODIFIED:20260315T072223Z
UID:10027642-1829745000-1829748600@www.dancesoul.com.tw
SUMMARY:兒童MV(IVE - 'BANG BANG')-薇臻
DESCRIPTION:
URL:https://www.dancesoul.com.tw/schedule/%e5%85%92%e7%ab%a5mvbabymonster-hot-sauce-%e8%96%87%e8%87%bb-2/2027-12-25/
CATEGORIES:MV課,兒童MV,課程
END:VEVENT
BEGIN:VEVENT
DTSTART;TZID=Asia/Shanghai:20271226T143000
DTEND;TZID=Asia/Shanghai:20271226T153000
DTSTAMP:20260423T064041
CREATED:20260315T071830Z
LAST-MODIFIED:20260315T071830Z
UID:10029209-1829831400-1829835000@www.dancesoul.com.tw
SUMMARY:兒童MV(ILLIT-opps!)-羿芃
DESCRIPTION:
URL:https://www.dancesoul.com.tw/schedule/%e5%85%92%e7%ab%a5mvizna-sass-%e7%be%bf%e8%8a%83-2-2/2027-12-26/
CATEGORIES:兒童MV,兒童課
END:VEVENT
BEGIN:VEVENT
DTSTART;TZID=Asia/Shanghai:20280101T143000
DTEND;TZID=Asia/Shanghai:20280101T153000
DTSTAMP:20260423T064041
CREATED:20251202T055414Z
LAST-MODIFIED:20260315T072223Z
UID:10027643-1830349800-1830353400@www.dancesoul.com.tw
SUMMARY:兒童MV(IVE - 'BANG BANG')-薇臻
DESCRIPTION:
URL:https://www.dancesoul.com.tw/schedule/%e5%85%92%e7%ab%a5mvbabymonster-hot-sauce-%e8%96%87%e8%87%bb-2/2028-01-01/
CATEGORIES:MV課,兒童MV,課程
END:VEVENT
BEGIN:VEVENT
DTSTART;TZID=Asia/Shanghai:20280102T143000
DTEND;TZID=Asia/Shanghai:20280102T153000
DTSTAMP:20260423T064041
CREATED:20260315T071830Z
LAST-MODIFIED:20260315T071830Z
UID:10029210-1830436200-1830439800@www.dancesoul.com.tw
SUMMARY:兒童MV(ILLIT-opps!)-羿芃
DESCRIPTION:
URL:https://www.dancesoul.com.tw/schedule/%e5%85%92%e7%ab%a5mvizna-sass-%e7%be%bf%e8%8a%83-2-2/2028-01-02/
CATEGORIES:兒童MV,兒童課
END:VEVENT
BEGIN:VEVENT
DTSTART;TZID=Asia/Shanghai:20280108T143000
DTEND;TZID=Asia/Shanghai:20280108T153000
DTSTAMP:20260423T064041
CREATED:20251202T055414Z
LAST-MODIFIED:20260315T072223Z
UID:10027644-1830954600-1830958200@www.dancesoul.com.tw
SUMMARY:兒童MV(IVE - 'BANG BANG')-薇臻
DESCRIPTION:
URL:https://www.dancesoul.com.tw/schedule/%e5%85%92%e7%ab%a5mvbabymonster-hot-sauce-%e8%96%87%e8%87%bb-2/2028-01-08/
CATEGORIES:MV課,兒童MV,課程
END:VEVENT
BEGIN:VEVENT
DTSTART;TZID=Asia/Shanghai:20280109T143000
DTEND;TZID=Asia/Shanghai:20280109T153000
DTSTAMP:20260423T064041
CREATED:20260315T071830Z
LAST-MODIFIED:20260315T071830Z
UID:10029211-1831041000-1831044600@www.dancesoul.com.tw
SUMMARY:兒童MV(ILLIT-opps!)-羿芃
DESCRIPTION:
URL:https://www.dancesoul.com.tw/schedule/%e5%85%92%e7%ab%a5mvizna-sass-%e7%be%bf%e8%8a%83-2-2/2028-01-09/
CATEGORIES:兒童MV,兒童課
END:VEVENT
BEGIN:VEVENT
DTSTART;TZID=Asia/Shanghai:20280115T143000
DTEND;TZID=Asia/Shanghai:20280115T153000
DTSTAMP:20260423T064041
CREATED:20251202T055414Z
LAST-MODIFIED:20260315T072223Z
UID:10027645-1831559400-1831563000@www.dancesoul.com.tw
SUMMARY:兒童MV(IVE - 'BANG BANG')-薇臻
DESCRIPTION:
URL:https://www.dancesoul.com.tw/schedule/%e5%85%92%e7%ab%a5mvbabymonster-hot-sauce-%e8%96%87%e8%87%bb-2/2028-01-15/
CATEGORIES:MV課,兒童MV,課程
END:VEVENT
BEGIN:VEVENT
DTSTART;TZID=Asia/Shanghai:20280116T143000
DTEND;TZID=Asia/Shanghai:20280116T153000
DTSTAMP:20260423T064041
CREATED:20260315T071830Z
LAST-MODIFIED:20260315T071830Z
UID:10029212-1831645800-1831649400@www.dancesoul.com.tw
SUMMARY:兒童MV(ILLIT-opps!)-羿芃
DESCRIPTION:
URL:https://www.dancesoul.com.tw/schedule/%e5%85%92%e7%ab%a5mvizna-sass-%e7%be%bf%e8%8a%83-2-2/2028-01-16/
CATEGORIES:兒童MV,兒童課
END:VEVENT
BEGIN:VEVENT
DTSTART;TZID=Asia/Shanghai:20280122T143000
DTEND;TZID=Asia/Shanghai:20280122T153000
DTSTAMP:20260423T064041
CREATED:20251202T055414Z
LAST-MODIFIED:20260315T072223Z
UID:10027646-1832164200-1832167800@www.dancesoul.com.tw
SUMMARY:兒童MV(IVE - 'BANG BANG')-薇臻
DESCRIPTION:
URL:https://www.dancesoul.com.tw/schedule/%e5%85%92%e7%ab%a5mvbabymonster-hot-sauce-%e8%96%87%e8%87%bb-2/2028-01-22/
CATEGORIES:MV課,兒童MV,課程
END:VEVENT
BEGIN:VEVENT
DTSTART;TZID=Asia/Shanghai:20280123T143000
DTEND;TZID=Asia/Shanghai:20280123T153000
DTSTAMP:20260423T064041
CREATED:20260315T071830Z
LAST-MODIFIED:20260315T071830Z
UID:10029213-1832250600-1832254200@www.dancesoul.com.tw
SUMMARY:兒童MV(ILLIT-opps!)-羿芃
DESCRIPTION:
URL:https://www.dancesoul.com.tw/schedule/%e5%85%92%e7%ab%a5mvizna-sass-%e7%be%bf%e8%8a%83-2-2/2028-01-23/
CATEGORIES:兒童MV,兒童課
END:VEVENT
BEGIN:VEVENT
DTSTART;TZID=Asia/Shanghai:20280129T143000
DTEND;TZID=Asia/Shanghai:20280129T153000
DTSTAMP:20260423T064041
CREATED:20251202T055414Z
LAST-MODIFIED:20260315T072223Z
UID:10027647-1832769000-1832772600@www.dancesoul.com.tw
SUMMARY:兒童MV(IVE - 'BANG BANG')-薇臻
DESCRIPTION:
URL:https://www.dancesoul.com.tw/schedule/%e5%85%92%e7%ab%a5mvbabymonster-hot-sauce-%e8%96%87%e8%87%bb-2/2028-01-29/
CATEGORIES:MV課,兒童MV,課程
END:VEVENT
BEGIN:VEVENT
DTSTART;TZID=Asia/Shanghai:20280130T143000
DTEND;TZID=Asia/Shanghai:20280130T153000
DTSTAMP:20260423T064041
CREATED:20260315T071830Z
LAST-MODIFIED:20260315T071830Z
UID:10029214-1832855400-1832859000@www.dancesoul.com.tw
SUMMARY:兒童MV(ILLIT-opps!)-羿芃
DESCRIPTION:
URL:https://www.dancesoul.com.tw/schedule/%e5%85%92%e7%ab%a5mvizna-sass-%e7%be%bf%e8%8a%83-2-2/2028-01-30/
CATEGORIES:兒童MV,兒童課
END:VEVENT
BEGIN:VEVENT
DTSTART;TZID=Asia/Shanghai:20280205T143000
DTEND;TZID=Asia/Shanghai:20280205T153000
DTSTAMP:20260423T064041
CREATED:20251202T055414Z
LAST-MODIFIED:20260315T072223Z
UID:10027648-1833373800-1833377400@www.dancesoul.com.tw
SUMMARY:兒童MV(IVE - 'BANG BANG')-薇臻
DESCRIPTION:
URL:https://www.dancesoul.com.tw/schedule/%e5%85%92%e7%ab%a5mvbabymonster-hot-sauce-%e8%96%87%e8%87%bb-2/2028-02-05/
CATEGORIES:MV課,兒童MV,課程
END:VEVENT
BEGIN:VEVENT
DTSTART;TZID=Asia/Shanghai:20280206T143000
DTEND;TZID=Asia/Shanghai:20280206T153000
DTSTAMP:20260423T064041
CREATED:20260315T071830Z
LAST-MODIFIED:20260315T071830Z
UID:10029215-1833460200-1833463800@www.dancesoul.com.tw
SUMMARY:兒童MV(ILLIT-opps!)-羿芃
DESCRIPTION:
URL:https://www.dancesoul.com.tw/schedule/%e5%85%92%e7%ab%a5mvizna-sass-%e7%be%bf%e8%8a%83-2-2/2028-02-06/
CATEGORIES:兒童MV,兒童課
END:VEVENT
BEGIN:VEVENT
DTSTART;TZID=Asia/Shanghai:20280212T143000
DTEND;TZID=Asia/Shanghai:20280212T153000
DTSTAMP:20260423T064041
CREATED:20251202T055414Z
LAST-MODIFIED:20260315T072223Z
UID:10027649-1833978600-1833982200@www.dancesoul.com.tw
SUMMARY:兒童MV(IVE - 'BANG BANG')-薇臻
DESCRIPTION:
URL:https://www.dancesoul.com.tw/schedule/%e5%85%92%e7%ab%a5mvbabymonster-hot-sauce-%e8%96%87%e8%87%bb-2/2028-02-12/
CATEGORIES:MV課,兒童MV,課程
END:VEVENT
BEGIN:VEVENT
DTSTART;TZID=Asia/Shanghai:20280213T143000
DTEND;TZID=Asia/Shanghai:20280213T153000
DTSTAMP:20260423T064041
CREATED:20260315T071830Z
LAST-MODIFIED:20260315T071830Z
UID:10029216-1834065000-1834068600@www.dancesoul.com.tw
SUMMARY:兒童MV(ILLIT-opps!)-羿芃
DESCRIPTION:
URL:https://www.dancesoul.com.tw/schedule/%e5%85%92%e7%ab%a5mvizna-sass-%e7%be%bf%e8%8a%83-2-2/2028-02-13/
CATEGORIES:兒童MV,兒童課
END:VEVENT
END:VCALENDAR