BEGIN:VCALENDAR
VERSION:2.0
PRODID:-//DANCE SOUL 舞魂街舞學校 - ECPv6.15.18//NONSGML v1.0//EN
CALSCALE:GREGORIAN
METHOD:PUBLISH
X-WR-CALNAME:DANCE SOUL 舞魂街舞學校
X-ORIGINAL-URL:https://www.dancesoul.com.tw
X-WR-CALDESC:Events for DANCE SOUL 舞魂街舞學校
REFRESH-INTERVAL;VALUE=DURATION:PT1H
X-Robots-Tag:noindex
X-PUBLISHED-TTL:PT1H
BEGIN:VTIMEZONE
TZID:Asia/Shanghai
BEGIN:STANDARD
TZOFFSETFROM:+0800
TZOFFSETTO:+0800
TZNAME:CST
DTSTART:20250101T000000
END:STANDARD
END:VTIMEZONE
BEGIN:VEVENT
DTSTART;TZID=Asia/Shanghai:20260425T143000
DTEND;TZID=Asia/Shanghai:20260425T153000
DTSTAMP:20260421T035822
CREATED:20251202T055414Z
LAST-MODIFIED:20260315T072223Z
UID:10027555-1777127400-1777131000@www.dancesoul.com.tw
SUMMARY:兒童MV(IVE - 'BANG BANG')-薇臻
DESCRIPTION:
URL:https://www.dancesoul.com.tw/schedule/%e5%85%92%e7%ab%a5mvbabymonster-hot-sauce-%e8%96%87%e8%87%bb-2/2026-04-25/
CATEGORIES:MV課,兒童MV,課程
END:VEVENT
BEGIN:VEVENT
DTSTART;TZID=Asia/Shanghai:20260426T143000
DTEND;TZID=Asia/Shanghai:20260426T153000
DTSTAMP:20260421T035822
CREATED:20260315T071830Z
LAST-MODIFIED:20260315T071830Z
UID:10029122-1777213800-1777217400@www.dancesoul.com.tw
SUMMARY:兒童MV(ILLIT-opps!)-羿芃
DESCRIPTION:
URL:https://www.dancesoul.com.tw/schedule/%e5%85%92%e7%ab%a5mvizna-sass-%e7%be%bf%e8%8a%83-2-2/2026-04-26/
CATEGORIES:兒童MV,兒童課
END:VEVENT
BEGIN:VEVENT
DTSTART;TZID=Asia/Shanghai:20260502T143000
DTEND;TZID=Asia/Shanghai:20260502T153000
DTSTAMP:20260421T035822
CREATED:20251202T055414Z
LAST-MODIFIED:20260315T072223Z
UID:10027556-1777732200-1777735800@www.dancesoul.com.tw
SUMMARY:兒童MV(IVE - 'BANG BANG')-薇臻
DESCRIPTION:
URL:https://www.dancesoul.com.tw/schedule/%e5%85%92%e7%ab%a5mvbabymonster-hot-sauce-%e8%96%87%e8%87%bb-2/2026-05-02/
CATEGORIES:MV課,兒童MV,課程
END:VEVENT
BEGIN:VEVENT
DTSTART;TZID=Asia/Shanghai:20260503T143000
DTEND;TZID=Asia/Shanghai:20260503T153000
DTSTAMP:20260421T035822
CREATED:20260315T071830Z
LAST-MODIFIED:20260315T071830Z
UID:10029123-1777818600-1777822200@www.dancesoul.com.tw
SUMMARY:兒童MV(ILLIT-opps!)-羿芃
DESCRIPTION:
URL:https://www.dancesoul.com.tw/schedule/%e5%85%92%e7%ab%a5mvizna-sass-%e7%be%bf%e8%8a%83-2-2/2026-05-03/
CATEGORIES:兒童MV,兒童課
END:VEVENT
BEGIN:VEVENT
DTSTART;TZID=Asia/Shanghai:20260509T143000
DTEND;TZID=Asia/Shanghai:20260509T153000
DTSTAMP:20260421T035822
CREATED:20251202T055414Z
LAST-MODIFIED:20260315T072223Z
UID:10027557-1778337000-1778340600@www.dancesoul.com.tw
SUMMARY:兒童MV(IVE - 'BANG BANG')-薇臻
DESCRIPTION:
URL:https://www.dancesoul.com.tw/schedule/%e5%85%92%e7%ab%a5mvbabymonster-hot-sauce-%e8%96%87%e8%87%bb-2/2026-05-09/
CATEGORIES:MV課,兒童MV,課程
END:VEVENT
BEGIN:VEVENT
DTSTART;TZID=Asia/Shanghai:20260510T143000
DTEND;TZID=Asia/Shanghai:20260510T153000
DTSTAMP:20260421T035822
CREATED:20260315T071830Z
LAST-MODIFIED:20260315T071830Z
UID:10029124-1778423400-1778427000@www.dancesoul.com.tw
SUMMARY:兒童MV(ILLIT-opps!)-羿芃
DESCRIPTION:
URL:https://www.dancesoul.com.tw/schedule/%e5%85%92%e7%ab%a5mvizna-sass-%e7%be%bf%e8%8a%83-2-2/2026-05-10/
CATEGORIES:兒童MV,兒童課
END:VEVENT
BEGIN:VEVENT
DTSTART;TZID=Asia/Shanghai:20260516T143000
DTEND;TZID=Asia/Shanghai:20260516T153000
DTSTAMP:20260421T035822
CREATED:20251202T055414Z
LAST-MODIFIED:20260315T072223Z
UID:10027558-1778941800-1778945400@www.dancesoul.com.tw
SUMMARY:兒童MV(IVE - 'BANG BANG')-薇臻
DESCRIPTION:
URL:https://www.dancesoul.com.tw/schedule/%e5%85%92%e7%ab%a5mvbabymonster-hot-sauce-%e8%96%87%e8%87%bb-2/2026-05-16/
CATEGORIES:MV課,兒童MV,課程
END:VEVENT
BEGIN:VEVENT
DTSTART;TZID=Asia/Shanghai:20260517T143000
DTEND;TZID=Asia/Shanghai:20260517T153000
DTSTAMP:20260421T035822
CREATED:20260315T071830Z
LAST-MODIFIED:20260315T071830Z
UID:10029125-1779028200-1779031800@www.dancesoul.com.tw
SUMMARY:兒童MV(ILLIT-opps!)-羿芃
DESCRIPTION:
URL:https://www.dancesoul.com.tw/schedule/%e5%85%92%e7%ab%a5mvizna-sass-%e7%be%bf%e8%8a%83-2-2/2026-05-17/
CATEGORIES:兒童MV,兒童課
END:VEVENT
BEGIN:VEVENT
DTSTART;TZID=Asia/Shanghai:20260523T143000
DTEND;TZID=Asia/Shanghai:20260523T153000
DTSTAMP:20260421T035822
CREATED:20251202T055414Z
LAST-MODIFIED:20260315T072223Z
UID:10027559-1779546600-1779550200@www.dancesoul.com.tw
SUMMARY:兒童MV(IVE - 'BANG BANG')-薇臻
DESCRIPTION:
URL:https://www.dancesoul.com.tw/schedule/%e5%85%92%e7%ab%a5mvbabymonster-hot-sauce-%e8%96%87%e8%87%bb-2/2026-05-23/
CATEGORIES:MV課,兒童MV,課程
END:VEVENT
BEGIN:VEVENT
DTSTART;TZID=Asia/Shanghai:20260524T143000
DTEND;TZID=Asia/Shanghai:20260524T153000
DTSTAMP:20260421T035822
CREATED:20260315T071830Z
LAST-MODIFIED:20260315T071830Z
UID:10029126-1779633000-1779636600@www.dancesoul.com.tw
SUMMARY:兒童MV(ILLIT-opps!)-羿芃
DESCRIPTION:
URL:https://www.dancesoul.com.tw/schedule/%e5%85%92%e7%ab%a5mvizna-sass-%e7%be%bf%e8%8a%83-2-2/2026-05-24/
CATEGORIES:兒童MV,兒童課
END:VEVENT
BEGIN:VEVENT
DTSTART;TZID=Asia/Shanghai:20260530T143000
DTEND;TZID=Asia/Shanghai:20260530T153000
DTSTAMP:20260421T035822
CREATED:20251202T055414Z
LAST-MODIFIED:20260315T072223Z
UID:10027560-1780151400-1780155000@www.dancesoul.com.tw
SUMMARY:兒童MV(IVE - 'BANG BANG')-薇臻
DESCRIPTION:
URL:https://www.dancesoul.com.tw/schedule/%e5%85%92%e7%ab%a5mvbabymonster-hot-sauce-%e8%96%87%e8%87%bb-2/2026-05-30/
CATEGORIES:MV課,兒童MV,課程
END:VEVENT
BEGIN:VEVENT
DTSTART;TZID=Asia/Shanghai:20260531T143000
DTEND;TZID=Asia/Shanghai:20260531T153000
DTSTAMP:20260421T035822
CREATED:20260315T071830Z
LAST-MODIFIED:20260315T071830Z
UID:10029127-1780237800-1780241400@www.dancesoul.com.tw
SUMMARY:兒童MV(ILLIT-opps!)-羿芃
DESCRIPTION:
URL:https://www.dancesoul.com.tw/schedule/%e5%85%92%e7%ab%a5mvizna-sass-%e7%be%bf%e8%8a%83-2-2/2026-05-31/
CATEGORIES:兒童MV,兒童課
END:VEVENT
BEGIN:VEVENT
DTSTART;TZID=Asia/Shanghai:20260606T143000
DTEND;TZID=Asia/Shanghai:20260606T153000
DTSTAMP:20260421T035822
CREATED:20251202T055414Z
LAST-MODIFIED:20260315T072223Z
UID:10027561-1780756200-1780759800@www.dancesoul.com.tw
SUMMARY:兒童MV(IVE - 'BANG BANG')-薇臻
DESCRIPTION:
URL:https://www.dancesoul.com.tw/schedule/%e5%85%92%e7%ab%a5mvbabymonster-hot-sauce-%e8%96%87%e8%87%bb-2/2026-06-06/
CATEGORIES:MV課,兒童MV,課程
END:VEVENT
BEGIN:VEVENT
DTSTART;TZID=Asia/Shanghai:20260607T143000
DTEND;TZID=Asia/Shanghai:20260607T153000
DTSTAMP:20260421T035822
CREATED:20260315T071830Z
LAST-MODIFIED:20260315T071830Z
UID:10029128-1780842600-1780846200@www.dancesoul.com.tw
SUMMARY:兒童MV(ILLIT-opps!)-羿芃
DESCRIPTION:
URL:https://www.dancesoul.com.tw/schedule/%e5%85%92%e7%ab%a5mvizna-sass-%e7%be%bf%e8%8a%83-2-2/2026-06-07/
CATEGORIES:兒童MV,兒童課
END:VEVENT
BEGIN:VEVENT
DTSTART;TZID=Asia/Shanghai:20260613T143000
DTEND;TZID=Asia/Shanghai:20260613T153000
DTSTAMP:20260421T035822
CREATED:20251202T055414Z
LAST-MODIFIED:20260315T072223Z
UID:10027562-1781361000-1781364600@www.dancesoul.com.tw
SUMMARY:兒童MV(IVE - 'BANG BANG')-薇臻
DESCRIPTION:
URL:https://www.dancesoul.com.tw/schedule/%e5%85%92%e7%ab%a5mvbabymonster-hot-sauce-%e8%96%87%e8%87%bb-2/2026-06-13/
CATEGORIES:MV課,兒童MV,課程
END:VEVENT
BEGIN:VEVENT
DTSTART;TZID=Asia/Shanghai:20260614T143000
DTEND;TZID=Asia/Shanghai:20260614T153000
DTSTAMP:20260421T035822
CREATED:20260315T071830Z
LAST-MODIFIED:20260315T071830Z
UID:10029129-1781447400-1781451000@www.dancesoul.com.tw
SUMMARY:兒童MV(ILLIT-opps!)-羿芃
DESCRIPTION:
URL:https://www.dancesoul.com.tw/schedule/%e5%85%92%e7%ab%a5mvizna-sass-%e7%be%bf%e8%8a%83-2-2/2026-06-14/
CATEGORIES:兒童MV,兒童課
END:VEVENT
BEGIN:VEVENT
DTSTART;TZID=Asia/Shanghai:20260620T143000
DTEND;TZID=Asia/Shanghai:20260620T153000
DTSTAMP:20260421T035822
CREATED:20251202T055414Z
LAST-MODIFIED:20260315T072223Z
UID:10027563-1781965800-1781969400@www.dancesoul.com.tw
SUMMARY:兒童MV(IVE - 'BANG BANG')-薇臻
DESCRIPTION:
URL:https://www.dancesoul.com.tw/schedule/%e5%85%92%e7%ab%a5mvbabymonster-hot-sauce-%e8%96%87%e8%87%bb-2/2026-06-20/
CATEGORIES:MV課,兒童MV,課程
END:VEVENT
BEGIN:VEVENT
DTSTART;TZID=Asia/Shanghai:20260621T143000
DTEND;TZID=Asia/Shanghai:20260621T153000
DTSTAMP:20260421T035822
CREATED:20260315T071830Z
LAST-MODIFIED:20260315T071830Z
UID:10029130-1782052200-1782055800@www.dancesoul.com.tw
SUMMARY:兒童MV(ILLIT-opps!)-羿芃
DESCRIPTION:
URL:https://www.dancesoul.com.tw/schedule/%e5%85%92%e7%ab%a5mvizna-sass-%e7%be%bf%e8%8a%83-2-2/2026-06-21/
CATEGORIES:兒童MV,兒童課
END:VEVENT
BEGIN:VEVENT
DTSTART;TZID=Asia/Shanghai:20260627T143000
DTEND;TZID=Asia/Shanghai:20260627T153000
DTSTAMP:20260421T035822
CREATED:20251202T055414Z
LAST-MODIFIED:20260315T072223Z
UID:10027564-1782570600-1782574200@www.dancesoul.com.tw
SUMMARY:兒童MV(IVE - 'BANG BANG')-薇臻
DESCRIPTION:
URL:https://www.dancesoul.com.tw/schedule/%e5%85%92%e7%ab%a5mvbabymonster-hot-sauce-%e8%96%87%e8%87%bb-2/2026-06-27/
CATEGORIES:MV課,兒童MV,課程
END:VEVENT
BEGIN:VEVENT
DTSTART;TZID=Asia/Shanghai:20260628T143000
DTEND;TZID=Asia/Shanghai:20260628T153000
DTSTAMP:20260421T035822
CREATED:20260315T071830Z
LAST-MODIFIED:20260315T071830Z
UID:10029131-1782657000-1782660600@www.dancesoul.com.tw
SUMMARY:兒童MV(ILLIT-opps!)-羿芃
DESCRIPTION:
URL:https://www.dancesoul.com.tw/schedule/%e5%85%92%e7%ab%a5mvizna-sass-%e7%be%bf%e8%8a%83-2-2/2026-06-28/
CATEGORIES:兒童MV,兒童課
END:VEVENT
BEGIN:VEVENT
DTSTART;TZID=Asia/Shanghai:20260704T143000
DTEND;TZID=Asia/Shanghai:20260704T153000
DTSTAMP:20260421T035822
CREATED:20251202T055414Z
LAST-MODIFIED:20260315T072223Z
UID:10027565-1783175400-1783179000@www.dancesoul.com.tw
SUMMARY:兒童MV(IVE - 'BANG BANG')-薇臻
DESCRIPTION:
URL:https://www.dancesoul.com.tw/schedule/%e5%85%92%e7%ab%a5mvbabymonster-hot-sauce-%e8%96%87%e8%87%bb-2/2026-07-04/
CATEGORIES:MV課,兒童MV,課程
END:VEVENT
BEGIN:VEVENT
DTSTART;TZID=Asia/Shanghai:20260705T143000
DTEND;TZID=Asia/Shanghai:20260705T153000
DTSTAMP:20260421T035822
CREATED:20260315T071830Z
LAST-MODIFIED:20260315T071830Z
UID:10029132-1783261800-1783265400@www.dancesoul.com.tw
SUMMARY:兒童MV(ILLIT-opps!)-羿芃
DESCRIPTION:
URL:https://www.dancesoul.com.tw/schedule/%e5%85%92%e7%ab%a5mvizna-sass-%e7%be%bf%e8%8a%83-2-2/2026-07-05/
CATEGORIES:兒童MV,兒童課
END:VEVENT
BEGIN:VEVENT
DTSTART;TZID=Asia/Shanghai:20260711T143000
DTEND;TZID=Asia/Shanghai:20260711T153000
DTSTAMP:20260421T035822
CREATED:20251202T055414Z
LAST-MODIFIED:20260315T072223Z
UID:10027566-1783780200-1783783800@www.dancesoul.com.tw
SUMMARY:兒童MV(IVE - 'BANG BANG')-薇臻
DESCRIPTION:
URL:https://www.dancesoul.com.tw/schedule/%e5%85%92%e7%ab%a5mvbabymonster-hot-sauce-%e8%96%87%e8%87%bb-2/2026-07-11/
CATEGORIES:MV課,兒童MV,課程
END:VEVENT
BEGIN:VEVENT
DTSTART;TZID=Asia/Shanghai:20260712T143000
DTEND;TZID=Asia/Shanghai:20260712T153000
DTSTAMP:20260421T035822
CREATED:20260315T071830Z
LAST-MODIFIED:20260315T071830Z
UID:10029133-1783866600-1783870200@www.dancesoul.com.tw
SUMMARY:兒童MV(ILLIT-opps!)-羿芃
DESCRIPTION:
URL:https://www.dancesoul.com.tw/schedule/%e5%85%92%e7%ab%a5mvizna-sass-%e7%be%bf%e8%8a%83-2-2/2026-07-12/
CATEGORIES:兒童MV,兒童課
END:VEVENT
BEGIN:VEVENT
DTSTART;TZID=Asia/Shanghai:20260718T143000
DTEND;TZID=Asia/Shanghai:20260718T153000
DTSTAMP:20260421T035822
CREATED:20251202T055414Z
LAST-MODIFIED:20260315T072223Z
UID:10027567-1784385000-1784388600@www.dancesoul.com.tw
SUMMARY:兒童MV(IVE - 'BANG BANG')-薇臻
DESCRIPTION:
URL:https://www.dancesoul.com.tw/schedule/%e5%85%92%e7%ab%a5mvbabymonster-hot-sauce-%e8%96%87%e8%87%bb-2/2026-07-18/
CATEGORIES:MV課,兒童MV,課程
END:VEVENT
BEGIN:VEVENT
DTSTART;TZID=Asia/Shanghai:20260719T143000
DTEND;TZID=Asia/Shanghai:20260719T153000
DTSTAMP:20260421T035822
CREATED:20260315T071830Z
LAST-MODIFIED:20260315T071830Z
UID:10029134-1784471400-1784475000@www.dancesoul.com.tw
SUMMARY:兒童MV(ILLIT-opps!)-羿芃
DESCRIPTION:
URL:https://www.dancesoul.com.tw/schedule/%e5%85%92%e7%ab%a5mvizna-sass-%e7%be%bf%e8%8a%83-2-2/2026-07-19/
CATEGORIES:兒童MV,兒童課
END:VEVENT
BEGIN:VEVENT
DTSTART;TZID=Asia/Shanghai:20260725T143000
DTEND;TZID=Asia/Shanghai:20260725T153000
DTSTAMP:20260421T035822
CREATED:20251202T055414Z
LAST-MODIFIED:20260315T072223Z
UID:10027568-1784989800-1784993400@www.dancesoul.com.tw
SUMMARY:兒童MV(IVE - 'BANG BANG')-薇臻
DESCRIPTION:
URL:https://www.dancesoul.com.tw/schedule/%e5%85%92%e7%ab%a5mvbabymonster-hot-sauce-%e8%96%87%e8%87%bb-2/2026-07-25/
CATEGORIES:MV課,兒童MV,課程
END:VEVENT
BEGIN:VEVENT
DTSTART;TZID=Asia/Shanghai:20260726T143000
DTEND;TZID=Asia/Shanghai:20260726T153000
DTSTAMP:20260421T035822
CREATED:20260315T071830Z
LAST-MODIFIED:20260315T071830Z
UID:10029135-1785076200-1785079800@www.dancesoul.com.tw
SUMMARY:兒童MV(ILLIT-opps!)-羿芃
DESCRIPTION:
URL:https://www.dancesoul.com.tw/schedule/%e5%85%92%e7%ab%a5mvizna-sass-%e7%be%bf%e8%8a%83-2-2/2026-07-26/
CATEGORIES:兒童MV,兒童課
END:VEVENT
BEGIN:VEVENT
DTSTART;TZID=Asia/Shanghai:20260801T143000
DTEND;TZID=Asia/Shanghai:20260801T153000
DTSTAMP:20260421T035822
CREATED:20251202T055414Z
LAST-MODIFIED:20260315T072223Z
UID:10027569-1785594600-1785598200@www.dancesoul.com.tw
SUMMARY:兒童MV(IVE - 'BANG BANG')-薇臻
DESCRIPTION:
URL:https://www.dancesoul.com.tw/schedule/%e5%85%92%e7%ab%a5mvbabymonster-hot-sauce-%e8%96%87%e8%87%bb-2/2026-08-01/
CATEGORIES:MV課,兒童MV,課程
END:VEVENT
BEGIN:VEVENT
DTSTART;TZID=Asia/Shanghai:20260802T143000
DTEND;TZID=Asia/Shanghai:20260802T153000
DTSTAMP:20260421T035822
CREATED:20260315T071830Z
LAST-MODIFIED:20260315T071830Z
UID:10029136-1785681000-1785684600@www.dancesoul.com.tw
SUMMARY:兒童MV(ILLIT-opps!)-羿芃
DESCRIPTION:
URL:https://www.dancesoul.com.tw/schedule/%e5%85%92%e7%ab%a5mvizna-sass-%e7%be%bf%e8%8a%83-2-2/2026-08-02/
CATEGORIES:兒童MV,兒童課
END:VEVENT
END:VCALENDAR