BEGIN:VCALENDAR
VERSION:2.0
PRODID:-//DANCE SOUL 舞魂街舞學校 - ECPv6.15.18//NONSGML v1.0//EN
CALSCALE:GREGORIAN
METHOD:PUBLISH
X-WR-CALNAME:DANCE SOUL 舞魂街舞學校
X-ORIGINAL-URL:https://www.dancesoul.com.tw
X-WR-CALDESC:Events for DANCE SOUL 舞魂街舞學校
REFRESH-INTERVAL;VALUE=DURATION:PT1H
X-Robots-Tag:noindex
X-PUBLISHED-TTL:PT1H
BEGIN:VTIMEZONE
TZID:Asia/Shanghai
BEGIN:STANDARD
TZOFFSETFROM:+0800
TZOFFSETTO:+0800
TZNAME:CST
DTSTART:20240101T000000
END:STANDARD
END:VTIMEZONE
BEGIN:VEVENT
DTSTART;TZID=Asia/Shanghai:20250712T143000
DTEND;TZID=Asia/Shanghai:20250712T153000
DTSTAMP:20260423T064315
CREATED:20250623T132140Z
LAST-MODIFIED:20250623T132140Z
UID:10021975-1752330600-1752334200@www.dancesoul.com.tw
SUMMARY:兒童MV-(ITZY - Girls Will Be Girls)-薇臻
DESCRIPTION:
URL:https://www.dancesoul.com.tw/schedule/%e5%85%92%e7%ab%a5mv-itzy-girls-will-be-girls-%e8%96%87%e8%87%bb/2025-07-12/
CATEGORIES:兒童MV,兒童課
END:VEVENT
BEGIN:VEVENT
DTSTART;TZID=Asia/Shanghai:20250713T143000
DTEND;TZID=Asia/Shanghai:20250713T153000
DTSTAMP:20260423T064316
CREATED:20250623T133111Z
LAST-MODIFIED:20250623T134109Z
UID:10022023-1752417000-1752420600@www.dancesoul.com.tw
SUMMARY:兒童MV-(LE SSERAFIM-DIFFERENT)-羿芃
DESCRIPTION:
URL:https://www.dancesoul.com.tw/schedule/%e5%85%92%e7%ab%a5mv-le-sserafim-different-%e7%be%bf%e8%8a%83/2025-07-13/
CATEGORIES:兒童MV,兒童課
END:VEVENT
END:VCALENDAR