BEGIN:VCALENDAR
VERSION:2.0
PRODID:-//DANCE SOUL 舞魂街舞學校 - ECPv6.15.18//NONSGML v1.0//EN
CALSCALE:GREGORIAN
METHOD:PUBLISH
X-WR-CALNAME:DANCE SOUL 舞魂街舞學校
X-ORIGINAL-URL:https://www.dancesoul.com.tw
X-WR-CALDESC:Events for DANCE SOUL 舞魂街舞學校
REFRESH-INTERVAL;VALUE=DURATION:PT1H
X-Robots-Tag:noindex
X-PUBLISHED-TTL:PT1H
BEGIN:VTIMEZONE
TZID:Asia/Shanghai
BEGIN:STANDARD
TZOFFSETFROM:+0800
TZOFFSETTO:+0800
TZNAME:CST
DTSTART:20240101T000000
END:STANDARD
END:VTIMEZONE
BEGIN:VEVENT
DTSTART;TZID=Asia/Shanghai:20250809T132000
DTEND;TZID=Asia/Shanghai:20250809T142000
DTSTAMP:20260423T085946
CREATED:20250725T084212Z
LAST-MODIFIED:20250725T084514Z
UID:10022187-1754745600-1754749200@www.dancesoul.com.tw
SUMMARY:兒童MV(初)(izna-BEEP)-薇臻
DESCRIPTION:
URL:https://www.dancesoul.com.tw/schedule/%e5%85%92%e7%ab%a5mv%e5%88%9dizna-beep-%e8%96%87%e8%87%bb/2025-08-09/
CATEGORIES:MV課,兒童MV,課程
END:VEVENT
BEGIN:VEVENT
DTSTART;TZID=Asia/Shanghai:20250809T143000
DTEND;TZID=Asia/Shanghai:20250809T153000
DTSTAMP:20260423T085946
CREATED:20250725T084348Z
LAST-MODIFIED:20250725T084348Z
UID:10022182-1754749800-1754753400@www.dancesoul.com.tw
SUMMARY:兒童MV(aespa-DIRTY WORK)-薇臻
DESCRIPTION:
URL:https://www.dancesoul.com.tw/schedule/%e5%85%92%e7%ab%a5mvaespa-dirty-work-%e8%96%87%e8%87%bb/2025-08-09/
CATEGORIES:MV課,兒童MV,課程
END:VEVENT
BEGIN:VEVENT
DTSTART;TZID=Asia/Shanghai:20250810T143000
DTEND;TZID=Asia/Shanghai:20250810T153000
DTSTAMP:20260423T085946
CREATED:20250725T092140Z
LAST-MODIFIED:20250725T092140Z
UID:10022222-1754836200-1754839800@www.dancesoul.com.tw
SUMMARY:兒童MV(TWICE-THIS IS FOR)-羿芃
DESCRIPTION:
URL:https://www.dancesoul.com.tw/schedule/%e5%85%92%e7%ab%a5mvtwice-this-is-for-%e7%be%bf%e8%8a%83/2025-08-10/
CATEGORIES:MV課,兒童MV
END:VEVENT
END:VCALENDAR