BEGIN:VCALENDAR
VERSION:2.0
PRODID:-//DANCE SOUL 舞魂街舞學校 - ECPv6.15.18//NONSGML v1.0//EN
CALSCALE:GREGORIAN
METHOD:PUBLISH
X-ORIGINAL-URL:https://www.dancesoul.com.tw
X-WR-CALDESC:Events for DANCE SOUL 舞魂街舞學校
REFRESH-INTERVAL;VALUE=DURATION:PT1H
X-Robots-Tag:noindex
X-PUBLISHED-TTL:PT1H
BEGIN:VTIMEZONE
TZID:Asia/Shanghai
BEGIN:STANDARD
TZOFFSETFROM:+0800
TZOFFSETTO:+0800
TZNAME:CST
DTSTART:20240101T000000
END:STANDARD
END:VTIMEZONE
BEGIN:VEVENT
DTSTART;TZID=Asia/Shanghai:20250705T080000
DTEND;TZID=Asia/Shanghai:20250705T170000
DTSTAMP:20260423T040021
CREATED:20250623T131953Z
LAST-MODIFIED:20250725T084729Z
UID:10022030-1751702400-1751734800@www.dancesoul.com.tw
SUMMARY:兒童MV(初)-薇臻
DESCRIPTION:
URL:https://www.dancesoul.com.tw/schedule/%e5%85%92%e7%ab%a5%e8%a1%97%e8%88%9e-%e8%96%87%e8%87%bb-20/2025-07-05/1/
CATEGORIES:兒童街舞,兒童課
END:VEVENT
BEGIN:VEVENT
DTSTART;TZID=Asia/Shanghai:20250705T132000
DTEND;TZID=Asia/Shanghai:20250705T142000
DTSTAMP:20260423T040021
CREATED:20250623T131953Z
LAST-MODIFIED:20250725T084729Z
UID:10021970-1751721600-1751725200@www.dancesoul.com.tw
SUMMARY:兒童MV(初)-薇臻
DESCRIPTION:
URL:https://www.dancesoul.com.tw/schedule/%e5%85%92%e7%ab%a5%e8%a1%97%e8%88%9e-%e8%96%87%e8%87%bb-20/2025-07-05/2/
CATEGORIES:兒童街舞,兒童課
END:VEVENT
BEGIN:VEVENT
DTSTART;TZID=Asia/Shanghai:20250706T132000
DTEND;TZID=Asia/Shanghai:20250706T142000
DTSTAMP:20260423T040021
CREATED:20250623T132909Z
LAST-MODIFIED:20250725T091913Z
UID:10021998-1751808000-1751811600@www.dancesoul.com.tw
SUMMARY:兒童街舞-羿芃
DESCRIPTION:
URL:https://www.dancesoul.com.tw/schedule/%e5%85%92%e7%ab%a5%e8%a1%97%e8%88%9e-%e7%be%bf%e8%8a%83-19/2025-07-06/
CATEGORIES:兒童街舞,兒童課
END:VEVENT
BEGIN:VEVENT
DTSTART;TZID=Asia/Shanghai:20250712T132000
DTEND;TZID=Asia/Shanghai:20250712T142000
DTSTAMP:20260423T040021
CREATED:20250623T131953Z
LAST-MODIFIED:20250725T084729Z
UID:10021971-1752326400-1752330000@www.dancesoul.com.tw
SUMMARY:兒童MV(初)-薇臻
DESCRIPTION:
URL:https://www.dancesoul.com.tw/schedule/%e5%85%92%e7%ab%a5%e8%a1%97%e8%88%9e-%e8%96%87%e8%87%bb-20/2025-07-12/
CATEGORIES:兒童街舞,兒童課
END:VEVENT
BEGIN:VEVENT
DTSTART;TZID=Asia/Shanghai:20250713T132000
DTEND;TZID=Asia/Shanghai:20250713T142000
DTSTAMP:20260423T040021
CREATED:20250623T132909Z
LAST-MODIFIED:20250725T091913Z
UID:10021999-1752412800-1752416400@www.dancesoul.com.tw
SUMMARY:兒童街舞-羿芃
DESCRIPTION:
URL:https://www.dancesoul.com.tw/schedule/%e5%85%92%e7%ab%a5%e8%a1%97%e8%88%9e-%e7%be%bf%e8%8a%83-19/2025-07-13/
CATEGORIES:兒童街舞,兒童課
END:VEVENT
BEGIN:VEVENT
DTSTART;TZID=Asia/Shanghai:20250719T132000
DTEND;TZID=Asia/Shanghai:20250719T142000
DTSTAMP:20260423T040021
CREATED:20250623T131953Z
LAST-MODIFIED:20250725T084729Z
UID:10021972-1752931200-1752934800@www.dancesoul.com.tw
SUMMARY:兒童MV(初)-薇臻
DESCRIPTION:
URL:https://www.dancesoul.com.tw/schedule/%e5%85%92%e7%ab%a5%e8%a1%97%e8%88%9e-%e8%96%87%e8%87%bb-20/2025-07-19/
CATEGORIES:兒童街舞,兒童課
END:VEVENT
BEGIN:VEVENT
DTSTART;TZID=Asia/Shanghai:20250720T132000
DTEND;TZID=Asia/Shanghai:20250720T142000
DTSTAMP:20260423T040021
CREATED:20250623T132909Z
LAST-MODIFIED:20250725T091913Z
UID:10022000-1753017600-1753021200@www.dancesoul.com.tw
SUMMARY:兒童街舞-羿芃
DESCRIPTION:
URL:https://www.dancesoul.com.tw/schedule/%e5%85%92%e7%ab%a5%e8%a1%97%e8%88%9e-%e7%be%bf%e8%8a%83-19/2025-07-20/
CATEGORIES:兒童街舞,兒童課
END:VEVENT
BEGIN:VEVENT
DTSTART;TZID=Asia/Shanghai:20250726T132000
DTEND;TZID=Asia/Shanghai:20250726T142000
DTSTAMP:20260423T040021
CREATED:20250623T131953Z
LAST-MODIFIED:20250725T084729Z
UID:10021973-1753536000-1753539600@www.dancesoul.com.tw
SUMMARY:兒童MV(初)-薇臻
DESCRIPTION:
URL:https://www.dancesoul.com.tw/schedule/%e5%85%92%e7%ab%a5%e8%a1%97%e8%88%9e-%e8%96%87%e8%87%bb-20/2025-07-26/
CATEGORIES:兒童街舞,兒童課
END:VEVENT
BEGIN:VEVENT
DTSTART;TZID=Asia/Shanghai:20250727T132000
DTEND;TZID=Asia/Shanghai:20250727T142000
DTSTAMP:20260423T040021
CREATED:20250623T132909Z
LAST-MODIFIED:20250725T091913Z
UID:10022001-1753622400-1753626000@www.dancesoul.com.tw
SUMMARY:兒童街舞-羿芃
DESCRIPTION:
URL:https://www.dancesoul.com.tw/schedule/%e5%85%92%e7%ab%a5%e8%a1%97%e8%88%9e-%e7%be%bf%e8%8a%83-19/2025-07-27/
CATEGORIES:兒童街舞,兒童課
END:VEVENT
END:VCALENDAR