BEGIN:VCALENDAR
VERSION:2.0
PRODID:-//DANCE SOUL 舞魂街舞學校 - ECPv6.15.18//NONSGML v1.0//EN
CALSCALE:GREGORIAN
METHOD:PUBLISH
X-ORIGINAL-URL:https://www.dancesoul.com.tw
X-WR-CALDESC:Events for DANCE SOUL 舞魂街舞學校
REFRESH-INTERVAL;VALUE=DURATION:PT1H
X-Robots-Tag:noindex
X-PUBLISHED-TTL:PT1H
BEGIN:VTIMEZONE
TZID:Asia/Shanghai
BEGIN:STANDARD
TZOFFSETFROM:+0800
TZOFFSETTO:+0800
TZNAME:CST
DTSTART:20240101T000000
END:STANDARD
END:VTIMEZONE
BEGIN:VEVENT
DTSTART;TZID=Asia/Shanghai:20251004T132000
DTEND;TZID=Asia/Shanghai:20251004T142000
DTSTAMP:20260422T040337
CREATED:20250828T110222Z
LAST-MODIFIED:20250901T054527Z
UID:10027265-1759584000-1759587600@www.dancesoul.com.tw
SUMMARY:兒童MV(初)(izna-GOLDEN)-薇臻
DESCRIPTION:
URL:https://www.dancesoul.com.tw/schedule/%e5%85%92%e7%ab%a5%e8%a1%97%e8%88%9e-%e8%96%87%e8%87%bb-21/2025-10-04/
CATEGORIES:兒童街舞,兒童課
END:VEVENT
BEGIN:VEVENT
DTSTART;TZID=Asia/Shanghai:20251004T132000
DTEND;TZID=Asia/Shanghai:20251004T142000
DTSTAMP:20260422T040337
CREATED:20251201T070320Z
LAST-MODIFIED:20260315T072345Z
UID:10031401-1759584000-1759587600@www.dancesoul.com.tw
SUMMARY:兒童MV(初)(i-dle - 'Mona(Feat.skaiwater)')-薇臻
DESCRIPTION:
URL:https://www.dancesoul.com.tw/schedule/%e5%85%92%e7%ab%a5%e8%a1%97%e8%88%9e-%e8%96%87%e8%87%bb-21-2-2-2/2025-10-04/
CATEGORIES:兒童街舞,兒童課
END:VEVENT
BEGIN:VEVENT
DTSTART;TZID=Asia/Shanghai:20251005T132000
DTEND;TZID=Asia/Shanghai:20251005T142000
DTSTAMP:20260422T040337
CREATED:20250901T055750Z
LAST-MODIFIED:20250901T055750Z
UID:10028832-1759670400-1759674000@www.dancesoul.com.tw
SUMMARY:兒童街舞-羿芃
DESCRIPTION:
URL:https://www.dancesoul.com.tw/schedule/%e5%85%92%e7%ab%a5%e8%a1%97%e8%88%9e-%e7%be%bf%e8%8a%83-20/2025-10-05/
CATEGORIES:兒童街舞,課程
END:VEVENT
BEGIN:VEVENT
DTSTART;TZID=Asia/Shanghai:20251005T154000
DTEND;TZID=Asia/Shanghai:20251005T164000
DTSTAMP:20260422T040337
CREATED:20250901T060229Z
LAST-MODIFIED:20250901T060229Z
UID:10029354-1759678800-1759682400@www.dancesoul.com.tw
SUMMARY:兒童Street Jazz-傘傘
DESCRIPTION:
URL:https://www.dancesoul.com.tw/schedule/%e5%85%92%e7%ab%a5street-jazz-%e5%82%98%e5%82%98-4/2025-10-05/
CATEGORIES:兒童街舞,兒童課
END:VEVENT
BEGIN:VEVENT
DTSTART;TZID=Asia/Shanghai:20251011T132000
DTEND;TZID=Asia/Shanghai:20251011T142000
DTSTAMP:20260422T040337
CREATED:20250828T110222Z
LAST-MODIFIED:20250901T054527Z
UID:10027266-1760188800-1760192400@www.dancesoul.com.tw
SUMMARY:兒童MV(初)(izna-GOLDEN)-薇臻
DESCRIPTION:
URL:https://www.dancesoul.com.tw/schedule/%e5%85%92%e7%ab%a5%e8%a1%97%e8%88%9e-%e8%96%87%e8%87%bb-21/2025-10-11/
CATEGORIES:兒童街舞,兒童課
END:VEVENT
BEGIN:VEVENT
DTSTART;TZID=Asia/Shanghai:20251011T132000
DTEND;TZID=Asia/Shanghai:20251011T142000
DTSTAMP:20260422T040337
CREATED:20251201T070320Z
LAST-MODIFIED:20260315T072345Z
UID:10031402-1760188800-1760192400@www.dancesoul.com.tw
SUMMARY:兒童MV(初)(i-dle - 'Mona(Feat.skaiwater)')-薇臻
DESCRIPTION:
URL:https://www.dancesoul.com.tw/schedule/%e5%85%92%e7%ab%a5%e8%a1%97%e8%88%9e-%e8%96%87%e8%87%bb-21-2-2-2/2025-10-11/
CATEGORIES:兒童街舞,兒童課
END:VEVENT
BEGIN:VEVENT
DTSTART;TZID=Asia/Shanghai:20251012T132000
DTEND;TZID=Asia/Shanghai:20251012T142000
DTSTAMP:20260422T040337
CREATED:20250901T055750Z
LAST-MODIFIED:20250901T055750Z
UID:10028833-1760275200-1760278800@www.dancesoul.com.tw
SUMMARY:兒童街舞-羿芃
DESCRIPTION:
URL:https://www.dancesoul.com.tw/schedule/%e5%85%92%e7%ab%a5%e8%a1%97%e8%88%9e-%e7%be%bf%e8%8a%83-20/2025-10-12/
CATEGORIES:兒童街舞,課程
END:VEVENT
BEGIN:VEVENT
DTSTART;TZID=Asia/Shanghai:20251012T154000
DTEND;TZID=Asia/Shanghai:20251012T164000
DTSTAMP:20260422T040337
CREATED:20250901T060229Z
LAST-MODIFIED:20250901T060229Z
UID:10029355-1760283600-1760287200@www.dancesoul.com.tw
SUMMARY:兒童Street Jazz-傘傘
DESCRIPTION:
URL:https://www.dancesoul.com.tw/schedule/%e5%85%92%e7%ab%a5street-jazz-%e5%82%98%e5%82%98-4/2025-10-12/
CATEGORIES:兒童街舞,兒童課
END:VEVENT
BEGIN:VEVENT
DTSTART;TZID=Asia/Shanghai:20251018T132000
DTEND;TZID=Asia/Shanghai:20251018T142000
DTSTAMP:20260422T040337
CREATED:20250828T110222Z
LAST-MODIFIED:20250901T054527Z
UID:10027267-1760793600-1760797200@www.dancesoul.com.tw
SUMMARY:兒童MV(初)(izna-GOLDEN)-薇臻
DESCRIPTION:
URL:https://www.dancesoul.com.tw/schedule/%e5%85%92%e7%ab%a5%e8%a1%97%e8%88%9e-%e8%96%87%e8%87%bb-21/2025-10-18/
CATEGORIES:兒童街舞,兒童課
END:VEVENT
BEGIN:VEVENT
DTSTART;TZID=Asia/Shanghai:20251018T132000
DTEND;TZID=Asia/Shanghai:20251018T142000
DTSTAMP:20260422T040337
CREATED:20251201T070320Z
LAST-MODIFIED:20260315T072345Z
UID:10031403-1760793600-1760797200@www.dancesoul.com.tw
SUMMARY:兒童MV(初)(i-dle - 'Mona(Feat.skaiwater)')-薇臻
DESCRIPTION:
URL:https://www.dancesoul.com.tw/schedule/%e5%85%92%e7%ab%a5%e8%a1%97%e8%88%9e-%e8%96%87%e8%87%bb-21-2-2-2/2025-10-18/
CATEGORIES:兒童街舞,兒童課
END:VEVENT
BEGIN:VEVENT
DTSTART;TZID=Asia/Shanghai:20251019T132000
DTEND;TZID=Asia/Shanghai:20251019T142000
DTSTAMP:20260422T040337
CREATED:20250901T055750Z
LAST-MODIFIED:20250901T055750Z
UID:10028834-1760880000-1760883600@www.dancesoul.com.tw
SUMMARY:兒童街舞-羿芃
DESCRIPTION:
URL:https://www.dancesoul.com.tw/schedule/%e5%85%92%e7%ab%a5%e8%a1%97%e8%88%9e-%e7%be%bf%e8%8a%83-20/2025-10-19/
CATEGORIES:兒童街舞,課程
END:VEVENT
BEGIN:VEVENT
DTSTART;TZID=Asia/Shanghai:20251019T154000
DTEND;TZID=Asia/Shanghai:20251019T164000
DTSTAMP:20260422T040337
CREATED:20250901T060229Z
LAST-MODIFIED:20250901T060229Z
UID:10029356-1760888400-1760892000@www.dancesoul.com.tw
SUMMARY:兒童Street Jazz-傘傘
DESCRIPTION:
URL:https://www.dancesoul.com.tw/schedule/%e5%85%92%e7%ab%a5street-jazz-%e5%82%98%e5%82%98-4/2025-10-19/
CATEGORIES:兒童街舞,兒童課
END:VEVENT
BEGIN:VEVENT
DTSTART;TZID=Asia/Shanghai:20251025T132000
DTEND;TZID=Asia/Shanghai:20251025T142000
DTSTAMP:20260422T040337
CREATED:20250828T110222Z
LAST-MODIFIED:20250901T054527Z
UID:10027268-1761398400-1761402000@www.dancesoul.com.tw
SUMMARY:兒童MV(初)(izna-GOLDEN)-薇臻
DESCRIPTION:
URL:https://www.dancesoul.com.tw/schedule/%e5%85%92%e7%ab%a5%e8%a1%97%e8%88%9e-%e8%96%87%e8%87%bb-21/2025-10-25/
CATEGORIES:兒童街舞,兒童課
END:VEVENT
BEGIN:VEVENT
DTSTART;TZID=Asia/Shanghai:20251025T132000
DTEND;TZID=Asia/Shanghai:20251025T142000
DTSTAMP:20260422T040337
CREATED:20251201T070320Z
LAST-MODIFIED:20260315T072345Z
UID:10031404-1761398400-1761402000@www.dancesoul.com.tw
SUMMARY:兒童MV(初)(i-dle - 'Mona(Feat.skaiwater)')-薇臻
DESCRIPTION:
URL:https://www.dancesoul.com.tw/schedule/%e5%85%92%e7%ab%a5%e8%a1%97%e8%88%9e-%e8%96%87%e8%87%bb-21-2-2-2/2025-10-25/
CATEGORIES:兒童街舞,兒童課
END:VEVENT
BEGIN:VEVENT
DTSTART;TZID=Asia/Shanghai:20251026T132000
DTEND;TZID=Asia/Shanghai:20251026T142000
DTSTAMP:20260422T040337
CREATED:20250901T055750Z
LAST-MODIFIED:20250901T055750Z
UID:10028835-1761484800-1761488400@www.dancesoul.com.tw
SUMMARY:兒童街舞-羿芃
DESCRIPTION:
URL:https://www.dancesoul.com.tw/schedule/%e5%85%92%e7%ab%a5%e8%a1%97%e8%88%9e-%e7%be%bf%e8%8a%83-20/2025-10-26/
CATEGORIES:兒童街舞,課程
END:VEVENT
BEGIN:VEVENT
DTSTART;TZID=Asia/Shanghai:20251026T154000
DTEND;TZID=Asia/Shanghai:20251026T164000
DTSTAMP:20260422T040337
CREATED:20250901T060229Z
LAST-MODIFIED:20250901T060229Z
UID:10029357-1761493200-1761496800@www.dancesoul.com.tw
SUMMARY:兒童Street Jazz-傘傘
DESCRIPTION:
URL:https://www.dancesoul.com.tw/schedule/%e5%85%92%e7%ab%a5street-jazz-%e5%82%98%e5%82%98-4/2025-10-26/
CATEGORIES:兒童街舞,兒童課
END:VEVENT
END:VCALENDAR