BEGIN:VCALENDAR
VERSION:2.0
PRODID:-//DANCE SOUL 舞魂街舞學校 - ECPv6.15.18//NONSGML v1.0//EN
CALSCALE:GREGORIAN
METHOD:PUBLISH
X-ORIGINAL-URL:https://www.dancesoul.com.tw
X-WR-CALDESC:Events for DANCE SOUL 舞魂街舞學校
REFRESH-INTERVAL;VALUE=DURATION:PT1H
X-Robots-Tag:noindex
X-PUBLISHED-TTL:PT1H
BEGIN:VTIMEZONE
TZID:Asia/Shanghai
BEGIN:STANDARD
TZOFFSETFROM:+0800
TZOFFSETTO:+0800
TZNAME:CST
DTSTART:20250101T000000
END:STANDARD
END:VTIMEZONE
BEGIN:VEVENT
DTSTART;TZID=Asia/Shanghai:20260606T132000
DTEND;TZID=Asia/Shanghai:20260606T142000
DTSTAMP:20260420T192640
CREATED:20251201T070320Z
LAST-MODIFIED:20260315T072345Z
UID:10027300-1780752000-1780755600@www.dancesoul.com.tw
SUMMARY:兒童MV(初)(i-dle - 'Mona(Feat.skaiwater)')-薇臻
DESCRIPTION:
URL:https://www.dancesoul.com.tw/schedule/%e5%85%92%e7%ab%a5%e8%a1%97%e8%88%9e-%e8%96%87%e8%87%bb-21-2-2-2/2026-06-06/
CATEGORIES:兒童街舞,兒童課
END:VEVENT
BEGIN:VEVENT
DTSTART;TZID=Asia/Shanghai:20260606T154000
DTEND;TZID=Asia/Shanghai:20260606T164000
DTSTAMP:20260420T192640
CREATED:20250901T055134Z
LAST-MODIFIED:20260327T083158Z
UID:10033463-1780760400-1780764000@www.dancesoul.com.tw
SUMMARY:兒童Popping-勁宏
DESCRIPTION:
URL:https://www.dancesoul.com.tw/schedule/%e5%85%92%e7%ab%a5popping-%e5%8b%81%e5%ae%8f-2/2026-06-06/
CATEGORIES:兒童街舞,課程
END:VEVENT
BEGIN:VEVENT
DTSTART;TZID=Asia/Shanghai:20260607T132000
DTEND;TZID=Asia/Shanghai:20260607T142000
DTSTAMP:20260420T192640
CREATED:20250901T055750Z
LAST-MODIFIED:20250901T055750Z
UID:10028867-1780838400-1780842000@www.dancesoul.com.tw
SUMMARY:兒童街舞-羿芃
DESCRIPTION:
URL:https://www.dancesoul.com.tw/schedule/%e5%85%92%e7%ab%a5%e8%a1%97%e8%88%9e-%e7%be%bf%e8%8a%83-20/2026-06-07/
CATEGORIES:兒童街舞,課程
END:VEVENT
BEGIN:VEVENT
DTSTART;TZID=Asia/Shanghai:20260607T154000
DTEND;TZID=Asia/Shanghai:20260607T164000
DTSTAMP:20260420T192640
CREATED:20250901T060229Z
LAST-MODIFIED:20250901T060229Z
UID:10029389-1780846800-1780850400@www.dancesoul.com.tw
SUMMARY:兒童Street Jazz-傘傘
DESCRIPTION:
URL:https://www.dancesoul.com.tw/schedule/%e5%85%92%e7%ab%a5street-jazz-%e5%82%98%e5%82%98-4/2026-06-07/
CATEGORIES:兒童街舞,兒童課
END:VEVENT
BEGIN:VEVENT
DTSTART;TZID=Asia/Shanghai:20260613T132000
DTEND;TZID=Asia/Shanghai:20260613T142000
DTSTAMP:20260420T192640
CREATED:20251201T070320Z
LAST-MODIFIED:20260315T072345Z
UID:10027301-1781356800-1781360400@www.dancesoul.com.tw
SUMMARY:兒童MV(初)(i-dle - 'Mona(Feat.skaiwater)')-薇臻
DESCRIPTION:
URL:https://www.dancesoul.com.tw/schedule/%e5%85%92%e7%ab%a5%e8%a1%97%e8%88%9e-%e8%96%87%e8%87%bb-21-2-2-2/2026-06-13/
CATEGORIES:兒童街舞,兒童課
END:VEVENT
BEGIN:VEVENT
DTSTART;TZID=Asia/Shanghai:20260613T154000
DTEND;TZID=Asia/Shanghai:20260613T164000
DTSTAMP:20260420T192640
CREATED:20250901T055134Z
LAST-MODIFIED:20260327T083158Z
UID:10033464-1781365200-1781368800@www.dancesoul.com.tw
SUMMARY:兒童Popping-勁宏
DESCRIPTION:
URL:https://www.dancesoul.com.tw/schedule/%e5%85%92%e7%ab%a5popping-%e5%8b%81%e5%ae%8f-2/2026-06-13/
CATEGORIES:兒童街舞,課程
END:VEVENT
BEGIN:VEVENT
DTSTART;TZID=Asia/Shanghai:20260614T132000
DTEND;TZID=Asia/Shanghai:20260614T142000
DTSTAMP:20260420T192640
CREATED:20250901T055750Z
LAST-MODIFIED:20250901T055750Z
UID:10028868-1781443200-1781446800@www.dancesoul.com.tw
SUMMARY:兒童街舞-羿芃
DESCRIPTION:
URL:https://www.dancesoul.com.tw/schedule/%e5%85%92%e7%ab%a5%e8%a1%97%e8%88%9e-%e7%be%bf%e8%8a%83-20/2026-06-14/
CATEGORIES:兒童街舞,課程
END:VEVENT
BEGIN:VEVENT
DTSTART;TZID=Asia/Shanghai:20260614T154000
DTEND;TZID=Asia/Shanghai:20260614T164000
DTSTAMP:20260420T192640
CREATED:20250901T060229Z
LAST-MODIFIED:20250901T060229Z
UID:10029390-1781451600-1781455200@www.dancesoul.com.tw
SUMMARY:兒童Street Jazz-傘傘
DESCRIPTION:
URL:https://www.dancesoul.com.tw/schedule/%e5%85%92%e7%ab%a5street-jazz-%e5%82%98%e5%82%98-4/2026-06-14/
CATEGORIES:兒童街舞,兒童課
END:VEVENT
BEGIN:VEVENT
DTSTART;TZID=Asia/Shanghai:20260620T132000
DTEND;TZID=Asia/Shanghai:20260620T142000
DTSTAMP:20260420T192640
CREATED:20251201T070320Z
LAST-MODIFIED:20260315T072345Z
UID:10027302-1781961600-1781965200@www.dancesoul.com.tw
SUMMARY:兒童MV(初)(i-dle - 'Mona(Feat.skaiwater)')-薇臻
DESCRIPTION:
URL:https://www.dancesoul.com.tw/schedule/%e5%85%92%e7%ab%a5%e8%a1%97%e8%88%9e-%e8%96%87%e8%87%bb-21-2-2-2/2026-06-20/
CATEGORIES:兒童街舞,兒童課
END:VEVENT
BEGIN:VEVENT
DTSTART;TZID=Asia/Shanghai:20260620T154000
DTEND;TZID=Asia/Shanghai:20260620T164000
DTSTAMP:20260420T192640
CREATED:20250901T055134Z
LAST-MODIFIED:20260327T083158Z
UID:10033465-1781970000-1781973600@www.dancesoul.com.tw
SUMMARY:兒童Popping-勁宏
DESCRIPTION:
URL:https://www.dancesoul.com.tw/schedule/%e5%85%92%e7%ab%a5popping-%e5%8b%81%e5%ae%8f-2/2026-06-20/
CATEGORIES:兒童街舞,課程
END:VEVENT
BEGIN:VEVENT
DTSTART;TZID=Asia/Shanghai:20260621T132000
DTEND;TZID=Asia/Shanghai:20260621T142000
DTSTAMP:20260420T192640
CREATED:20250901T055750Z
LAST-MODIFIED:20250901T055750Z
UID:10028869-1782048000-1782051600@www.dancesoul.com.tw
SUMMARY:兒童街舞-羿芃
DESCRIPTION:
URL:https://www.dancesoul.com.tw/schedule/%e5%85%92%e7%ab%a5%e8%a1%97%e8%88%9e-%e7%be%bf%e8%8a%83-20/2026-06-21/
CATEGORIES:兒童街舞,課程
END:VEVENT
BEGIN:VEVENT
DTSTART;TZID=Asia/Shanghai:20260621T154000
DTEND;TZID=Asia/Shanghai:20260621T164000
DTSTAMP:20260420T192640
CREATED:20250901T060229Z
LAST-MODIFIED:20250901T060229Z
UID:10029391-1782056400-1782060000@www.dancesoul.com.tw
SUMMARY:兒童Street Jazz-傘傘
DESCRIPTION:
URL:https://www.dancesoul.com.tw/schedule/%e5%85%92%e7%ab%a5street-jazz-%e5%82%98%e5%82%98-4/2026-06-21/
CATEGORIES:兒童街舞,兒童課
END:VEVENT
BEGIN:VEVENT
DTSTART;TZID=Asia/Shanghai:20260627T132000
DTEND;TZID=Asia/Shanghai:20260627T142000
DTSTAMP:20260420T192640
CREATED:20251201T070320Z
LAST-MODIFIED:20260315T072345Z
UID:10027303-1782566400-1782570000@www.dancesoul.com.tw
SUMMARY:兒童MV(初)(i-dle - 'Mona(Feat.skaiwater)')-薇臻
DESCRIPTION:
URL:https://www.dancesoul.com.tw/schedule/%e5%85%92%e7%ab%a5%e8%a1%97%e8%88%9e-%e8%96%87%e8%87%bb-21-2-2-2/2026-06-27/
CATEGORIES:兒童街舞,兒童課
END:VEVENT
BEGIN:VEVENT
DTSTART;TZID=Asia/Shanghai:20260627T154000
DTEND;TZID=Asia/Shanghai:20260627T164000
DTSTAMP:20260420T192640
CREATED:20250901T055134Z
LAST-MODIFIED:20260327T083158Z
UID:10033466-1782574800-1782578400@www.dancesoul.com.tw
SUMMARY:兒童Popping-勁宏
DESCRIPTION:
URL:https://www.dancesoul.com.tw/schedule/%e5%85%92%e7%ab%a5popping-%e5%8b%81%e5%ae%8f-2/2026-06-27/
CATEGORIES:兒童街舞,課程
END:VEVENT
BEGIN:VEVENT
DTSTART;TZID=Asia/Shanghai:20260628T132000
DTEND;TZID=Asia/Shanghai:20260628T142000
DTSTAMP:20260420T192640
CREATED:20250901T055750Z
LAST-MODIFIED:20250901T055750Z
UID:10028870-1782652800-1782656400@www.dancesoul.com.tw
SUMMARY:兒童街舞-羿芃
DESCRIPTION:
URL:https://www.dancesoul.com.tw/schedule/%e5%85%92%e7%ab%a5%e8%a1%97%e8%88%9e-%e7%be%bf%e8%8a%83-20/2026-06-28/
CATEGORIES:兒童街舞,課程
END:VEVENT
BEGIN:VEVENT
DTSTART;TZID=Asia/Shanghai:20260628T154000
DTEND;TZID=Asia/Shanghai:20260628T164000
DTSTAMP:20260420T192640
CREATED:20250901T060229Z
LAST-MODIFIED:20250901T060229Z
UID:10029392-1782661200-1782664800@www.dancesoul.com.tw
SUMMARY:兒童Street Jazz-傘傘
DESCRIPTION:
URL:https://www.dancesoul.com.tw/schedule/%e5%85%92%e7%ab%a5street-jazz-%e5%82%98%e5%82%98-4/2026-06-28/
CATEGORIES:兒童街舞,兒童課
END:VEVENT
END:VCALENDAR