BEGIN:VCALENDAR
VERSION:2.0
PRODID:-//DANCE SOUL 舞魂街舞學校 - ECPv6.15.18//NONSGML v1.0//EN
CALSCALE:GREGORIAN
METHOD:PUBLISH
X-WR-CALNAME:DANCE SOUL 舞魂街舞學校
X-ORIGINAL-URL:https://www.dancesoul.com.tw
X-WR-CALDESC:Events for DANCE SOUL 舞魂街舞學校
REFRESH-INTERVAL;VALUE=DURATION:PT1H
X-Robots-Tag:noindex
X-PUBLISHED-TTL:PT1H
BEGIN:VTIMEZONE
TZID:Asia/Shanghai
BEGIN:STANDARD
TZOFFSETFROM:+0800
TZOFFSETTO:+0800
TZNAME:CST
DTSTART:20260101T000000
END:STANDARD
END:VTIMEZONE
BEGIN:VEVENT
DTSTART;TZID=Asia/Shanghai:20270306T132000
DTEND;TZID=Asia/Shanghai:20270306T142000
DTSTAMP:20260423T072919
CREATED:20251201T070320Z
LAST-MODIFIED:20260315T072345Z
UID:10027339-1804339200-1804342800@www.dancesoul.com.tw
SUMMARY:兒童MV(初)(i-dle - 'Mona(Feat.skaiwater)')-薇臻
DESCRIPTION:
URL:https://www.dancesoul.com.tw/schedule/%e5%85%92%e7%ab%a5%e8%a1%97%e8%88%9e-%e8%96%87%e8%87%bb-21-2-2-2/2027-03-06/
CATEGORIES:兒童街舞,兒童課
END:VEVENT
BEGIN:VEVENT
DTSTART;TZID=Asia/Shanghai:20270306T154000
DTEND;TZID=Asia/Shanghai:20270306T164000
DTSTAMP:20260423T072919
CREATED:20250901T055134Z
LAST-MODIFIED:20260327T083158Z
UID:10033502-1804347600-1804351200@www.dancesoul.com.tw
SUMMARY:兒童Popping-勁宏
DESCRIPTION:
URL:https://www.dancesoul.com.tw/schedule/%e5%85%92%e7%ab%a5popping-%e5%8b%81%e5%ae%8f-2/2027-03-06/
CATEGORIES:兒童街舞,課程
END:VEVENT
BEGIN:VEVENT
DTSTART;TZID=Asia/Shanghai:20270307T132000
DTEND;TZID=Asia/Shanghai:20270307T142000
DTSTAMP:20260423T072919
CREATED:20250901T055750Z
LAST-MODIFIED:20250901T055750Z
UID:10028906-1804425600-1804429200@www.dancesoul.com.tw
SUMMARY:兒童街舞-羿芃
DESCRIPTION:
URL:https://www.dancesoul.com.tw/schedule/%e5%85%92%e7%ab%a5%e8%a1%97%e8%88%9e-%e7%be%bf%e8%8a%83-20/2027-03-07/
CATEGORIES:兒童街舞,課程
END:VEVENT
BEGIN:VEVENT
DTSTART;TZID=Asia/Shanghai:20270307T154000
DTEND;TZID=Asia/Shanghai:20270307T164000
DTSTAMP:20260423T072919
CREATED:20250901T060229Z
LAST-MODIFIED:20250901T060229Z
UID:10029428-1804434000-1804437600@www.dancesoul.com.tw
SUMMARY:兒童Street Jazz-傘傘
DESCRIPTION:
URL:https://www.dancesoul.com.tw/schedule/%e5%85%92%e7%ab%a5street-jazz-%e5%82%98%e5%82%98-4/2027-03-07/
CATEGORIES:兒童街舞,兒童課
END:VEVENT
BEGIN:VEVENT
DTSTART;TZID=Asia/Shanghai:20270313T132000
DTEND;TZID=Asia/Shanghai:20270313T142000
DTSTAMP:20260423T072919
CREATED:20251201T070320Z
LAST-MODIFIED:20260315T072345Z
UID:10027340-1804944000-1804947600@www.dancesoul.com.tw
SUMMARY:兒童MV(初)(i-dle - 'Mona(Feat.skaiwater)')-薇臻
DESCRIPTION:
URL:https://www.dancesoul.com.tw/schedule/%e5%85%92%e7%ab%a5%e8%a1%97%e8%88%9e-%e8%96%87%e8%87%bb-21-2-2-2/2027-03-13/
CATEGORIES:兒童街舞,兒童課
END:VEVENT
BEGIN:VEVENT
DTSTART;TZID=Asia/Shanghai:20270313T154000
DTEND;TZID=Asia/Shanghai:20270313T164000
DTSTAMP:20260423T072919
CREATED:20250901T055134Z
LAST-MODIFIED:20260327T083158Z
UID:10033503-1804952400-1804956000@www.dancesoul.com.tw
SUMMARY:兒童Popping-勁宏
DESCRIPTION:
URL:https://www.dancesoul.com.tw/schedule/%e5%85%92%e7%ab%a5popping-%e5%8b%81%e5%ae%8f-2/2027-03-13/
CATEGORIES:兒童街舞,課程
END:VEVENT
BEGIN:VEVENT
DTSTART;TZID=Asia/Shanghai:20270314T132000
DTEND;TZID=Asia/Shanghai:20270314T142000
DTSTAMP:20260423T072919
CREATED:20250901T055750Z
LAST-MODIFIED:20250901T055750Z
UID:10028907-1805030400-1805034000@www.dancesoul.com.tw
SUMMARY:兒童街舞-羿芃
DESCRIPTION:
URL:https://www.dancesoul.com.tw/schedule/%e5%85%92%e7%ab%a5%e8%a1%97%e8%88%9e-%e7%be%bf%e8%8a%83-20/2027-03-14/
CATEGORIES:兒童街舞,課程
END:VEVENT
BEGIN:VEVENT
DTSTART;TZID=Asia/Shanghai:20270314T154000
DTEND;TZID=Asia/Shanghai:20270314T164000
DTSTAMP:20260423T072919
CREATED:20250901T060229Z
LAST-MODIFIED:20250901T060229Z
UID:10029429-1805038800-1805042400@www.dancesoul.com.tw
SUMMARY:兒童Street Jazz-傘傘
DESCRIPTION:
URL:https://www.dancesoul.com.tw/schedule/%e5%85%92%e7%ab%a5street-jazz-%e5%82%98%e5%82%98-4/2027-03-14/
CATEGORIES:兒童街舞,兒童課
END:VEVENT
BEGIN:VEVENT
DTSTART;TZID=Asia/Shanghai:20270320T132000
DTEND;TZID=Asia/Shanghai:20270320T142000
DTSTAMP:20260423T072919
CREATED:20251201T070320Z
LAST-MODIFIED:20260315T072345Z
UID:10027341-1805548800-1805552400@www.dancesoul.com.tw
SUMMARY:兒童MV(初)(i-dle - 'Mona(Feat.skaiwater)')-薇臻
DESCRIPTION:
URL:https://www.dancesoul.com.tw/schedule/%e5%85%92%e7%ab%a5%e8%a1%97%e8%88%9e-%e8%96%87%e8%87%bb-21-2-2-2/2027-03-20/
CATEGORIES:兒童街舞,兒童課
END:VEVENT
BEGIN:VEVENT
DTSTART;TZID=Asia/Shanghai:20270320T154000
DTEND;TZID=Asia/Shanghai:20270320T164000
DTSTAMP:20260423T072919
CREATED:20250901T055134Z
LAST-MODIFIED:20260327T083158Z
UID:10033504-1805557200-1805560800@www.dancesoul.com.tw
SUMMARY:兒童Popping-勁宏
DESCRIPTION:
URL:https://www.dancesoul.com.tw/schedule/%e5%85%92%e7%ab%a5popping-%e5%8b%81%e5%ae%8f-2/2027-03-20/
CATEGORIES:兒童街舞,課程
END:VEVENT
BEGIN:VEVENT
DTSTART;TZID=Asia/Shanghai:20270321T132000
DTEND;TZID=Asia/Shanghai:20270321T142000
DTSTAMP:20260423T072919
CREATED:20250901T055750Z
LAST-MODIFIED:20250901T055750Z
UID:10028908-1805635200-1805638800@www.dancesoul.com.tw
SUMMARY:兒童街舞-羿芃
DESCRIPTION:
URL:https://www.dancesoul.com.tw/schedule/%e5%85%92%e7%ab%a5%e8%a1%97%e8%88%9e-%e7%be%bf%e8%8a%83-20/2027-03-21/
CATEGORIES:兒童街舞,課程
END:VEVENT
BEGIN:VEVENT
DTSTART;TZID=Asia/Shanghai:20270321T154000
DTEND;TZID=Asia/Shanghai:20270321T164000
DTSTAMP:20260423T072919
CREATED:20250901T060229Z
LAST-MODIFIED:20250901T060229Z
UID:10029430-1805643600-1805647200@www.dancesoul.com.tw
SUMMARY:兒童Street Jazz-傘傘
DESCRIPTION:
URL:https://www.dancesoul.com.tw/schedule/%e5%85%92%e7%ab%a5street-jazz-%e5%82%98%e5%82%98-4/2027-03-21/
CATEGORIES:兒童街舞,兒童課
END:VEVENT
BEGIN:VEVENT
DTSTART;TZID=Asia/Shanghai:20270327T132000
DTEND;TZID=Asia/Shanghai:20270327T142000
DTSTAMP:20260423T072919
CREATED:20251201T070320Z
LAST-MODIFIED:20260315T072345Z
UID:10027342-1806153600-1806157200@www.dancesoul.com.tw
SUMMARY:兒童MV(初)(i-dle - 'Mona(Feat.skaiwater)')-薇臻
DESCRIPTION:
URL:https://www.dancesoul.com.tw/schedule/%e5%85%92%e7%ab%a5%e8%a1%97%e8%88%9e-%e8%96%87%e8%87%bb-21-2-2-2/2027-03-27/
CATEGORIES:兒童街舞,兒童課
END:VEVENT
BEGIN:VEVENT
DTSTART;TZID=Asia/Shanghai:20270327T154000
DTEND;TZID=Asia/Shanghai:20270327T164000
DTSTAMP:20260423T072919
CREATED:20250901T055134Z
LAST-MODIFIED:20260327T083158Z
UID:10033505-1806162000-1806165600@www.dancesoul.com.tw
SUMMARY:兒童Popping-勁宏
DESCRIPTION:
URL:https://www.dancesoul.com.tw/schedule/%e5%85%92%e7%ab%a5popping-%e5%8b%81%e5%ae%8f-2/2027-03-27/
CATEGORIES:兒童街舞,課程
END:VEVENT
BEGIN:VEVENT
DTSTART;TZID=Asia/Shanghai:20270328T132000
DTEND;TZID=Asia/Shanghai:20270328T142000
DTSTAMP:20260423T072919
CREATED:20250901T055750Z
LAST-MODIFIED:20250901T055750Z
UID:10028909-1806240000-1806243600@www.dancesoul.com.tw
SUMMARY:兒童街舞-羿芃
DESCRIPTION:
URL:https://www.dancesoul.com.tw/schedule/%e5%85%92%e7%ab%a5%e8%a1%97%e8%88%9e-%e7%be%bf%e8%8a%83-20/2027-03-28/
CATEGORIES:兒童街舞,課程
END:VEVENT
BEGIN:VEVENT
DTSTART;TZID=Asia/Shanghai:20270328T154000
DTEND;TZID=Asia/Shanghai:20270328T164000
DTSTAMP:20260423T072919
CREATED:20250901T060229Z
LAST-MODIFIED:20250901T060229Z
UID:10029431-1806248400-1806252000@www.dancesoul.com.tw
SUMMARY:兒童Street Jazz-傘傘
DESCRIPTION:
URL:https://www.dancesoul.com.tw/schedule/%e5%85%92%e7%ab%a5street-jazz-%e5%82%98%e5%82%98-4/2027-03-28/
CATEGORIES:兒童街舞,兒童課
END:VEVENT
BEGIN:VEVENT
DTSTART;TZID=Asia/Shanghai:20270403T132000
DTEND;TZID=Asia/Shanghai:20270403T142000
DTSTAMP:20260423T072919
CREATED:20251201T070320Z
LAST-MODIFIED:20260315T072345Z
UID:10027343-1806758400-1806762000@www.dancesoul.com.tw
SUMMARY:兒童MV(初)(i-dle - 'Mona(Feat.skaiwater)')-薇臻
DESCRIPTION:
URL:https://www.dancesoul.com.tw/schedule/%e5%85%92%e7%ab%a5%e8%a1%97%e8%88%9e-%e8%96%87%e8%87%bb-21-2-2-2/2027-04-03/
CATEGORIES:兒童街舞,兒童課
END:VEVENT
BEGIN:VEVENT
DTSTART;TZID=Asia/Shanghai:20270403T154000
DTEND;TZID=Asia/Shanghai:20270403T164000
DTSTAMP:20260423T072919
CREATED:20250901T055134Z
LAST-MODIFIED:20260327T083158Z
UID:10033506-1806766800-1806770400@www.dancesoul.com.tw
SUMMARY:兒童Popping-勁宏
DESCRIPTION:
URL:https://www.dancesoul.com.tw/schedule/%e5%85%92%e7%ab%a5popping-%e5%8b%81%e5%ae%8f-2/2027-04-03/
CATEGORIES:兒童街舞,課程
END:VEVENT
BEGIN:VEVENT
DTSTART;TZID=Asia/Shanghai:20270404T132000
DTEND;TZID=Asia/Shanghai:20270404T142000
DTSTAMP:20260423T072919
CREATED:20250901T055750Z
LAST-MODIFIED:20250901T055750Z
UID:10028910-1806844800-1806848400@www.dancesoul.com.tw
SUMMARY:兒童街舞-羿芃
DESCRIPTION:
URL:https://www.dancesoul.com.tw/schedule/%e5%85%92%e7%ab%a5%e8%a1%97%e8%88%9e-%e7%be%bf%e8%8a%83-20/2027-04-04/
CATEGORIES:兒童街舞,課程
END:VEVENT
BEGIN:VEVENT
DTSTART;TZID=Asia/Shanghai:20270404T154000
DTEND;TZID=Asia/Shanghai:20270404T164000
DTSTAMP:20260423T072919
CREATED:20250901T060229Z
LAST-MODIFIED:20250901T060229Z
UID:10029432-1806853200-1806856800@www.dancesoul.com.tw
SUMMARY:兒童Street Jazz-傘傘
DESCRIPTION:
URL:https://www.dancesoul.com.tw/schedule/%e5%85%92%e7%ab%a5street-jazz-%e5%82%98%e5%82%98-4/2027-04-04/
CATEGORIES:兒童街舞,兒童課
END:VEVENT
BEGIN:VEVENT
DTSTART;TZID=Asia/Shanghai:20270410T132000
DTEND;TZID=Asia/Shanghai:20270410T142000
DTSTAMP:20260423T072919
CREATED:20251201T070320Z
LAST-MODIFIED:20260315T072345Z
UID:10027344-1807363200-1807366800@www.dancesoul.com.tw
SUMMARY:兒童MV(初)(i-dle - 'Mona(Feat.skaiwater)')-薇臻
DESCRIPTION:
URL:https://www.dancesoul.com.tw/schedule/%e5%85%92%e7%ab%a5%e8%a1%97%e8%88%9e-%e8%96%87%e8%87%bb-21-2-2-2/2027-04-10/
CATEGORIES:兒童街舞,兒童課
END:VEVENT
BEGIN:VEVENT
DTSTART;TZID=Asia/Shanghai:20270410T154000
DTEND;TZID=Asia/Shanghai:20270410T164000
DTSTAMP:20260423T072919
CREATED:20250901T055134Z
LAST-MODIFIED:20260327T083158Z
UID:10033507-1807371600-1807375200@www.dancesoul.com.tw
SUMMARY:兒童Popping-勁宏
DESCRIPTION:
URL:https://www.dancesoul.com.tw/schedule/%e5%85%92%e7%ab%a5popping-%e5%8b%81%e5%ae%8f-2/2027-04-10/
CATEGORIES:兒童街舞,課程
END:VEVENT
BEGIN:VEVENT
DTSTART;TZID=Asia/Shanghai:20270411T132000
DTEND;TZID=Asia/Shanghai:20270411T142000
DTSTAMP:20260423T072919
CREATED:20250901T055750Z
LAST-MODIFIED:20250901T055750Z
UID:10028911-1807449600-1807453200@www.dancesoul.com.tw
SUMMARY:兒童街舞-羿芃
DESCRIPTION:
URL:https://www.dancesoul.com.tw/schedule/%e5%85%92%e7%ab%a5%e8%a1%97%e8%88%9e-%e7%be%bf%e8%8a%83-20/2027-04-11/
CATEGORIES:兒童街舞,課程
END:VEVENT
BEGIN:VEVENT
DTSTART;TZID=Asia/Shanghai:20270411T154000
DTEND;TZID=Asia/Shanghai:20270411T164000
DTSTAMP:20260423T072919
CREATED:20250901T060229Z
LAST-MODIFIED:20250901T060229Z
UID:10029433-1807458000-1807461600@www.dancesoul.com.tw
SUMMARY:兒童Street Jazz-傘傘
DESCRIPTION:
URL:https://www.dancesoul.com.tw/schedule/%e5%85%92%e7%ab%a5street-jazz-%e5%82%98%e5%82%98-4/2027-04-11/
CATEGORIES:兒童街舞,兒童課
END:VEVENT
BEGIN:VEVENT
DTSTART;TZID=Asia/Shanghai:20270417T132000
DTEND;TZID=Asia/Shanghai:20270417T142000
DTSTAMP:20260423T072919
CREATED:20251201T070320Z
LAST-MODIFIED:20260315T072345Z
UID:10027345-1807968000-1807971600@www.dancesoul.com.tw
SUMMARY:兒童MV(初)(i-dle - 'Mona(Feat.skaiwater)')-薇臻
DESCRIPTION:
URL:https://www.dancesoul.com.tw/schedule/%e5%85%92%e7%ab%a5%e8%a1%97%e8%88%9e-%e8%96%87%e8%87%bb-21-2-2-2/2027-04-17/
CATEGORIES:兒童街舞,兒童課
END:VEVENT
BEGIN:VEVENT
DTSTART;TZID=Asia/Shanghai:20270417T154000
DTEND;TZID=Asia/Shanghai:20270417T164000
DTSTAMP:20260423T072919
CREATED:20250901T055134Z
LAST-MODIFIED:20260327T083158Z
UID:10033508-1807976400-1807980000@www.dancesoul.com.tw
SUMMARY:兒童Popping-勁宏
DESCRIPTION:
URL:https://www.dancesoul.com.tw/schedule/%e5%85%92%e7%ab%a5popping-%e5%8b%81%e5%ae%8f-2/2027-04-17/
CATEGORIES:兒童街舞,課程
END:VEVENT
BEGIN:VEVENT
DTSTART;TZID=Asia/Shanghai:20270418T132000
DTEND;TZID=Asia/Shanghai:20270418T142000
DTSTAMP:20260423T072919
CREATED:20250901T055750Z
LAST-MODIFIED:20250901T055750Z
UID:10028912-1808054400-1808058000@www.dancesoul.com.tw
SUMMARY:兒童街舞-羿芃
DESCRIPTION:
URL:https://www.dancesoul.com.tw/schedule/%e5%85%92%e7%ab%a5%e8%a1%97%e8%88%9e-%e7%be%bf%e8%8a%83-20/2027-04-18/
CATEGORIES:兒童街舞,課程
END:VEVENT
BEGIN:VEVENT
DTSTART;TZID=Asia/Shanghai:20270418T154000
DTEND;TZID=Asia/Shanghai:20270418T164000
DTSTAMP:20260423T072919
CREATED:20250901T060229Z
LAST-MODIFIED:20250901T060229Z
UID:10029434-1808062800-1808066400@www.dancesoul.com.tw
SUMMARY:兒童Street Jazz-傘傘
DESCRIPTION:
URL:https://www.dancesoul.com.tw/schedule/%e5%85%92%e7%ab%a5street-jazz-%e5%82%98%e5%82%98-4/2027-04-18/
CATEGORIES:兒童街舞,兒童課
END:VEVENT
BEGIN:VEVENT
DTSTART;TZID=Asia/Shanghai:20270424T132000
DTEND;TZID=Asia/Shanghai:20270424T142000
DTSTAMP:20260423T072919
CREATED:20251201T070320Z
LAST-MODIFIED:20260315T072345Z
UID:10027346-1808572800-1808576400@www.dancesoul.com.tw
SUMMARY:兒童MV(初)(i-dle - 'Mona(Feat.skaiwater)')-薇臻
DESCRIPTION:
URL:https://www.dancesoul.com.tw/schedule/%e5%85%92%e7%ab%a5%e8%a1%97%e8%88%9e-%e8%96%87%e8%87%bb-21-2-2-2/2027-04-24/
CATEGORIES:兒童街舞,兒童課
END:VEVENT
BEGIN:VEVENT
DTSTART;TZID=Asia/Shanghai:20270424T154000
DTEND;TZID=Asia/Shanghai:20270424T164000
DTSTAMP:20260423T072919
CREATED:20250901T055134Z
LAST-MODIFIED:20260327T083158Z
UID:10033509-1808581200-1808584800@www.dancesoul.com.tw
SUMMARY:兒童Popping-勁宏
DESCRIPTION:
URL:https://www.dancesoul.com.tw/schedule/%e5%85%92%e7%ab%a5popping-%e5%8b%81%e5%ae%8f-2/2027-04-24/
CATEGORIES:兒童街舞,課程
END:VEVENT
END:VCALENDAR