BEGIN:VCALENDAR
VERSION:2.0
PRODID:-//DANCE SOUL 舞魂街舞學校 - ECPv6.15.18//NONSGML v1.0//EN
CALSCALE:GREGORIAN
METHOD:PUBLISH
X-ORIGINAL-URL:https://www.dancesoul.com.tw
X-WR-CALDESC:Events for DANCE SOUL 舞魂街舞學校
REFRESH-INTERVAL;VALUE=DURATION:PT1H
X-Robots-Tag:noindex
X-PUBLISHED-TTL:PT1H
BEGIN:VTIMEZONE
TZID:Asia/Shanghai
BEGIN:STANDARD
TZOFFSETFROM:+0800
TZOFFSETTO:+0800
TZNAME:CST
DTSTART:20260101T000000
END:STANDARD
END:VTIMEZONE
BEGIN:VEVENT
DTSTART;TZID=Asia/Shanghai:20270516T132000
DTEND;TZID=Asia/Shanghai:20270516T142000
DTSTAMP:20260426T013226
CREATED:20250901T055750Z
LAST-MODIFIED:20250901T055750Z
UID:10028916-1810473600-1810477200@www.dancesoul.com.tw
SUMMARY:兒童街舞-羿芃
DESCRIPTION:
URL:https://www.dancesoul.com.tw/schedule/%e5%85%92%e7%ab%a5%e8%a1%97%e8%88%9e-%e7%be%bf%e8%8a%83-20/2027-05-16/
CATEGORIES:兒童街舞,課程
END:VEVENT
BEGIN:VEVENT
DTSTART;TZID=Asia/Shanghai:20270516T154000
DTEND;TZID=Asia/Shanghai:20270516T164000
DTSTAMP:20260426T013226
CREATED:20250901T060229Z
LAST-MODIFIED:20250901T060229Z
UID:10029438-1810482000-1810485600@www.dancesoul.com.tw
SUMMARY:兒童Street Jazz-傘傘
DESCRIPTION:
URL:https://www.dancesoul.com.tw/schedule/%e5%85%92%e7%ab%a5street-jazz-%e5%82%98%e5%82%98-4/2027-05-16/
CATEGORIES:兒童街舞,兒童課
END:VEVENT
BEGIN:VEVENT
DTSTART;TZID=Asia/Shanghai:20270522T132000
DTEND;TZID=Asia/Shanghai:20270522T142000
DTSTAMP:20260426T013226
CREATED:20251201T070320Z
LAST-MODIFIED:20260315T072345Z
UID:10027350-1810992000-1810995600@www.dancesoul.com.tw
SUMMARY:兒童MV(初)(i-dle - 'Mona(Feat.skaiwater)')-薇臻
DESCRIPTION:
URL:https://www.dancesoul.com.tw/schedule/%e5%85%92%e7%ab%a5%e8%a1%97%e8%88%9e-%e8%96%87%e8%87%bb-21-2-2-2/2027-05-22/
CATEGORIES:兒童街舞,兒童課
END:VEVENT
BEGIN:VEVENT
DTSTART;TZID=Asia/Shanghai:20270522T154000
DTEND;TZID=Asia/Shanghai:20270522T164000
DTSTAMP:20260426T013226
CREATED:20250901T055134Z
LAST-MODIFIED:20260327T083158Z
UID:10033513-1811000400-1811004000@www.dancesoul.com.tw
SUMMARY:兒童Popping-勁宏
DESCRIPTION:
URL:https://www.dancesoul.com.tw/schedule/%e5%85%92%e7%ab%a5popping-%e5%8b%81%e5%ae%8f-2/2027-05-22/
CATEGORIES:兒童街舞,課程
END:VEVENT
BEGIN:VEVENT
DTSTART;TZID=Asia/Shanghai:20270523T132000
DTEND;TZID=Asia/Shanghai:20270523T142000
DTSTAMP:20260426T013226
CREATED:20250901T055750Z
LAST-MODIFIED:20250901T055750Z
UID:10028917-1811078400-1811082000@www.dancesoul.com.tw
SUMMARY:兒童街舞-羿芃
DESCRIPTION:
URL:https://www.dancesoul.com.tw/schedule/%e5%85%92%e7%ab%a5%e8%a1%97%e8%88%9e-%e7%be%bf%e8%8a%83-20/2027-05-23/
CATEGORIES:兒童街舞,課程
END:VEVENT
BEGIN:VEVENT
DTSTART;TZID=Asia/Shanghai:20270523T154000
DTEND;TZID=Asia/Shanghai:20270523T164000
DTSTAMP:20260426T013226
CREATED:20250901T060229Z
LAST-MODIFIED:20250901T060229Z
UID:10029439-1811086800-1811090400@www.dancesoul.com.tw
SUMMARY:兒童Street Jazz-傘傘
DESCRIPTION:
URL:https://www.dancesoul.com.tw/schedule/%e5%85%92%e7%ab%a5street-jazz-%e5%82%98%e5%82%98-4/2027-05-23/
CATEGORIES:兒童街舞,兒童課
END:VEVENT
BEGIN:VEVENT
DTSTART;TZID=Asia/Shanghai:20270529T132000
DTEND;TZID=Asia/Shanghai:20270529T142000
DTSTAMP:20260426T013226
CREATED:20251201T070320Z
LAST-MODIFIED:20260315T072345Z
UID:10027351-1811596800-1811600400@www.dancesoul.com.tw
SUMMARY:兒童MV(初)(i-dle - 'Mona(Feat.skaiwater)')-薇臻
DESCRIPTION:
URL:https://www.dancesoul.com.tw/schedule/%e5%85%92%e7%ab%a5%e8%a1%97%e8%88%9e-%e8%96%87%e8%87%bb-21-2-2-2/2027-05-29/
CATEGORIES:兒童街舞,兒童課
END:VEVENT
BEGIN:VEVENT
DTSTART;TZID=Asia/Shanghai:20270529T154000
DTEND;TZID=Asia/Shanghai:20270529T164000
DTSTAMP:20260426T013226
CREATED:20250901T055134Z
LAST-MODIFIED:20260327T083158Z
UID:10033514-1811605200-1811608800@www.dancesoul.com.tw
SUMMARY:兒童Popping-勁宏
DESCRIPTION:
URL:https://www.dancesoul.com.tw/schedule/%e5%85%92%e7%ab%a5popping-%e5%8b%81%e5%ae%8f-2/2027-05-29/
CATEGORIES:兒童街舞,課程
END:VEVENT
BEGIN:VEVENT
DTSTART;TZID=Asia/Shanghai:20270530T132000
DTEND;TZID=Asia/Shanghai:20270530T142000
DTSTAMP:20260426T013226
CREATED:20250901T055750Z
LAST-MODIFIED:20250901T055750Z
UID:10028918-1811683200-1811686800@www.dancesoul.com.tw
SUMMARY:兒童街舞-羿芃
DESCRIPTION:
URL:https://www.dancesoul.com.tw/schedule/%e5%85%92%e7%ab%a5%e8%a1%97%e8%88%9e-%e7%be%bf%e8%8a%83-20/2027-05-30/
CATEGORIES:兒童街舞,課程
END:VEVENT
BEGIN:VEVENT
DTSTART;TZID=Asia/Shanghai:20270530T154000
DTEND;TZID=Asia/Shanghai:20270530T164000
DTSTAMP:20260426T013226
CREATED:20250901T060229Z
LAST-MODIFIED:20250901T060229Z
UID:10029440-1811691600-1811695200@www.dancesoul.com.tw
SUMMARY:兒童Street Jazz-傘傘
DESCRIPTION:
URL:https://www.dancesoul.com.tw/schedule/%e5%85%92%e7%ab%a5street-jazz-%e5%82%98%e5%82%98-4/2027-05-30/
CATEGORIES:兒童街舞,兒童課
END:VEVENT
BEGIN:VEVENT
DTSTART;TZID=Asia/Shanghai:20270605T132000
DTEND;TZID=Asia/Shanghai:20270605T142000
DTSTAMP:20260426T013226
CREATED:20251201T070320Z
LAST-MODIFIED:20260315T072345Z
UID:10027352-1812201600-1812205200@www.dancesoul.com.tw
SUMMARY:兒童MV(初)(i-dle - 'Mona(Feat.skaiwater)')-薇臻
DESCRIPTION:
URL:https://www.dancesoul.com.tw/schedule/%e5%85%92%e7%ab%a5%e8%a1%97%e8%88%9e-%e8%96%87%e8%87%bb-21-2-2-2/2027-06-05/
CATEGORIES:兒童街舞,兒童課
END:VEVENT
BEGIN:VEVENT
DTSTART;TZID=Asia/Shanghai:20270605T154000
DTEND;TZID=Asia/Shanghai:20270605T164000
DTSTAMP:20260426T013226
CREATED:20250901T055134Z
LAST-MODIFIED:20260327T083158Z
UID:10033515-1812210000-1812213600@www.dancesoul.com.tw
SUMMARY:兒童Popping-勁宏
DESCRIPTION:
URL:https://www.dancesoul.com.tw/schedule/%e5%85%92%e7%ab%a5popping-%e5%8b%81%e5%ae%8f-2/2027-06-05/
CATEGORIES:兒童街舞,課程
END:VEVENT
BEGIN:VEVENT
DTSTART;TZID=Asia/Shanghai:20270606T132000
DTEND;TZID=Asia/Shanghai:20270606T142000
DTSTAMP:20260426T013226
CREATED:20250901T055750Z
LAST-MODIFIED:20250901T055750Z
UID:10028919-1812288000-1812291600@www.dancesoul.com.tw
SUMMARY:兒童街舞-羿芃
DESCRIPTION:
URL:https://www.dancesoul.com.tw/schedule/%e5%85%92%e7%ab%a5%e8%a1%97%e8%88%9e-%e7%be%bf%e8%8a%83-20/2027-06-06/
CATEGORIES:兒童街舞,課程
END:VEVENT
BEGIN:VEVENT
DTSTART;TZID=Asia/Shanghai:20270606T154000
DTEND;TZID=Asia/Shanghai:20270606T164000
DTSTAMP:20260426T013226
CREATED:20250901T060229Z
LAST-MODIFIED:20250901T060229Z
UID:10029441-1812296400-1812300000@www.dancesoul.com.tw
SUMMARY:兒童Street Jazz-傘傘
DESCRIPTION:
URL:https://www.dancesoul.com.tw/schedule/%e5%85%92%e7%ab%a5street-jazz-%e5%82%98%e5%82%98-4/2027-06-06/
CATEGORIES:兒童街舞,兒童課
END:VEVENT
BEGIN:VEVENT
DTSTART;TZID=Asia/Shanghai:20270612T132000
DTEND;TZID=Asia/Shanghai:20270612T142000
DTSTAMP:20260426T013226
CREATED:20251201T070320Z
LAST-MODIFIED:20260315T072345Z
UID:10027353-1812806400-1812810000@www.dancesoul.com.tw
SUMMARY:兒童MV(初)(i-dle - 'Mona(Feat.skaiwater)')-薇臻
DESCRIPTION:
URL:https://www.dancesoul.com.tw/schedule/%e5%85%92%e7%ab%a5%e8%a1%97%e8%88%9e-%e8%96%87%e8%87%bb-21-2-2-2/2027-06-12/
CATEGORIES:兒童街舞,兒童課
END:VEVENT
BEGIN:VEVENT
DTSTART;TZID=Asia/Shanghai:20270612T154000
DTEND;TZID=Asia/Shanghai:20270612T164000
DTSTAMP:20260426T013226
CREATED:20250901T055134Z
LAST-MODIFIED:20260327T083158Z
UID:10033516-1812814800-1812818400@www.dancesoul.com.tw
SUMMARY:兒童Popping-勁宏
DESCRIPTION:
URL:https://www.dancesoul.com.tw/schedule/%e5%85%92%e7%ab%a5popping-%e5%8b%81%e5%ae%8f-2/2027-06-12/
CATEGORIES:兒童街舞,課程
END:VEVENT
BEGIN:VEVENT
DTSTART;TZID=Asia/Shanghai:20270613T132000
DTEND;TZID=Asia/Shanghai:20270613T142000
DTSTAMP:20260426T013226
CREATED:20250901T055750Z
LAST-MODIFIED:20250901T055750Z
UID:10028920-1812892800-1812896400@www.dancesoul.com.tw
SUMMARY:兒童街舞-羿芃
DESCRIPTION:
URL:https://www.dancesoul.com.tw/schedule/%e5%85%92%e7%ab%a5%e8%a1%97%e8%88%9e-%e7%be%bf%e8%8a%83-20/2027-06-13/
CATEGORIES:兒童街舞,課程
END:VEVENT
BEGIN:VEVENT
DTSTART;TZID=Asia/Shanghai:20270613T154000
DTEND;TZID=Asia/Shanghai:20270613T164000
DTSTAMP:20260426T013226
CREATED:20250901T060229Z
LAST-MODIFIED:20250901T060229Z
UID:10029442-1812901200-1812904800@www.dancesoul.com.tw
SUMMARY:兒童Street Jazz-傘傘
DESCRIPTION:
URL:https://www.dancesoul.com.tw/schedule/%e5%85%92%e7%ab%a5street-jazz-%e5%82%98%e5%82%98-4/2027-06-13/
CATEGORIES:兒童街舞,兒童課
END:VEVENT
BEGIN:VEVENT
DTSTART;TZID=Asia/Shanghai:20270619T132000
DTEND;TZID=Asia/Shanghai:20270619T142000
DTSTAMP:20260426T013226
CREATED:20251201T070320Z
LAST-MODIFIED:20260315T072345Z
UID:10027354-1813411200-1813414800@www.dancesoul.com.tw
SUMMARY:兒童MV(初)(i-dle - 'Mona(Feat.skaiwater)')-薇臻
DESCRIPTION:
URL:https://www.dancesoul.com.tw/schedule/%e5%85%92%e7%ab%a5%e8%a1%97%e8%88%9e-%e8%96%87%e8%87%bb-21-2-2-2/2027-06-19/
CATEGORIES:兒童街舞,兒童課
END:VEVENT
BEGIN:VEVENT
DTSTART;TZID=Asia/Shanghai:20270619T154000
DTEND;TZID=Asia/Shanghai:20270619T164000
DTSTAMP:20260426T013226
CREATED:20250901T055134Z
LAST-MODIFIED:20260327T083158Z
UID:10033517-1813419600-1813423200@www.dancesoul.com.tw
SUMMARY:兒童Popping-勁宏
DESCRIPTION:
URL:https://www.dancesoul.com.tw/schedule/%e5%85%92%e7%ab%a5popping-%e5%8b%81%e5%ae%8f-2/2027-06-19/
CATEGORIES:兒童街舞,課程
END:VEVENT
BEGIN:VEVENT
DTSTART;TZID=Asia/Shanghai:20270620T132000
DTEND;TZID=Asia/Shanghai:20270620T142000
DTSTAMP:20260426T013226
CREATED:20250901T055750Z
LAST-MODIFIED:20250901T055750Z
UID:10028921-1813497600-1813501200@www.dancesoul.com.tw
SUMMARY:兒童街舞-羿芃
DESCRIPTION:
URL:https://www.dancesoul.com.tw/schedule/%e5%85%92%e7%ab%a5%e8%a1%97%e8%88%9e-%e7%be%bf%e8%8a%83-20/2027-06-20/
CATEGORIES:兒童街舞,課程
END:VEVENT
BEGIN:VEVENT
DTSTART;TZID=Asia/Shanghai:20270620T154000
DTEND;TZID=Asia/Shanghai:20270620T164000
DTSTAMP:20260426T013226
CREATED:20250901T060229Z
LAST-MODIFIED:20250901T060229Z
UID:10029443-1813506000-1813509600@www.dancesoul.com.tw
SUMMARY:兒童Street Jazz-傘傘
DESCRIPTION:
URL:https://www.dancesoul.com.tw/schedule/%e5%85%92%e7%ab%a5street-jazz-%e5%82%98%e5%82%98-4/2027-06-20/
CATEGORIES:兒童街舞,兒童課
END:VEVENT
BEGIN:VEVENT
DTSTART;TZID=Asia/Shanghai:20270626T132000
DTEND;TZID=Asia/Shanghai:20270626T142000
DTSTAMP:20260426T013226
CREATED:20251201T070320Z
LAST-MODIFIED:20260315T072345Z
UID:10027355-1814016000-1814019600@www.dancesoul.com.tw
SUMMARY:兒童MV(初)(i-dle - 'Mona(Feat.skaiwater)')-薇臻
DESCRIPTION:
URL:https://www.dancesoul.com.tw/schedule/%e5%85%92%e7%ab%a5%e8%a1%97%e8%88%9e-%e8%96%87%e8%87%bb-21-2-2-2/2027-06-26/
CATEGORIES:兒童街舞,兒童課
END:VEVENT
BEGIN:VEVENT
DTSTART;TZID=Asia/Shanghai:20270626T154000
DTEND;TZID=Asia/Shanghai:20270626T164000
DTSTAMP:20260426T013226
CREATED:20250901T055134Z
LAST-MODIFIED:20260327T083158Z
UID:10033518-1814024400-1814028000@www.dancesoul.com.tw
SUMMARY:兒童Popping-勁宏
DESCRIPTION:
URL:https://www.dancesoul.com.tw/schedule/%e5%85%92%e7%ab%a5popping-%e5%8b%81%e5%ae%8f-2/2027-06-26/
CATEGORIES:兒童街舞,課程
END:VEVENT
BEGIN:VEVENT
DTSTART;TZID=Asia/Shanghai:20270627T132000
DTEND;TZID=Asia/Shanghai:20270627T142000
DTSTAMP:20260426T013226
CREATED:20250901T055750Z
LAST-MODIFIED:20250901T055750Z
UID:10028922-1814102400-1814106000@www.dancesoul.com.tw
SUMMARY:兒童街舞-羿芃
DESCRIPTION:
URL:https://www.dancesoul.com.tw/schedule/%e5%85%92%e7%ab%a5%e8%a1%97%e8%88%9e-%e7%be%bf%e8%8a%83-20/2027-06-27/
CATEGORIES:兒童街舞,課程
END:VEVENT
BEGIN:VEVENT
DTSTART;TZID=Asia/Shanghai:20270627T154000
DTEND;TZID=Asia/Shanghai:20270627T164000
DTSTAMP:20260426T013226
CREATED:20250901T060229Z
LAST-MODIFIED:20250901T060229Z
UID:10029444-1814110800-1814114400@www.dancesoul.com.tw
SUMMARY:兒童Street Jazz-傘傘
DESCRIPTION:
URL:https://www.dancesoul.com.tw/schedule/%e5%85%92%e7%ab%a5street-jazz-%e5%82%98%e5%82%98-4/2027-06-27/
CATEGORIES:兒童街舞,兒童課
END:VEVENT
BEGIN:VEVENT
DTSTART;TZID=Asia/Shanghai:20270703T132000
DTEND;TZID=Asia/Shanghai:20270703T142000
DTSTAMP:20260426T013226
CREATED:20251201T070320Z
LAST-MODIFIED:20260315T072345Z
UID:10027356-1814620800-1814624400@www.dancesoul.com.tw
SUMMARY:兒童MV(初)(i-dle - 'Mona(Feat.skaiwater)')-薇臻
DESCRIPTION:
URL:https://www.dancesoul.com.tw/schedule/%e5%85%92%e7%ab%a5%e8%a1%97%e8%88%9e-%e8%96%87%e8%87%bb-21-2-2-2/2027-07-03/
CATEGORIES:兒童街舞,兒童課
END:VEVENT
BEGIN:VEVENT
DTSTART;TZID=Asia/Shanghai:20270703T154000
DTEND;TZID=Asia/Shanghai:20270703T164000
DTSTAMP:20260426T013226
CREATED:20250901T055134Z
LAST-MODIFIED:20260327T083158Z
UID:10033519-1814629200-1814632800@www.dancesoul.com.tw
SUMMARY:兒童Popping-勁宏
DESCRIPTION:
URL:https://www.dancesoul.com.tw/schedule/%e5%85%92%e7%ab%a5popping-%e5%8b%81%e5%ae%8f-2/2027-07-03/
CATEGORIES:兒童街舞,課程
END:VEVENT
BEGIN:VEVENT
DTSTART;TZID=Asia/Shanghai:20270704T132000
DTEND;TZID=Asia/Shanghai:20270704T142000
DTSTAMP:20260426T013226
CREATED:20250901T055750Z
LAST-MODIFIED:20250901T055750Z
UID:10028923-1814707200-1814710800@www.dancesoul.com.tw
SUMMARY:兒童街舞-羿芃
DESCRIPTION:
URL:https://www.dancesoul.com.tw/schedule/%e5%85%92%e7%ab%a5%e8%a1%97%e8%88%9e-%e7%be%bf%e8%8a%83-20/2027-07-04/
CATEGORIES:兒童街舞,課程
END:VEVENT
BEGIN:VEVENT
DTSTART;TZID=Asia/Shanghai:20270704T154000
DTEND;TZID=Asia/Shanghai:20270704T164000
DTSTAMP:20260426T013226
CREATED:20250901T060229Z
LAST-MODIFIED:20250901T060229Z
UID:10029445-1814715600-1814719200@www.dancesoul.com.tw
SUMMARY:兒童Street Jazz-傘傘
DESCRIPTION:
URL:https://www.dancesoul.com.tw/schedule/%e5%85%92%e7%ab%a5street-jazz-%e5%82%98%e5%82%98-4/2027-07-04/
CATEGORIES:兒童街舞,兒童課
END:VEVENT
END:VCALENDAR