BEGIN:VCALENDAR
VERSION:2.0
PRODID:-//DANCE SOUL 舞魂街舞學校 - ECPv6.15.18//NONSGML v1.0//EN
CALSCALE:GREGORIAN
METHOD:PUBLISH
X-ORIGINAL-URL:https://www.dancesoul.com.tw
X-WR-CALDESC:Events for DANCE SOUL 舞魂街舞學校
REFRESH-INTERVAL;VALUE=DURATION:PT1H
X-Robots-Tag:noindex
X-PUBLISHED-TTL:PT1H
BEGIN:VTIMEZONE
TZID:Asia/Shanghai
BEGIN:STANDARD
TZOFFSETFROM:+0800
TZOFFSETTO:+0800
TZNAME:CST
DTSTART:20260101T000000
END:STANDARD
END:VTIMEZONE
BEGIN:VEVENT
DTSTART;TZID=Asia/Shanghai:20270620T132000
DTEND;TZID=Asia/Shanghai:20270620T142000
DTSTAMP:20260426T055721
CREATED:20250901T055750Z
LAST-MODIFIED:20250901T055750Z
UID:10028921-1813497600-1813501200@www.dancesoul.com.tw
SUMMARY:兒童街舞-羿芃
DESCRIPTION:
URL:https://www.dancesoul.com.tw/schedule/%e5%85%92%e7%ab%a5%e8%a1%97%e8%88%9e-%e7%be%bf%e8%8a%83-20/2027-06-20/
CATEGORIES:兒童街舞,課程
END:VEVENT
BEGIN:VEVENT
DTSTART;TZID=Asia/Shanghai:20270620T154000
DTEND;TZID=Asia/Shanghai:20270620T164000
DTSTAMP:20260426T055721
CREATED:20250901T060229Z
LAST-MODIFIED:20250901T060229Z
UID:10029443-1813506000-1813509600@www.dancesoul.com.tw
SUMMARY:兒童Street Jazz-傘傘
DESCRIPTION:
URL:https://www.dancesoul.com.tw/schedule/%e5%85%92%e7%ab%a5street-jazz-%e5%82%98%e5%82%98-4/2027-06-20/
CATEGORIES:兒童街舞,兒童課
END:VEVENT
BEGIN:VEVENT
DTSTART;TZID=Asia/Shanghai:20270626T132000
DTEND;TZID=Asia/Shanghai:20270626T142000
DTSTAMP:20260426T055721
CREATED:20251201T070320Z
LAST-MODIFIED:20260315T072345Z
UID:10027355-1814016000-1814019600@www.dancesoul.com.tw
SUMMARY:兒童MV(初)(i-dle - 'Mona(Feat.skaiwater)')-薇臻
DESCRIPTION:
URL:https://www.dancesoul.com.tw/schedule/%e5%85%92%e7%ab%a5%e8%a1%97%e8%88%9e-%e8%96%87%e8%87%bb-21-2-2-2/2027-06-26/
CATEGORIES:兒童街舞,兒童課
END:VEVENT
BEGIN:VEVENT
DTSTART;TZID=Asia/Shanghai:20270626T154000
DTEND;TZID=Asia/Shanghai:20270626T164000
DTSTAMP:20260426T055721
CREATED:20250901T055134Z
LAST-MODIFIED:20260327T083158Z
UID:10033518-1814024400-1814028000@www.dancesoul.com.tw
SUMMARY:兒童Popping-勁宏
DESCRIPTION:
URL:https://www.dancesoul.com.tw/schedule/%e5%85%92%e7%ab%a5popping-%e5%8b%81%e5%ae%8f-2/2027-06-26/
CATEGORIES:兒童街舞,課程
END:VEVENT
BEGIN:VEVENT
DTSTART;TZID=Asia/Shanghai:20270627T132000
DTEND;TZID=Asia/Shanghai:20270627T142000
DTSTAMP:20260426T055721
CREATED:20250901T055750Z
LAST-MODIFIED:20250901T055750Z
UID:10028922-1814102400-1814106000@www.dancesoul.com.tw
SUMMARY:兒童街舞-羿芃
DESCRIPTION:
URL:https://www.dancesoul.com.tw/schedule/%e5%85%92%e7%ab%a5%e8%a1%97%e8%88%9e-%e7%be%bf%e8%8a%83-20/2027-06-27/
CATEGORIES:兒童街舞,課程
END:VEVENT
BEGIN:VEVENT
DTSTART;TZID=Asia/Shanghai:20270627T154000
DTEND;TZID=Asia/Shanghai:20270627T164000
DTSTAMP:20260426T055721
CREATED:20250901T060229Z
LAST-MODIFIED:20250901T060229Z
UID:10029444-1814110800-1814114400@www.dancesoul.com.tw
SUMMARY:兒童Street Jazz-傘傘
DESCRIPTION:
URL:https://www.dancesoul.com.tw/schedule/%e5%85%92%e7%ab%a5street-jazz-%e5%82%98%e5%82%98-4/2027-06-27/
CATEGORIES:兒童街舞,兒童課
END:VEVENT
BEGIN:VEVENT
DTSTART;TZID=Asia/Shanghai:20270703T132000
DTEND;TZID=Asia/Shanghai:20270703T142000
DTSTAMP:20260426T055721
CREATED:20251201T070320Z
LAST-MODIFIED:20260315T072345Z
UID:10027356-1814620800-1814624400@www.dancesoul.com.tw
SUMMARY:兒童MV(初)(i-dle - 'Mona(Feat.skaiwater)')-薇臻
DESCRIPTION:
URL:https://www.dancesoul.com.tw/schedule/%e5%85%92%e7%ab%a5%e8%a1%97%e8%88%9e-%e8%96%87%e8%87%bb-21-2-2-2/2027-07-03/
CATEGORIES:兒童街舞,兒童課
END:VEVENT
BEGIN:VEVENT
DTSTART;TZID=Asia/Shanghai:20270703T154000
DTEND;TZID=Asia/Shanghai:20270703T164000
DTSTAMP:20260426T055721
CREATED:20250901T055134Z
LAST-MODIFIED:20260327T083158Z
UID:10033519-1814629200-1814632800@www.dancesoul.com.tw
SUMMARY:兒童Popping-勁宏
DESCRIPTION:
URL:https://www.dancesoul.com.tw/schedule/%e5%85%92%e7%ab%a5popping-%e5%8b%81%e5%ae%8f-2/2027-07-03/
CATEGORIES:兒童街舞,課程
END:VEVENT
BEGIN:VEVENT
DTSTART;TZID=Asia/Shanghai:20270704T132000
DTEND;TZID=Asia/Shanghai:20270704T142000
DTSTAMP:20260426T055721
CREATED:20250901T055750Z
LAST-MODIFIED:20250901T055750Z
UID:10028923-1814707200-1814710800@www.dancesoul.com.tw
SUMMARY:兒童街舞-羿芃
DESCRIPTION:
URL:https://www.dancesoul.com.tw/schedule/%e5%85%92%e7%ab%a5%e8%a1%97%e8%88%9e-%e7%be%bf%e8%8a%83-20/2027-07-04/
CATEGORIES:兒童街舞,課程
END:VEVENT
BEGIN:VEVENT
DTSTART;TZID=Asia/Shanghai:20270704T154000
DTEND;TZID=Asia/Shanghai:20270704T164000
DTSTAMP:20260426T055721
CREATED:20250901T060229Z
LAST-MODIFIED:20250901T060229Z
UID:10029445-1814715600-1814719200@www.dancesoul.com.tw
SUMMARY:兒童Street Jazz-傘傘
DESCRIPTION:
URL:https://www.dancesoul.com.tw/schedule/%e5%85%92%e7%ab%a5street-jazz-%e5%82%98%e5%82%98-4/2027-07-04/
CATEGORIES:兒童街舞,兒童課
END:VEVENT
BEGIN:VEVENT
DTSTART;TZID=Asia/Shanghai:20270710T132000
DTEND;TZID=Asia/Shanghai:20270710T142000
DTSTAMP:20260426T055721
CREATED:20251201T070320Z
LAST-MODIFIED:20260315T072345Z
UID:10027357-1815225600-1815229200@www.dancesoul.com.tw
SUMMARY:兒童MV(初)(i-dle - 'Mona(Feat.skaiwater)')-薇臻
DESCRIPTION:
URL:https://www.dancesoul.com.tw/schedule/%e5%85%92%e7%ab%a5%e8%a1%97%e8%88%9e-%e8%96%87%e8%87%bb-21-2-2-2/2027-07-10/
CATEGORIES:兒童街舞,兒童課
END:VEVENT
BEGIN:VEVENT
DTSTART;TZID=Asia/Shanghai:20270710T154000
DTEND;TZID=Asia/Shanghai:20270710T164000
DTSTAMP:20260426T055721
CREATED:20250901T055134Z
LAST-MODIFIED:20260327T083158Z
UID:10033520-1815234000-1815237600@www.dancesoul.com.tw
SUMMARY:兒童Popping-勁宏
DESCRIPTION:
URL:https://www.dancesoul.com.tw/schedule/%e5%85%92%e7%ab%a5popping-%e5%8b%81%e5%ae%8f-2/2027-07-10/
CATEGORIES:兒童街舞,課程
END:VEVENT
BEGIN:VEVENT
DTSTART;TZID=Asia/Shanghai:20270711T132000
DTEND;TZID=Asia/Shanghai:20270711T142000
DTSTAMP:20260426T055721
CREATED:20250901T055750Z
LAST-MODIFIED:20250901T055750Z
UID:10028924-1815312000-1815315600@www.dancesoul.com.tw
SUMMARY:兒童街舞-羿芃
DESCRIPTION:
URL:https://www.dancesoul.com.tw/schedule/%e5%85%92%e7%ab%a5%e8%a1%97%e8%88%9e-%e7%be%bf%e8%8a%83-20/2027-07-11/
CATEGORIES:兒童街舞,課程
END:VEVENT
BEGIN:VEVENT
DTSTART;TZID=Asia/Shanghai:20270711T154000
DTEND;TZID=Asia/Shanghai:20270711T164000
DTSTAMP:20260426T055721
CREATED:20250901T060229Z
LAST-MODIFIED:20250901T060229Z
UID:10029446-1815320400-1815324000@www.dancesoul.com.tw
SUMMARY:兒童Street Jazz-傘傘
DESCRIPTION:
URL:https://www.dancesoul.com.tw/schedule/%e5%85%92%e7%ab%a5street-jazz-%e5%82%98%e5%82%98-4/2027-07-11/
CATEGORIES:兒童街舞,兒童課
END:VEVENT
BEGIN:VEVENT
DTSTART;TZID=Asia/Shanghai:20270717T132000
DTEND;TZID=Asia/Shanghai:20270717T142000
DTSTAMP:20260426T055721
CREATED:20251201T070320Z
LAST-MODIFIED:20260315T072345Z
UID:10027358-1815830400-1815834000@www.dancesoul.com.tw
SUMMARY:兒童MV(初)(i-dle - 'Mona(Feat.skaiwater)')-薇臻
DESCRIPTION:
URL:https://www.dancesoul.com.tw/schedule/%e5%85%92%e7%ab%a5%e8%a1%97%e8%88%9e-%e8%96%87%e8%87%bb-21-2-2-2/2027-07-17/
CATEGORIES:兒童街舞,兒童課
END:VEVENT
BEGIN:VEVENT
DTSTART;TZID=Asia/Shanghai:20270717T154000
DTEND;TZID=Asia/Shanghai:20270717T164000
DTSTAMP:20260426T055721
CREATED:20250901T055134Z
LAST-MODIFIED:20260327T083158Z
UID:10033521-1815838800-1815842400@www.dancesoul.com.tw
SUMMARY:兒童Popping-勁宏
DESCRIPTION:
URL:https://www.dancesoul.com.tw/schedule/%e5%85%92%e7%ab%a5popping-%e5%8b%81%e5%ae%8f-2/2027-07-17/
CATEGORIES:兒童街舞,課程
END:VEVENT
BEGIN:VEVENT
DTSTART;TZID=Asia/Shanghai:20270718T132000
DTEND;TZID=Asia/Shanghai:20270718T142000
DTSTAMP:20260426T055721
CREATED:20250901T055750Z
LAST-MODIFIED:20250901T055750Z
UID:10028925-1815916800-1815920400@www.dancesoul.com.tw
SUMMARY:兒童街舞-羿芃
DESCRIPTION:
URL:https://www.dancesoul.com.tw/schedule/%e5%85%92%e7%ab%a5%e8%a1%97%e8%88%9e-%e7%be%bf%e8%8a%83-20/2027-07-18/
CATEGORIES:兒童街舞,課程
END:VEVENT
BEGIN:VEVENT
DTSTART;TZID=Asia/Shanghai:20270718T154000
DTEND;TZID=Asia/Shanghai:20270718T164000
DTSTAMP:20260426T055721
CREATED:20250901T060229Z
LAST-MODIFIED:20250901T060229Z
UID:10029447-1815925200-1815928800@www.dancesoul.com.tw
SUMMARY:兒童Street Jazz-傘傘
DESCRIPTION:
URL:https://www.dancesoul.com.tw/schedule/%e5%85%92%e7%ab%a5street-jazz-%e5%82%98%e5%82%98-4/2027-07-18/
CATEGORIES:兒童街舞,兒童課
END:VEVENT
BEGIN:VEVENT
DTSTART;TZID=Asia/Shanghai:20270724T132000
DTEND;TZID=Asia/Shanghai:20270724T142000
DTSTAMP:20260426T055721
CREATED:20251201T070320Z
LAST-MODIFIED:20260315T072345Z
UID:10027359-1816435200-1816438800@www.dancesoul.com.tw
SUMMARY:兒童MV(初)(i-dle - 'Mona(Feat.skaiwater)')-薇臻
DESCRIPTION:
URL:https://www.dancesoul.com.tw/schedule/%e5%85%92%e7%ab%a5%e8%a1%97%e8%88%9e-%e8%96%87%e8%87%bb-21-2-2-2/2027-07-24/
CATEGORIES:兒童街舞,兒童課
END:VEVENT
BEGIN:VEVENT
DTSTART;TZID=Asia/Shanghai:20270724T154000
DTEND;TZID=Asia/Shanghai:20270724T164000
DTSTAMP:20260426T055721
CREATED:20250901T055134Z
LAST-MODIFIED:20260327T083158Z
UID:10033522-1816443600-1816447200@www.dancesoul.com.tw
SUMMARY:兒童Popping-勁宏
DESCRIPTION:
URL:https://www.dancesoul.com.tw/schedule/%e5%85%92%e7%ab%a5popping-%e5%8b%81%e5%ae%8f-2/2027-07-24/
CATEGORIES:兒童街舞,課程
END:VEVENT
BEGIN:VEVENT
DTSTART;TZID=Asia/Shanghai:20270725T132000
DTEND;TZID=Asia/Shanghai:20270725T142000
DTSTAMP:20260426T055721
CREATED:20250901T055750Z
LAST-MODIFIED:20250901T055750Z
UID:10028926-1816521600-1816525200@www.dancesoul.com.tw
SUMMARY:兒童街舞-羿芃
DESCRIPTION:
URL:https://www.dancesoul.com.tw/schedule/%e5%85%92%e7%ab%a5%e8%a1%97%e8%88%9e-%e7%be%bf%e8%8a%83-20/2027-07-25/
CATEGORIES:兒童街舞,課程
END:VEVENT
BEGIN:VEVENT
DTSTART;TZID=Asia/Shanghai:20270725T154000
DTEND;TZID=Asia/Shanghai:20270725T164000
DTSTAMP:20260426T055721
CREATED:20250901T060229Z
LAST-MODIFIED:20250901T060229Z
UID:10029448-1816530000-1816533600@www.dancesoul.com.tw
SUMMARY:兒童Street Jazz-傘傘
DESCRIPTION:
URL:https://www.dancesoul.com.tw/schedule/%e5%85%92%e7%ab%a5street-jazz-%e5%82%98%e5%82%98-4/2027-07-25/
CATEGORIES:兒童街舞,兒童課
END:VEVENT
BEGIN:VEVENT
DTSTART;TZID=Asia/Shanghai:20270731T132000
DTEND;TZID=Asia/Shanghai:20270731T142000
DTSTAMP:20260426T055721
CREATED:20251201T070320Z
LAST-MODIFIED:20260315T072345Z
UID:10027360-1817040000-1817043600@www.dancesoul.com.tw
SUMMARY:兒童MV(初)(i-dle - 'Mona(Feat.skaiwater)')-薇臻
DESCRIPTION:
URL:https://www.dancesoul.com.tw/schedule/%e5%85%92%e7%ab%a5%e8%a1%97%e8%88%9e-%e8%96%87%e8%87%bb-21-2-2-2/2027-07-31/
CATEGORIES:兒童街舞,兒童課
END:VEVENT
BEGIN:VEVENT
DTSTART;TZID=Asia/Shanghai:20270731T154000
DTEND;TZID=Asia/Shanghai:20270731T164000
DTSTAMP:20260426T055721
CREATED:20250901T055134Z
LAST-MODIFIED:20260327T083158Z
UID:10033523-1817048400-1817052000@www.dancesoul.com.tw
SUMMARY:兒童Popping-勁宏
DESCRIPTION:
URL:https://www.dancesoul.com.tw/schedule/%e5%85%92%e7%ab%a5popping-%e5%8b%81%e5%ae%8f-2/2027-07-31/
CATEGORIES:兒童街舞,課程
END:VEVENT
BEGIN:VEVENT
DTSTART;TZID=Asia/Shanghai:20270801T132000
DTEND;TZID=Asia/Shanghai:20270801T142000
DTSTAMP:20260426T055721
CREATED:20250901T055750Z
LAST-MODIFIED:20250901T055750Z
UID:10028927-1817126400-1817130000@www.dancesoul.com.tw
SUMMARY:兒童街舞-羿芃
DESCRIPTION:
URL:https://www.dancesoul.com.tw/schedule/%e5%85%92%e7%ab%a5%e8%a1%97%e8%88%9e-%e7%be%bf%e8%8a%83-20/2027-08-01/
CATEGORIES:兒童街舞,課程
END:VEVENT
BEGIN:VEVENT
DTSTART;TZID=Asia/Shanghai:20270801T154000
DTEND;TZID=Asia/Shanghai:20270801T164000
DTSTAMP:20260426T055721
CREATED:20250901T060229Z
LAST-MODIFIED:20250901T060229Z
UID:10029449-1817134800-1817138400@www.dancesoul.com.tw
SUMMARY:兒童Street Jazz-傘傘
DESCRIPTION:
URL:https://www.dancesoul.com.tw/schedule/%e5%85%92%e7%ab%a5street-jazz-%e5%82%98%e5%82%98-4/2027-08-01/
CATEGORIES:兒童街舞,兒童課
END:VEVENT
BEGIN:VEVENT
DTSTART;TZID=Asia/Shanghai:20270807T132000
DTEND;TZID=Asia/Shanghai:20270807T142000
DTSTAMP:20260426T055721
CREATED:20251201T070320Z
LAST-MODIFIED:20260315T072345Z
UID:10027361-1817644800-1817648400@www.dancesoul.com.tw
SUMMARY:兒童MV(初)(i-dle - 'Mona(Feat.skaiwater)')-薇臻
DESCRIPTION:
URL:https://www.dancesoul.com.tw/schedule/%e5%85%92%e7%ab%a5%e8%a1%97%e8%88%9e-%e8%96%87%e8%87%bb-21-2-2-2/2027-08-07/
CATEGORIES:兒童街舞,兒童課
END:VEVENT
BEGIN:VEVENT
DTSTART;TZID=Asia/Shanghai:20270807T154000
DTEND;TZID=Asia/Shanghai:20270807T164000
DTSTAMP:20260426T055721
CREATED:20250901T055134Z
LAST-MODIFIED:20260327T083158Z
UID:10033524-1817653200-1817656800@www.dancesoul.com.tw
SUMMARY:兒童Popping-勁宏
DESCRIPTION:
URL:https://www.dancesoul.com.tw/schedule/%e5%85%92%e7%ab%a5popping-%e5%8b%81%e5%ae%8f-2/2027-08-07/
CATEGORIES:兒童街舞,課程
END:VEVENT
BEGIN:VEVENT
DTSTART;TZID=Asia/Shanghai:20270808T132000
DTEND;TZID=Asia/Shanghai:20270808T142000
DTSTAMP:20260426T055721
CREATED:20250901T055750Z
LAST-MODIFIED:20250901T055750Z
UID:10028928-1817731200-1817734800@www.dancesoul.com.tw
SUMMARY:兒童街舞-羿芃
DESCRIPTION:
URL:https://www.dancesoul.com.tw/schedule/%e5%85%92%e7%ab%a5%e8%a1%97%e8%88%9e-%e7%be%bf%e8%8a%83-20/2027-08-08/
CATEGORIES:兒童街舞,課程
END:VEVENT
BEGIN:VEVENT
DTSTART;TZID=Asia/Shanghai:20270808T154000
DTEND;TZID=Asia/Shanghai:20270808T164000
DTSTAMP:20260426T055721
CREATED:20250901T060229Z
LAST-MODIFIED:20250901T060229Z
UID:10029450-1817739600-1817743200@www.dancesoul.com.tw
SUMMARY:兒童Street Jazz-傘傘
DESCRIPTION:
URL:https://www.dancesoul.com.tw/schedule/%e5%85%92%e7%ab%a5street-jazz-%e5%82%98%e5%82%98-4/2027-08-08/
CATEGORIES:兒童街舞,兒童課
END:VEVENT
END:VCALENDAR