BEGIN:VCALENDAR
VERSION:2.0
PRODID:-//DANCE SOUL 舞魂街舞學校 - ECPv6.15.18//NONSGML v1.0//EN
CALSCALE:GREGORIAN
METHOD:PUBLISH
X-ORIGINAL-URL:https://www.dancesoul.com.tw
X-WR-CALDESC:Events for DANCE SOUL 舞魂街舞學校
REFRESH-INTERVAL;VALUE=DURATION:PT1H
X-Robots-Tag:noindex
X-PUBLISHED-TTL:PT1H
BEGIN:VTIMEZONE
TZID:Asia/Shanghai
BEGIN:STANDARD
TZOFFSETFROM:+0800
TZOFFSETTO:+0800
TZNAME:CST
DTSTART:20260101T000000
END:STANDARD
END:VTIMEZONE
BEGIN:VEVENT
DTSTART;TZID=Asia/Shanghai:20270725T132000
DTEND;TZID=Asia/Shanghai:20270725T142000
DTSTAMP:20260426T104716
CREATED:20250901T055750Z
LAST-MODIFIED:20250901T055750Z
UID:10028926-1816521600-1816525200@www.dancesoul.com.tw
SUMMARY:兒童街舞-羿芃
DESCRIPTION:
URL:https://www.dancesoul.com.tw/schedule/%e5%85%92%e7%ab%a5%e8%a1%97%e8%88%9e-%e7%be%bf%e8%8a%83-20/2027-07-25/
CATEGORIES:兒童街舞,課程
END:VEVENT
BEGIN:VEVENT
DTSTART;TZID=Asia/Shanghai:20270725T154000
DTEND;TZID=Asia/Shanghai:20270725T164000
DTSTAMP:20260426T104716
CREATED:20250901T060229Z
LAST-MODIFIED:20250901T060229Z
UID:10029448-1816530000-1816533600@www.dancesoul.com.tw
SUMMARY:兒童Street Jazz-傘傘
DESCRIPTION:
URL:https://www.dancesoul.com.tw/schedule/%e5%85%92%e7%ab%a5street-jazz-%e5%82%98%e5%82%98-4/2027-07-25/
CATEGORIES:兒童街舞,兒童課
END:VEVENT
BEGIN:VEVENT
DTSTART;TZID=Asia/Shanghai:20270731T132000
DTEND;TZID=Asia/Shanghai:20270731T142000
DTSTAMP:20260426T104716
CREATED:20251201T070320Z
LAST-MODIFIED:20260315T072345Z
UID:10027360-1817040000-1817043600@www.dancesoul.com.tw
SUMMARY:兒童MV(初)(i-dle - 'Mona(Feat.skaiwater)')-薇臻
DESCRIPTION:
URL:https://www.dancesoul.com.tw/schedule/%e5%85%92%e7%ab%a5%e8%a1%97%e8%88%9e-%e8%96%87%e8%87%bb-21-2-2-2/2027-07-31/
CATEGORIES:兒童街舞,兒童課
END:VEVENT
BEGIN:VEVENT
DTSTART;TZID=Asia/Shanghai:20270731T154000
DTEND;TZID=Asia/Shanghai:20270731T164000
DTSTAMP:20260426T104716
CREATED:20250901T055134Z
LAST-MODIFIED:20260327T083158Z
UID:10033523-1817048400-1817052000@www.dancesoul.com.tw
SUMMARY:兒童Popping-勁宏
DESCRIPTION:
URL:https://www.dancesoul.com.tw/schedule/%e5%85%92%e7%ab%a5popping-%e5%8b%81%e5%ae%8f-2/2027-07-31/
CATEGORIES:兒童街舞,課程
END:VEVENT
BEGIN:VEVENT
DTSTART;TZID=Asia/Shanghai:20270801T132000
DTEND;TZID=Asia/Shanghai:20270801T142000
DTSTAMP:20260426T104716
CREATED:20250901T055750Z
LAST-MODIFIED:20250901T055750Z
UID:10028927-1817126400-1817130000@www.dancesoul.com.tw
SUMMARY:兒童街舞-羿芃
DESCRIPTION:
URL:https://www.dancesoul.com.tw/schedule/%e5%85%92%e7%ab%a5%e8%a1%97%e8%88%9e-%e7%be%bf%e8%8a%83-20/2027-08-01/
CATEGORIES:兒童街舞,課程
END:VEVENT
BEGIN:VEVENT
DTSTART;TZID=Asia/Shanghai:20270801T154000
DTEND;TZID=Asia/Shanghai:20270801T164000
DTSTAMP:20260426T104716
CREATED:20250901T060229Z
LAST-MODIFIED:20250901T060229Z
UID:10029449-1817134800-1817138400@www.dancesoul.com.tw
SUMMARY:兒童Street Jazz-傘傘
DESCRIPTION:
URL:https://www.dancesoul.com.tw/schedule/%e5%85%92%e7%ab%a5street-jazz-%e5%82%98%e5%82%98-4/2027-08-01/
CATEGORIES:兒童街舞,兒童課
END:VEVENT
BEGIN:VEVENT
DTSTART;TZID=Asia/Shanghai:20270807T132000
DTEND;TZID=Asia/Shanghai:20270807T142000
DTSTAMP:20260426T104716
CREATED:20251201T070320Z
LAST-MODIFIED:20260315T072345Z
UID:10027361-1817644800-1817648400@www.dancesoul.com.tw
SUMMARY:兒童MV(初)(i-dle - 'Mona(Feat.skaiwater)')-薇臻
DESCRIPTION:
URL:https://www.dancesoul.com.tw/schedule/%e5%85%92%e7%ab%a5%e8%a1%97%e8%88%9e-%e8%96%87%e8%87%bb-21-2-2-2/2027-08-07/
CATEGORIES:兒童街舞,兒童課
END:VEVENT
BEGIN:VEVENT
DTSTART;TZID=Asia/Shanghai:20270807T154000
DTEND;TZID=Asia/Shanghai:20270807T164000
DTSTAMP:20260426T104716
CREATED:20250901T055134Z
LAST-MODIFIED:20260327T083158Z
UID:10033524-1817653200-1817656800@www.dancesoul.com.tw
SUMMARY:兒童Popping-勁宏
DESCRIPTION:
URL:https://www.dancesoul.com.tw/schedule/%e5%85%92%e7%ab%a5popping-%e5%8b%81%e5%ae%8f-2/2027-08-07/
CATEGORIES:兒童街舞,課程
END:VEVENT
BEGIN:VEVENT
DTSTART;TZID=Asia/Shanghai:20270808T132000
DTEND;TZID=Asia/Shanghai:20270808T142000
DTSTAMP:20260426T104716
CREATED:20250901T055750Z
LAST-MODIFIED:20250901T055750Z
UID:10028928-1817731200-1817734800@www.dancesoul.com.tw
SUMMARY:兒童街舞-羿芃
DESCRIPTION:
URL:https://www.dancesoul.com.tw/schedule/%e5%85%92%e7%ab%a5%e8%a1%97%e8%88%9e-%e7%be%bf%e8%8a%83-20/2027-08-08/
CATEGORIES:兒童街舞,課程
END:VEVENT
BEGIN:VEVENT
DTSTART;TZID=Asia/Shanghai:20270808T154000
DTEND;TZID=Asia/Shanghai:20270808T164000
DTSTAMP:20260426T104716
CREATED:20250901T060229Z
LAST-MODIFIED:20250901T060229Z
UID:10029450-1817739600-1817743200@www.dancesoul.com.tw
SUMMARY:兒童Street Jazz-傘傘
DESCRIPTION:
URL:https://www.dancesoul.com.tw/schedule/%e5%85%92%e7%ab%a5street-jazz-%e5%82%98%e5%82%98-4/2027-08-08/
CATEGORIES:兒童街舞,兒童課
END:VEVENT
BEGIN:VEVENT
DTSTART;TZID=Asia/Shanghai:20270814T132000
DTEND;TZID=Asia/Shanghai:20270814T142000
DTSTAMP:20260426T104716
CREATED:20251201T070320Z
LAST-MODIFIED:20260315T072345Z
UID:10027362-1818249600-1818253200@www.dancesoul.com.tw
SUMMARY:兒童MV(初)(i-dle - 'Mona(Feat.skaiwater)')-薇臻
DESCRIPTION:
URL:https://www.dancesoul.com.tw/schedule/%e5%85%92%e7%ab%a5%e8%a1%97%e8%88%9e-%e8%96%87%e8%87%bb-21-2-2-2/2027-08-14/
CATEGORIES:兒童街舞,兒童課
END:VEVENT
BEGIN:VEVENT
DTSTART;TZID=Asia/Shanghai:20270814T154000
DTEND;TZID=Asia/Shanghai:20270814T164000
DTSTAMP:20260426T104716
CREATED:20250901T055134Z
LAST-MODIFIED:20260327T083158Z
UID:10033525-1818258000-1818261600@www.dancesoul.com.tw
SUMMARY:兒童Popping-勁宏
DESCRIPTION:
URL:https://www.dancesoul.com.tw/schedule/%e5%85%92%e7%ab%a5popping-%e5%8b%81%e5%ae%8f-2/2027-08-14/
CATEGORIES:兒童街舞,課程
END:VEVENT
BEGIN:VEVENT
DTSTART;TZID=Asia/Shanghai:20270815T132000
DTEND;TZID=Asia/Shanghai:20270815T142000
DTSTAMP:20260426T104716
CREATED:20250901T055750Z
LAST-MODIFIED:20250901T055750Z
UID:10028929-1818336000-1818339600@www.dancesoul.com.tw
SUMMARY:兒童街舞-羿芃
DESCRIPTION:
URL:https://www.dancesoul.com.tw/schedule/%e5%85%92%e7%ab%a5%e8%a1%97%e8%88%9e-%e7%be%bf%e8%8a%83-20/2027-08-15/
CATEGORIES:兒童街舞,課程
END:VEVENT
BEGIN:VEVENT
DTSTART;TZID=Asia/Shanghai:20270815T154000
DTEND;TZID=Asia/Shanghai:20270815T164000
DTSTAMP:20260426T104716
CREATED:20250901T060229Z
LAST-MODIFIED:20250901T060229Z
UID:10029451-1818344400-1818348000@www.dancesoul.com.tw
SUMMARY:兒童Street Jazz-傘傘
DESCRIPTION:
URL:https://www.dancesoul.com.tw/schedule/%e5%85%92%e7%ab%a5street-jazz-%e5%82%98%e5%82%98-4/2027-08-15/
CATEGORIES:兒童街舞,兒童課
END:VEVENT
BEGIN:VEVENT
DTSTART;TZID=Asia/Shanghai:20270821T132000
DTEND;TZID=Asia/Shanghai:20270821T142000
DTSTAMP:20260426T104716
CREATED:20251201T070320Z
LAST-MODIFIED:20260315T072345Z
UID:10027363-1818854400-1818858000@www.dancesoul.com.tw
SUMMARY:兒童MV(初)(i-dle - 'Mona(Feat.skaiwater)')-薇臻
DESCRIPTION:
URL:https://www.dancesoul.com.tw/schedule/%e5%85%92%e7%ab%a5%e8%a1%97%e8%88%9e-%e8%96%87%e8%87%bb-21-2-2-2/2027-08-21/
CATEGORIES:兒童街舞,兒童課
END:VEVENT
BEGIN:VEVENT
DTSTART;TZID=Asia/Shanghai:20270821T154000
DTEND;TZID=Asia/Shanghai:20270821T164000
DTSTAMP:20260426T104716
CREATED:20250901T055134Z
LAST-MODIFIED:20260327T083158Z
UID:10033526-1818862800-1818866400@www.dancesoul.com.tw
SUMMARY:兒童Popping-勁宏
DESCRIPTION:
URL:https://www.dancesoul.com.tw/schedule/%e5%85%92%e7%ab%a5popping-%e5%8b%81%e5%ae%8f-2/2027-08-21/
CATEGORIES:兒童街舞,課程
END:VEVENT
BEGIN:VEVENT
DTSTART;TZID=Asia/Shanghai:20270822T132000
DTEND;TZID=Asia/Shanghai:20270822T142000
DTSTAMP:20260426T104716
CREATED:20250901T055750Z
LAST-MODIFIED:20250901T055750Z
UID:10028930-1818940800-1818944400@www.dancesoul.com.tw
SUMMARY:兒童街舞-羿芃
DESCRIPTION:
URL:https://www.dancesoul.com.tw/schedule/%e5%85%92%e7%ab%a5%e8%a1%97%e8%88%9e-%e7%be%bf%e8%8a%83-20/2027-08-22/
CATEGORIES:兒童街舞,課程
END:VEVENT
BEGIN:VEVENT
DTSTART;TZID=Asia/Shanghai:20270822T154000
DTEND;TZID=Asia/Shanghai:20270822T164000
DTSTAMP:20260426T104716
CREATED:20250901T060229Z
LAST-MODIFIED:20250901T060229Z
UID:10029452-1818949200-1818952800@www.dancesoul.com.tw
SUMMARY:兒童Street Jazz-傘傘
DESCRIPTION:
URL:https://www.dancesoul.com.tw/schedule/%e5%85%92%e7%ab%a5street-jazz-%e5%82%98%e5%82%98-4/2027-08-22/
CATEGORIES:兒童街舞,兒童課
END:VEVENT
BEGIN:VEVENT
DTSTART;TZID=Asia/Shanghai:20270828T132000
DTEND;TZID=Asia/Shanghai:20270828T142000
DTSTAMP:20260426T104716
CREATED:20251201T070320Z
LAST-MODIFIED:20260315T072345Z
UID:10027364-1819459200-1819462800@www.dancesoul.com.tw
SUMMARY:兒童MV(初)(i-dle - 'Mona(Feat.skaiwater)')-薇臻
DESCRIPTION:
URL:https://www.dancesoul.com.tw/schedule/%e5%85%92%e7%ab%a5%e8%a1%97%e8%88%9e-%e8%96%87%e8%87%bb-21-2-2-2/2027-08-28/
CATEGORIES:兒童街舞,兒童課
END:VEVENT
BEGIN:VEVENT
DTSTART;TZID=Asia/Shanghai:20270828T154000
DTEND;TZID=Asia/Shanghai:20270828T164000
DTSTAMP:20260426T104716
CREATED:20250901T055134Z
LAST-MODIFIED:20260327T083158Z
UID:10033527-1819467600-1819471200@www.dancesoul.com.tw
SUMMARY:兒童Popping-勁宏
DESCRIPTION:
URL:https://www.dancesoul.com.tw/schedule/%e5%85%92%e7%ab%a5popping-%e5%8b%81%e5%ae%8f-2/2027-08-28/
CATEGORIES:兒童街舞,課程
END:VEVENT
BEGIN:VEVENT
DTSTART;TZID=Asia/Shanghai:20270829T132000
DTEND;TZID=Asia/Shanghai:20270829T142000
DTSTAMP:20260426T104716
CREATED:20250901T055750Z
LAST-MODIFIED:20250901T055750Z
UID:10028931-1819545600-1819549200@www.dancesoul.com.tw
SUMMARY:兒童街舞-羿芃
DESCRIPTION:
URL:https://www.dancesoul.com.tw/schedule/%e5%85%92%e7%ab%a5%e8%a1%97%e8%88%9e-%e7%be%bf%e8%8a%83-20/2027-08-29/
CATEGORIES:兒童街舞,課程
END:VEVENT
BEGIN:VEVENT
DTSTART;TZID=Asia/Shanghai:20270829T154000
DTEND;TZID=Asia/Shanghai:20270829T164000
DTSTAMP:20260426T104716
CREATED:20250901T060229Z
LAST-MODIFIED:20250901T060229Z
UID:10029453-1819554000-1819557600@www.dancesoul.com.tw
SUMMARY:兒童Street Jazz-傘傘
DESCRIPTION:
URL:https://www.dancesoul.com.tw/schedule/%e5%85%92%e7%ab%a5street-jazz-%e5%82%98%e5%82%98-4/2027-08-29/
CATEGORIES:兒童街舞,兒童課
END:VEVENT
BEGIN:VEVENT
DTSTART;TZID=Asia/Shanghai:20270904T132000
DTEND;TZID=Asia/Shanghai:20270904T142000
DTSTAMP:20260426T104716
CREATED:20251201T070320Z
LAST-MODIFIED:20260315T072345Z
UID:10027365-1820064000-1820067600@www.dancesoul.com.tw
SUMMARY:兒童MV(初)(i-dle - 'Mona(Feat.skaiwater)')-薇臻
DESCRIPTION:
URL:https://www.dancesoul.com.tw/schedule/%e5%85%92%e7%ab%a5%e8%a1%97%e8%88%9e-%e8%96%87%e8%87%bb-21-2-2-2/2027-09-04/
CATEGORIES:兒童街舞,兒童課
END:VEVENT
BEGIN:VEVENT
DTSTART;TZID=Asia/Shanghai:20270904T154000
DTEND;TZID=Asia/Shanghai:20270904T164000
DTSTAMP:20260426T104716
CREATED:20250901T055134Z
LAST-MODIFIED:20260327T083158Z
UID:10033528-1820072400-1820076000@www.dancesoul.com.tw
SUMMARY:兒童Popping-勁宏
DESCRIPTION:
URL:https://www.dancesoul.com.tw/schedule/%e5%85%92%e7%ab%a5popping-%e5%8b%81%e5%ae%8f-2/2027-09-04/
CATEGORIES:兒童街舞,課程
END:VEVENT
BEGIN:VEVENT
DTSTART;TZID=Asia/Shanghai:20270905T132000
DTEND;TZID=Asia/Shanghai:20270905T142000
DTSTAMP:20260426T104716
CREATED:20250901T055750Z
LAST-MODIFIED:20250901T055750Z
UID:10028932-1820150400-1820154000@www.dancesoul.com.tw
SUMMARY:兒童街舞-羿芃
DESCRIPTION:
URL:https://www.dancesoul.com.tw/schedule/%e5%85%92%e7%ab%a5%e8%a1%97%e8%88%9e-%e7%be%bf%e8%8a%83-20/2027-09-05/
CATEGORIES:兒童街舞,課程
END:VEVENT
BEGIN:VEVENT
DTSTART;TZID=Asia/Shanghai:20270905T154000
DTEND;TZID=Asia/Shanghai:20270905T164000
DTSTAMP:20260426T104716
CREATED:20250901T060229Z
LAST-MODIFIED:20250901T060229Z
UID:10029454-1820158800-1820162400@www.dancesoul.com.tw
SUMMARY:兒童Street Jazz-傘傘
DESCRIPTION:
URL:https://www.dancesoul.com.tw/schedule/%e5%85%92%e7%ab%a5street-jazz-%e5%82%98%e5%82%98-4/2027-09-05/
CATEGORIES:兒童街舞,兒童課
END:VEVENT
BEGIN:VEVENT
DTSTART;TZID=Asia/Shanghai:20270911T132000
DTEND;TZID=Asia/Shanghai:20270911T142000
DTSTAMP:20260426T104716
CREATED:20251201T070320Z
LAST-MODIFIED:20260315T072345Z
UID:10027366-1820668800-1820672400@www.dancesoul.com.tw
SUMMARY:兒童MV(初)(i-dle - 'Mona(Feat.skaiwater)')-薇臻
DESCRIPTION:
URL:https://www.dancesoul.com.tw/schedule/%e5%85%92%e7%ab%a5%e8%a1%97%e8%88%9e-%e8%96%87%e8%87%bb-21-2-2-2/2027-09-11/
CATEGORIES:兒童街舞,兒童課
END:VEVENT
BEGIN:VEVENT
DTSTART;TZID=Asia/Shanghai:20270911T154000
DTEND;TZID=Asia/Shanghai:20270911T164000
DTSTAMP:20260426T104716
CREATED:20250901T055134Z
LAST-MODIFIED:20260327T083158Z
UID:10033529-1820677200-1820680800@www.dancesoul.com.tw
SUMMARY:兒童Popping-勁宏
DESCRIPTION:
URL:https://www.dancesoul.com.tw/schedule/%e5%85%92%e7%ab%a5popping-%e5%8b%81%e5%ae%8f-2/2027-09-11/
CATEGORIES:兒童街舞,課程
END:VEVENT
BEGIN:VEVENT
DTSTART;TZID=Asia/Shanghai:20270912T132000
DTEND;TZID=Asia/Shanghai:20270912T142000
DTSTAMP:20260426T104716
CREATED:20250901T055750Z
LAST-MODIFIED:20250901T055750Z
UID:10028933-1820755200-1820758800@www.dancesoul.com.tw
SUMMARY:兒童街舞-羿芃
DESCRIPTION:
URL:https://www.dancesoul.com.tw/schedule/%e5%85%92%e7%ab%a5%e8%a1%97%e8%88%9e-%e7%be%bf%e8%8a%83-20/2027-09-12/
CATEGORIES:兒童街舞,課程
END:VEVENT
BEGIN:VEVENT
DTSTART;TZID=Asia/Shanghai:20270912T154000
DTEND;TZID=Asia/Shanghai:20270912T164000
DTSTAMP:20260426T104716
CREATED:20250901T060229Z
LAST-MODIFIED:20250901T060229Z
UID:10029455-1820763600-1820767200@www.dancesoul.com.tw
SUMMARY:兒童Street Jazz-傘傘
DESCRIPTION:
URL:https://www.dancesoul.com.tw/schedule/%e5%85%92%e7%ab%a5street-jazz-%e5%82%98%e5%82%98-4/2027-09-12/
CATEGORIES:兒童街舞,兒童課
END:VEVENT
END:VCALENDAR