BEGIN:VCALENDAR
VERSION:2.0
PRODID:-//DANCE SOUL 舞魂街舞學校 - ECPv6.15.18//NONSGML v1.0//EN
CALSCALE:GREGORIAN
METHOD:PUBLISH
X-ORIGINAL-URL:https://www.dancesoul.com.tw
X-WR-CALDESC:Events for DANCE SOUL 舞魂街舞學校
REFRESH-INTERVAL;VALUE=DURATION:PT1H
X-Robots-Tag:noindex
X-PUBLISHED-TTL:PT1H
BEGIN:VTIMEZONE
TZID:Asia/Shanghai
BEGIN:STANDARD
TZOFFSETFROM:+0800
TZOFFSETTO:+0800
TZNAME:CST
DTSTART:20250101T000000
END:STANDARD
END:VTIMEZONE
BEGIN:VEVENT
DTSTART;TZID=Asia/Shanghai:20261121T132000
DTEND;TZID=Asia/Shanghai:20261121T142000
DTSTAMP:20260422T044318
CREATED:20251201T070320Z
LAST-MODIFIED:20260315T072345Z
UID:10027324-1795267200-1795270800@www.dancesoul.com.tw
SUMMARY:兒童MV(初)(i-dle - 'Mona(Feat.skaiwater)')-薇臻
DESCRIPTION:
URL:https://www.dancesoul.com.tw/schedule/%e5%85%92%e7%ab%a5%e8%a1%97%e8%88%9e-%e8%96%87%e8%87%bb-21-2-2-2/2026-11-21/
CATEGORIES:兒童街舞,兒童課
END:VEVENT
BEGIN:VEVENT
DTSTART;TZID=Asia/Shanghai:20261121T154000
DTEND;TZID=Asia/Shanghai:20261121T164000
DTSTAMP:20260422T044318
CREATED:20250901T055134Z
LAST-MODIFIED:20260327T083158Z
UID:10033487-1795275600-1795279200@www.dancesoul.com.tw
SUMMARY:兒童Popping-勁宏
DESCRIPTION:
URL:https://www.dancesoul.com.tw/schedule/%e5%85%92%e7%ab%a5popping-%e5%8b%81%e5%ae%8f-2/2026-11-21/
CATEGORIES:兒童街舞,課程
END:VEVENT
BEGIN:VEVENT
DTSTART;TZID=Asia/Shanghai:20261122T132000
DTEND;TZID=Asia/Shanghai:20261122T142000
DTSTAMP:20260422T044318
CREATED:20250901T055750Z
LAST-MODIFIED:20250901T055750Z
UID:10028891-1795353600-1795357200@www.dancesoul.com.tw
SUMMARY:兒童街舞-羿芃
DESCRIPTION:
URL:https://www.dancesoul.com.tw/schedule/%e5%85%92%e7%ab%a5%e8%a1%97%e8%88%9e-%e7%be%bf%e8%8a%83-20/2026-11-22/
CATEGORIES:兒童街舞,課程
END:VEVENT
BEGIN:VEVENT
DTSTART;TZID=Asia/Shanghai:20261122T154000
DTEND;TZID=Asia/Shanghai:20261122T164000
DTSTAMP:20260422T044318
CREATED:20250901T060229Z
LAST-MODIFIED:20250901T060229Z
UID:10029413-1795362000-1795365600@www.dancesoul.com.tw
SUMMARY:兒童Street Jazz-傘傘
DESCRIPTION:
URL:https://www.dancesoul.com.tw/schedule/%e5%85%92%e7%ab%a5street-jazz-%e5%82%98%e5%82%98-4/2026-11-22/
CATEGORIES:兒童街舞,兒童課
END:VEVENT
BEGIN:VEVENT
DTSTART;TZID=Asia/Shanghai:20261128T132000
DTEND;TZID=Asia/Shanghai:20261128T142000
DTSTAMP:20260422T044318
CREATED:20251201T070320Z
LAST-MODIFIED:20260315T072345Z
UID:10027325-1795872000-1795875600@www.dancesoul.com.tw
SUMMARY:兒童MV(初)(i-dle - 'Mona(Feat.skaiwater)')-薇臻
DESCRIPTION:
URL:https://www.dancesoul.com.tw/schedule/%e5%85%92%e7%ab%a5%e8%a1%97%e8%88%9e-%e8%96%87%e8%87%bb-21-2-2-2/2026-11-28/
CATEGORIES:兒童街舞,兒童課
END:VEVENT
BEGIN:VEVENT
DTSTART;TZID=Asia/Shanghai:20261128T154000
DTEND;TZID=Asia/Shanghai:20261128T164000
DTSTAMP:20260422T044318
CREATED:20250901T055134Z
LAST-MODIFIED:20260327T083158Z
UID:10033488-1795880400-1795884000@www.dancesoul.com.tw
SUMMARY:兒童Popping-勁宏
DESCRIPTION:
URL:https://www.dancesoul.com.tw/schedule/%e5%85%92%e7%ab%a5popping-%e5%8b%81%e5%ae%8f-2/2026-11-28/
CATEGORIES:兒童街舞,課程
END:VEVENT
BEGIN:VEVENT
DTSTART;TZID=Asia/Shanghai:20261129T132000
DTEND;TZID=Asia/Shanghai:20261129T142000
DTSTAMP:20260422T044318
CREATED:20250901T055750Z
LAST-MODIFIED:20250901T055750Z
UID:10028892-1795958400-1795962000@www.dancesoul.com.tw
SUMMARY:兒童街舞-羿芃
DESCRIPTION:
URL:https://www.dancesoul.com.tw/schedule/%e5%85%92%e7%ab%a5%e8%a1%97%e8%88%9e-%e7%be%bf%e8%8a%83-20/2026-11-29/
CATEGORIES:兒童街舞,課程
END:VEVENT
BEGIN:VEVENT
DTSTART;TZID=Asia/Shanghai:20261129T154000
DTEND;TZID=Asia/Shanghai:20261129T164000
DTSTAMP:20260422T044318
CREATED:20250901T060229Z
LAST-MODIFIED:20250901T060229Z
UID:10029414-1795966800-1795970400@www.dancesoul.com.tw
SUMMARY:兒童Street Jazz-傘傘
DESCRIPTION:
URL:https://www.dancesoul.com.tw/schedule/%e5%85%92%e7%ab%a5street-jazz-%e5%82%98%e5%82%98-4/2026-11-29/
CATEGORIES:兒童街舞,兒童課
END:VEVENT
BEGIN:VEVENT
DTSTART;TZID=Asia/Shanghai:20261205T132000
DTEND;TZID=Asia/Shanghai:20261205T142000
DTSTAMP:20260422T044318
CREATED:20251201T070320Z
LAST-MODIFIED:20260315T072345Z
UID:10027326-1796476800-1796480400@www.dancesoul.com.tw
SUMMARY:兒童MV(初)(i-dle - 'Mona(Feat.skaiwater)')-薇臻
DESCRIPTION:
URL:https://www.dancesoul.com.tw/schedule/%e5%85%92%e7%ab%a5%e8%a1%97%e8%88%9e-%e8%96%87%e8%87%bb-21-2-2-2/2026-12-05/
CATEGORIES:兒童街舞,兒童課
END:VEVENT
BEGIN:VEVENT
DTSTART;TZID=Asia/Shanghai:20261205T154000
DTEND;TZID=Asia/Shanghai:20261205T164000
DTSTAMP:20260422T044318
CREATED:20250901T055134Z
LAST-MODIFIED:20260327T083158Z
UID:10033489-1796485200-1796488800@www.dancesoul.com.tw
SUMMARY:兒童Popping-勁宏
DESCRIPTION:
URL:https://www.dancesoul.com.tw/schedule/%e5%85%92%e7%ab%a5popping-%e5%8b%81%e5%ae%8f-2/2026-12-05/
CATEGORIES:兒童街舞,課程
END:VEVENT
BEGIN:VEVENT
DTSTART;TZID=Asia/Shanghai:20261206T132000
DTEND;TZID=Asia/Shanghai:20261206T142000
DTSTAMP:20260422T044318
CREATED:20250901T055750Z
LAST-MODIFIED:20250901T055750Z
UID:10028893-1796563200-1796566800@www.dancesoul.com.tw
SUMMARY:兒童街舞-羿芃
DESCRIPTION:
URL:https://www.dancesoul.com.tw/schedule/%e5%85%92%e7%ab%a5%e8%a1%97%e8%88%9e-%e7%be%bf%e8%8a%83-20/2026-12-06/
CATEGORIES:兒童街舞,課程
END:VEVENT
BEGIN:VEVENT
DTSTART;TZID=Asia/Shanghai:20261206T154000
DTEND;TZID=Asia/Shanghai:20261206T164000
DTSTAMP:20260422T044318
CREATED:20250901T060229Z
LAST-MODIFIED:20250901T060229Z
UID:10029415-1796571600-1796575200@www.dancesoul.com.tw
SUMMARY:兒童Street Jazz-傘傘
DESCRIPTION:
URL:https://www.dancesoul.com.tw/schedule/%e5%85%92%e7%ab%a5street-jazz-%e5%82%98%e5%82%98-4/2026-12-06/
CATEGORIES:兒童街舞,兒童課
END:VEVENT
BEGIN:VEVENT
DTSTART;TZID=Asia/Shanghai:20261212T132000
DTEND;TZID=Asia/Shanghai:20261212T142000
DTSTAMP:20260422T044318
CREATED:20251201T070320Z
LAST-MODIFIED:20260315T072345Z
UID:10027327-1797081600-1797085200@www.dancesoul.com.tw
SUMMARY:兒童MV(初)(i-dle - 'Mona(Feat.skaiwater)')-薇臻
DESCRIPTION:
URL:https://www.dancesoul.com.tw/schedule/%e5%85%92%e7%ab%a5%e8%a1%97%e8%88%9e-%e8%96%87%e8%87%bb-21-2-2-2/2026-12-12/
CATEGORIES:兒童街舞,兒童課
END:VEVENT
BEGIN:VEVENT
DTSTART;TZID=Asia/Shanghai:20261212T154000
DTEND;TZID=Asia/Shanghai:20261212T164000
DTSTAMP:20260422T044318
CREATED:20250901T055134Z
LAST-MODIFIED:20260327T083158Z
UID:10033490-1797090000-1797093600@www.dancesoul.com.tw
SUMMARY:兒童Popping-勁宏
DESCRIPTION:
URL:https://www.dancesoul.com.tw/schedule/%e5%85%92%e7%ab%a5popping-%e5%8b%81%e5%ae%8f-2/2026-12-12/
CATEGORIES:兒童街舞,課程
END:VEVENT
BEGIN:VEVENT
DTSTART;TZID=Asia/Shanghai:20261213T132000
DTEND;TZID=Asia/Shanghai:20261213T142000
DTSTAMP:20260422T044318
CREATED:20250901T055750Z
LAST-MODIFIED:20250901T055750Z
UID:10028894-1797168000-1797171600@www.dancesoul.com.tw
SUMMARY:兒童街舞-羿芃
DESCRIPTION:
URL:https://www.dancesoul.com.tw/schedule/%e5%85%92%e7%ab%a5%e8%a1%97%e8%88%9e-%e7%be%bf%e8%8a%83-20/2026-12-13/
CATEGORIES:兒童街舞,課程
END:VEVENT
BEGIN:VEVENT
DTSTART;TZID=Asia/Shanghai:20261213T154000
DTEND;TZID=Asia/Shanghai:20261213T164000
DTSTAMP:20260422T044318
CREATED:20250901T060229Z
LAST-MODIFIED:20250901T060229Z
UID:10029416-1797176400-1797180000@www.dancesoul.com.tw
SUMMARY:兒童Street Jazz-傘傘
DESCRIPTION:
URL:https://www.dancesoul.com.tw/schedule/%e5%85%92%e7%ab%a5street-jazz-%e5%82%98%e5%82%98-4/2026-12-13/
CATEGORIES:兒童街舞,兒童課
END:VEVENT
BEGIN:VEVENT
DTSTART;TZID=Asia/Shanghai:20261219T132000
DTEND;TZID=Asia/Shanghai:20261219T142000
DTSTAMP:20260422T044318
CREATED:20251201T070320Z
LAST-MODIFIED:20260315T072345Z
UID:10027328-1797686400-1797690000@www.dancesoul.com.tw
SUMMARY:兒童MV(初)(i-dle - 'Mona(Feat.skaiwater)')-薇臻
DESCRIPTION:
URL:https://www.dancesoul.com.tw/schedule/%e5%85%92%e7%ab%a5%e8%a1%97%e8%88%9e-%e8%96%87%e8%87%bb-21-2-2-2/2026-12-19/
CATEGORIES:兒童街舞,兒童課
END:VEVENT
BEGIN:VEVENT
DTSTART;TZID=Asia/Shanghai:20261219T154000
DTEND;TZID=Asia/Shanghai:20261219T164000
DTSTAMP:20260422T044318
CREATED:20250901T055134Z
LAST-MODIFIED:20260327T083158Z
UID:10033491-1797694800-1797698400@www.dancesoul.com.tw
SUMMARY:兒童Popping-勁宏
DESCRIPTION:
URL:https://www.dancesoul.com.tw/schedule/%e5%85%92%e7%ab%a5popping-%e5%8b%81%e5%ae%8f-2/2026-12-19/
CATEGORIES:兒童街舞,課程
END:VEVENT
BEGIN:VEVENT
DTSTART;TZID=Asia/Shanghai:20261220T132000
DTEND;TZID=Asia/Shanghai:20261220T142000
DTSTAMP:20260422T044318
CREATED:20250901T055750Z
LAST-MODIFIED:20250901T055750Z
UID:10028895-1797772800-1797776400@www.dancesoul.com.tw
SUMMARY:兒童街舞-羿芃
DESCRIPTION:
URL:https://www.dancesoul.com.tw/schedule/%e5%85%92%e7%ab%a5%e8%a1%97%e8%88%9e-%e7%be%bf%e8%8a%83-20/2026-12-20/
CATEGORIES:兒童街舞,課程
END:VEVENT
BEGIN:VEVENT
DTSTART;TZID=Asia/Shanghai:20261220T154000
DTEND;TZID=Asia/Shanghai:20261220T164000
DTSTAMP:20260422T044318
CREATED:20250901T060229Z
LAST-MODIFIED:20250901T060229Z
UID:10029417-1797781200-1797784800@www.dancesoul.com.tw
SUMMARY:兒童Street Jazz-傘傘
DESCRIPTION:
URL:https://www.dancesoul.com.tw/schedule/%e5%85%92%e7%ab%a5street-jazz-%e5%82%98%e5%82%98-4/2026-12-20/
CATEGORIES:兒童街舞,兒童課
END:VEVENT
BEGIN:VEVENT
DTSTART;TZID=Asia/Shanghai:20261226T132000
DTEND;TZID=Asia/Shanghai:20261226T142000
DTSTAMP:20260422T044318
CREATED:20251201T070320Z
LAST-MODIFIED:20260315T072345Z
UID:10027329-1798291200-1798294800@www.dancesoul.com.tw
SUMMARY:兒童MV(初)(i-dle - 'Mona(Feat.skaiwater)')-薇臻
DESCRIPTION:
URL:https://www.dancesoul.com.tw/schedule/%e5%85%92%e7%ab%a5%e8%a1%97%e8%88%9e-%e8%96%87%e8%87%bb-21-2-2-2/2026-12-26/
CATEGORIES:兒童街舞,兒童課
END:VEVENT
BEGIN:VEVENT
DTSTART;TZID=Asia/Shanghai:20261226T154000
DTEND;TZID=Asia/Shanghai:20261226T164000
DTSTAMP:20260422T044318
CREATED:20250901T055134Z
LAST-MODIFIED:20260327T083158Z
UID:10033492-1798299600-1798303200@www.dancesoul.com.tw
SUMMARY:兒童Popping-勁宏
DESCRIPTION:
URL:https://www.dancesoul.com.tw/schedule/%e5%85%92%e7%ab%a5popping-%e5%8b%81%e5%ae%8f-2/2026-12-26/
CATEGORIES:兒童街舞,課程
END:VEVENT
BEGIN:VEVENT
DTSTART;TZID=Asia/Shanghai:20261227T132000
DTEND;TZID=Asia/Shanghai:20261227T142000
DTSTAMP:20260422T044318
CREATED:20250901T055750Z
LAST-MODIFIED:20250901T055750Z
UID:10028896-1798377600-1798381200@www.dancesoul.com.tw
SUMMARY:兒童街舞-羿芃
DESCRIPTION:
URL:https://www.dancesoul.com.tw/schedule/%e5%85%92%e7%ab%a5%e8%a1%97%e8%88%9e-%e7%be%bf%e8%8a%83-20/2026-12-27/
CATEGORIES:兒童街舞,課程
END:VEVENT
BEGIN:VEVENT
DTSTART;TZID=Asia/Shanghai:20261227T154000
DTEND;TZID=Asia/Shanghai:20261227T164000
DTSTAMP:20260422T044318
CREATED:20250901T060229Z
LAST-MODIFIED:20250901T060229Z
UID:10029418-1798386000-1798389600@www.dancesoul.com.tw
SUMMARY:兒童Street Jazz-傘傘
DESCRIPTION:
URL:https://www.dancesoul.com.tw/schedule/%e5%85%92%e7%ab%a5street-jazz-%e5%82%98%e5%82%98-4/2026-12-27/
CATEGORIES:兒童街舞,兒童課
END:VEVENT
BEGIN:VEVENT
DTSTART;TZID=Asia/Shanghai:20270102T132000
DTEND;TZID=Asia/Shanghai:20270102T142000
DTSTAMP:20260422T044318
CREATED:20251201T070320Z
LAST-MODIFIED:20260315T072345Z
UID:10027330-1798896000-1798899600@www.dancesoul.com.tw
SUMMARY:兒童MV(初)(i-dle - 'Mona(Feat.skaiwater)')-薇臻
DESCRIPTION:
URL:https://www.dancesoul.com.tw/schedule/%e5%85%92%e7%ab%a5%e8%a1%97%e8%88%9e-%e8%96%87%e8%87%bb-21-2-2-2/2027-01-02/
CATEGORIES:兒童街舞,兒童課
END:VEVENT
BEGIN:VEVENT
DTSTART;TZID=Asia/Shanghai:20270102T154000
DTEND;TZID=Asia/Shanghai:20270102T164000
DTSTAMP:20260422T044318
CREATED:20250901T055134Z
LAST-MODIFIED:20260327T083158Z
UID:10033493-1798904400-1798908000@www.dancesoul.com.tw
SUMMARY:兒童Popping-勁宏
DESCRIPTION:
URL:https://www.dancesoul.com.tw/schedule/%e5%85%92%e7%ab%a5popping-%e5%8b%81%e5%ae%8f-2/2027-01-02/
CATEGORIES:兒童街舞,課程
END:VEVENT
BEGIN:VEVENT
DTSTART;TZID=Asia/Shanghai:20270103T132000
DTEND;TZID=Asia/Shanghai:20270103T142000
DTSTAMP:20260422T044318
CREATED:20250901T055750Z
LAST-MODIFIED:20250901T055750Z
UID:10028897-1798982400-1798986000@www.dancesoul.com.tw
SUMMARY:兒童街舞-羿芃
DESCRIPTION:
URL:https://www.dancesoul.com.tw/schedule/%e5%85%92%e7%ab%a5%e8%a1%97%e8%88%9e-%e7%be%bf%e8%8a%83-20/2027-01-03/
CATEGORIES:兒童街舞,課程
END:VEVENT
BEGIN:VEVENT
DTSTART;TZID=Asia/Shanghai:20270103T154000
DTEND;TZID=Asia/Shanghai:20270103T164000
DTSTAMP:20260422T044318
CREATED:20250901T060229Z
LAST-MODIFIED:20250901T060229Z
UID:10029419-1798990800-1798994400@www.dancesoul.com.tw
SUMMARY:兒童Street Jazz-傘傘
DESCRIPTION:
URL:https://www.dancesoul.com.tw/schedule/%e5%85%92%e7%ab%a5street-jazz-%e5%82%98%e5%82%98-4/2027-01-03/
CATEGORIES:兒童街舞,兒童課
END:VEVENT
BEGIN:VEVENT
DTSTART;TZID=Asia/Shanghai:20270109T132000
DTEND;TZID=Asia/Shanghai:20270109T142000
DTSTAMP:20260422T044318
CREATED:20251201T070320Z
LAST-MODIFIED:20260315T072345Z
UID:10027331-1799500800-1799504400@www.dancesoul.com.tw
SUMMARY:兒童MV(初)(i-dle - 'Mona(Feat.skaiwater)')-薇臻
DESCRIPTION:
URL:https://www.dancesoul.com.tw/schedule/%e5%85%92%e7%ab%a5%e8%a1%97%e8%88%9e-%e8%96%87%e8%87%bb-21-2-2-2/2027-01-09/
CATEGORIES:兒童街舞,兒童課
END:VEVENT
BEGIN:VEVENT
DTSTART;TZID=Asia/Shanghai:20270109T154000
DTEND;TZID=Asia/Shanghai:20270109T164000
DTSTAMP:20260422T044318
CREATED:20250901T055134Z
LAST-MODIFIED:20260327T083158Z
UID:10033494-1799509200-1799512800@www.dancesoul.com.tw
SUMMARY:兒童Popping-勁宏
DESCRIPTION:
URL:https://www.dancesoul.com.tw/schedule/%e5%85%92%e7%ab%a5popping-%e5%8b%81%e5%ae%8f-2/2027-01-09/
CATEGORIES:兒童街舞,課程
END:VEVENT
END:VCALENDAR