BEGIN:VCALENDAR
VERSION:2.0
PRODID:-//DANCE SOUL 舞魂街舞學校 - ECPv6.15.18//NONSGML v1.0//EN
CALSCALE:GREGORIAN
METHOD:PUBLISH
X-WR-CALNAME:DANCE SOUL 舞魂街舞學校
X-ORIGINAL-URL:https://www.dancesoul.com.tw
X-WR-CALDESC:Events for DANCE SOUL 舞魂街舞學校
REFRESH-INTERVAL;VALUE=DURATION:PT1H
X-Robots-Tag:noindex
X-PUBLISHED-TTL:PT1H
BEGIN:VTIMEZONE
TZID:Asia/Shanghai
BEGIN:STANDARD
TZOFFSETFROM:+0800
TZOFFSETTO:+0800
TZNAME:CST
DTSTART:20240101T000000
END:STANDARD
END:VTIMEZONE
BEGIN:VEVENT
DTSTART;TZID=Asia/Shanghai:20250802T132000
DTEND;TZID=Asia/Shanghai:20250802T142000
DTSTAMP:20260426T080405
CREATED:20250725T084212Z
LAST-MODIFIED:20250725T084514Z
UID:10022186-1754140800-1754144400@www.dancesoul.com.tw
SUMMARY:兒童MV(初)(izna-BEEP)-薇臻
DESCRIPTION:
URL:https://www.dancesoul.com.tw/schedule/%e5%85%92%e7%ab%a5mv%e5%88%9dizna-beep-%e8%96%87%e8%87%bb/2025-08-02/
CATEGORIES:MV課,兒童MV,課程
END:VEVENT
BEGIN:VEVENT
DTSTART;TZID=Asia/Shanghai:20250802T143000
DTEND;TZID=Asia/Shanghai:20250802T153000
DTSTAMP:20260426T080405
CREATED:20250725T084348Z
LAST-MODIFIED:20250725T084348Z
UID:10022181-1754145000-1754148600@www.dancesoul.com.tw
SUMMARY:兒童MV(aespa-DIRTY WORK)-薇臻
DESCRIPTION:
URL:https://www.dancesoul.com.tw/schedule/%e5%85%92%e7%ab%a5mvaespa-dirty-work-%e8%96%87%e8%87%bb/2025-08-02/
CATEGORIES:MV課,兒童MV,課程
END:VEVENT
BEGIN:VEVENT
DTSTART;TZID=Asia/Shanghai:20250802T154000
DTEND;TZID=Asia/Shanghai:20250802T164000
DTSTAMP:20260426T080405
CREATED:20250725T085918Z
LAST-MODIFIED:20250725T085918Z
UID:10022191-1754149200-1754152800@www.dancesoul.com.tw
SUMMARY:兒童Popping-勁宏
DESCRIPTION:
URL:https://www.dancesoul.com.tw/schedule/%e5%85%92%e7%ab%a5popping-%e5%8b%81%e5%ae%8f/2025-08-02/
CATEGORIES:Poppin,兒童課,課程
END:VEVENT
BEGIN:VEVENT
DTSTART;TZID=Asia/Shanghai:20250803T132000
DTEND;TZID=Asia/Shanghai:20250803T142000
DTSTAMP:20260426T080405
CREATED:20250623T132909Z
LAST-MODIFIED:20250725T091913Z
UID:10022216-1754227200-1754230800@www.dancesoul.com.tw
SUMMARY:兒童街舞-羿芃
DESCRIPTION:
URL:https://www.dancesoul.com.tw/schedule/%e5%85%92%e7%ab%a5%e8%a1%97%e8%88%9e-%e7%be%bf%e8%8a%83-19/2025-08-03/
CATEGORIES:兒童街舞,兒童課
END:VEVENT
BEGIN:VEVENT
DTSTART;TZID=Asia/Shanghai:20250803T143000
DTEND;TZID=Asia/Shanghai:20250803T153000
DTSTAMP:20260426T080405
CREATED:20250725T092140Z
LAST-MODIFIED:20250725T092140Z
UID:10022221-1754231400-1754235000@www.dancesoul.com.tw
SUMMARY:兒童MV(TWICE-THIS IS FOR)-羿芃
DESCRIPTION:
URL:https://www.dancesoul.com.tw/schedule/%e5%85%92%e7%ab%a5mvtwice-this-is-for-%e7%be%bf%e8%8a%83/2025-08-03/
CATEGORIES:MV課,兒童MV
END:VEVENT
BEGIN:VEVENT
DTSTART;TZID=Asia/Shanghai:20250803T154000
DTEND;TZID=Asia/Shanghai:20250803T164000
DTSTAMP:20260426T080405
CREATED:20250623T133201Z
LAST-MODIFIED:20250725T092433Z
UID:10022231-1754235600-1754239200@www.dancesoul.com.tw
SUMMARY:兒童Street Jazz-傘傘
DESCRIPTION:
URL:https://www.dancesoul.com.tw/schedule/%e5%85%92%e7%ab%a5street-jazz-%e5%82%98%e5%82%98-3/2025-08-03/
CATEGORIES:兒童 Street Jazz,兒童課
END:VEVENT
END:VCALENDAR