BEGIN:VCALENDAR
VERSION:2.0
PRODID:-//DANCE SOUL 舞魂街舞學校 - ECPv6.15.18//NONSGML v1.0//EN
CALSCALE:GREGORIAN
METHOD:PUBLISH
X-WR-CALNAME:DANCE SOUL 舞魂街舞學校
X-ORIGINAL-URL:https://www.dancesoul.com.tw
X-WR-CALDESC:Events for DANCE SOUL 舞魂街舞學校
REFRESH-INTERVAL;VALUE=DURATION:PT1H
X-Robots-Tag:noindex
X-PUBLISHED-TTL:PT1H
BEGIN:VTIMEZONE
TZID:Asia/Shanghai
BEGIN:STANDARD
TZOFFSETFROM:+0800
TZOFFSETTO:+0800
TZNAME:CST
DTSTART:20240101T000000
END:STANDARD
END:VTIMEZONE
BEGIN:VEVENT
DTSTART;TZID=Asia/Shanghai:20250822T132000
DTEND;TZID=Asia/Shanghai:20250822T142000
DTSTAMP:20260423T075249
CREATED:20251201T070320Z
LAST-MODIFIED:20260315T072345Z
UID:10031394-1755868800-1755872400@www.dancesoul.com.tw
SUMMARY:兒童MV(初)(i-dle - 'Mona(Feat.skaiwater)')-薇臻
DESCRIPTION:
URL:https://www.dancesoul.com.tw/schedule/%e5%85%92%e7%ab%a5%e8%a1%97%e8%88%9e-%e8%96%87%e8%87%bb-21-2-2-2/2025-08-22/
CATEGORIES:兒童街舞,兒童課
END:VEVENT
BEGIN:VEVENT
DTSTART;TZID=Asia/Shanghai:20250822T143000
DTEND;TZID=Asia/Shanghai:20250822T153000
DTSTAMP:20260423T075249
CREATED:20251202T055414Z
LAST-MODIFIED:20260315T072223Z
UID:10031363-1755873000-1755876600@www.dancesoul.com.tw
SUMMARY:兒童MV(IVE - 'BANG BANG')-薇臻
DESCRIPTION:
URL:https://www.dancesoul.com.tw/schedule/%e5%85%92%e7%ab%a5mvbabymonster-hot-sauce-%e8%96%87%e8%87%bb-2/2025-08-22/
CATEGORIES:MV課,兒童MV,課程
END:VEVENT
BEGIN:VEVENT
DTSTART;TZID=Asia/Shanghai:20250823T132000
DTEND;TZID=Asia/Shanghai:20250823T142000
DTSTAMP:20260423T075249
CREATED:20250725T084212Z
LAST-MODIFIED:20250725T084514Z
UID:10022189-1755955200-1755958800@www.dancesoul.com.tw
SUMMARY:兒童MV(初)(izna-BEEP)-薇臻
DESCRIPTION:
URL:https://www.dancesoul.com.tw/schedule/%e5%85%92%e7%ab%a5mv%e5%88%9dizna-beep-%e8%96%87%e8%87%bb/2025-08-23/
CATEGORIES:MV課,兒童MV,課程
END:VEVENT
BEGIN:VEVENT
DTSTART;TZID=Asia/Shanghai:20250823T132000
DTEND;TZID=Asia/Shanghai:20250823T142000
DTSTAMP:20260423T075249
CREATED:20251201T070320Z
LAST-MODIFIED:20260315T072345Z
UID:10031395-1755955200-1755958800@www.dancesoul.com.tw
SUMMARY:兒童MV(初)(i-dle - 'Mona(Feat.skaiwater)')-薇臻
DESCRIPTION:
URL:https://www.dancesoul.com.tw/schedule/%e5%85%92%e7%ab%a5%e8%a1%97%e8%88%9e-%e8%96%87%e8%87%bb-21-2-2-2/2025-08-23/
CATEGORIES:兒童街舞,兒童課
END:VEVENT
BEGIN:VEVENT
DTSTART;TZID=Asia/Shanghai:20250823T143000
DTEND;TZID=Asia/Shanghai:20250823T153000
DTSTAMP:20260423T075249
CREATED:20250725T084348Z
LAST-MODIFIED:20250725T084348Z
UID:10022184-1755959400-1755963000@www.dancesoul.com.tw
SUMMARY:兒童MV(aespa-DIRTY WORK)-薇臻
DESCRIPTION:
URL:https://www.dancesoul.com.tw/schedule/%e5%85%92%e7%ab%a5mvaespa-dirty-work-%e8%96%87%e8%87%bb/2025-08-23/
CATEGORIES:MV課,兒童MV,課程
END:VEVENT
BEGIN:VEVENT
DTSTART;TZID=Asia/Shanghai:20250823T143000
DTEND;TZID=Asia/Shanghai:20250823T153000
DTSTAMP:20260423T075249
CREATED:20251202T055414Z
LAST-MODIFIED:20260315T072223Z
UID:10031364-1755959400-1755963000@www.dancesoul.com.tw
SUMMARY:兒童MV(IVE - 'BANG BANG')-薇臻
DESCRIPTION:
URL:https://www.dancesoul.com.tw/schedule/%e5%85%92%e7%ab%a5mvbabymonster-hot-sauce-%e8%96%87%e8%87%bb-2/2025-08-23/
CATEGORIES:MV課,兒童MV,課程
END:VEVENT
BEGIN:VEVENT
DTSTART;TZID=Asia/Shanghai:20250823T154000
DTEND;TZID=Asia/Shanghai:20250823T164000
DTSTAMP:20260423T075249
CREATED:20250725T085918Z
LAST-MODIFIED:20250725T085918Z
UID:10022194-1755963600-1755967200@www.dancesoul.com.tw
SUMMARY:兒童Popping-勁宏
DESCRIPTION:
URL:https://www.dancesoul.com.tw/schedule/%e5%85%92%e7%ab%a5popping-%e5%8b%81%e5%ae%8f/2025-08-23/
CATEGORIES:Poppin,兒童課,課程
END:VEVENT
BEGIN:VEVENT
DTSTART;TZID=Asia/Shanghai:20250824T132000
DTEND;TZID=Asia/Shanghai:20250824T142000
DTSTAMP:20260423T075249
CREATED:20250623T132909Z
LAST-MODIFIED:20250725T091913Z
UID:10022219-1756041600-1756045200@www.dancesoul.com.tw
SUMMARY:兒童街舞-羿芃
DESCRIPTION:
URL:https://www.dancesoul.com.tw/schedule/%e5%85%92%e7%ab%a5%e8%a1%97%e8%88%9e-%e7%be%bf%e8%8a%83-19/2025-08-24/
CATEGORIES:兒童街舞,兒童課
END:VEVENT
BEGIN:VEVENT
DTSTART;TZID=Asia/Shanghai:20250824T143000
DTEND;TZID=Asia/Shanghai:20250824T153000
DTSTAMP:20260423T075249
CREATED:20250725T092140Z
LAST-MODIFIED:20250725T092140Z
UID:10022224-1756045800-1756049400@www.dancesoul.com.tw
SUMMARY:兒童MV(TWICE-THIS IS FOR)-羿芃
DESCRIPTION:
URL:https://www.dancesoul.com.tw/schedule/%e5%85%92%e7%ab%a5mvtwice-this-is-for-%e7%be%bf%e8%8a%83/2025-08-24/
CATEGORIES:MV課,兒童MV
END:VEVENT
BEGIN:VEVENT
DTSTART;TZID=Asia/Shanghai:20250824T154000
DTEND;TZID=Asia/Shanghai:20250824T164000
DTSTAMP:20260423T075249
CREATED:20250623T133201Z
LAST-MODIFIED:20250725T092433Z
UID:10022234-1756050000-1756053600@www.dancesoul.com.tw
SUMMARY:兒童Street Jazz-傘傘
DESCRIPTION:
URL:https://www.dancesoul.com.tw/schedule/%e5%85%92%e7%ab%a5street-jazz-%e5%82%98%e5%82%98-3/2025-08-24/
CATEGORIES:兒童 Street Jazz,兒童課
END:VEVENT
END:VCALENDAR