BEGIN:VCALENDAR
VERSION:2.0
PRODID:-//DANCE SOUL 舞魂街舞學校 - ECPv6.15.18//NONSGML v1.0//EN
CALSCALE:GREGORIAN
METHOD:PUBLISH
X-WR-CALNAME:DANCE SOUL 舞魂街舞學校
X-ORIGINAL-URL:https://www.dancesoul.com.tw
X-WR-CALDESC:Events for DANCE SOUL 舞魂街舞學校
REFRESH-INTERVAL;VALUE=DURATION:PT1H
X-Robots-Tag:noindex
X-PUBLISHED-TTL:PT1H
BEGIN:VTIMEZONE
TZID:Asia/Shanghai
BEGIN:STANDARD
TZOFFSETFROM:+0800
TZOFFSETTO:+0800
TZNAME:CST
DTSTART:20260101T000000
END:STANDARD
END:VTIMEZONE
BEGIN:VEVENT
DTSTART;TZID=Asia/Shanghai:20270202T192500
DTEND;TZID=Asia/Shanghai:20270202T202500
DTSTAMP:20260426T014045
CREATED:20260327T083744Z
LAST-MODIFIED:20260327T083744Z
UID:10034287-1801596300-1801599900@www.dancesoul.com.tw
SUMMARY:Choreography-羅毅
DESCRIPTION:
URL:https://www.dancesoul.com.tw/schedule/choreography-%e7%be%85%e6%af%85-2-2/2027-02-02/
CATEGORIES:Choreography,常態課_一般,課程
END:VEVENT
BEGIN:VEVENT
DTSTART;TZID=Asia/Shanghai:20270204T213500
DTEND;TZID=Asia/Shanghai:20270204T223500
DTSTAMP:20260426T014045
CREATED:20250828T104929Z
LAST-MODIFIED:20250828T104929Z
UID:10026295-1801776900-1801780500@www.dancesoul.com.tw
SUMMARY:Choreography-巴豪
DESCRIPTION:
URL:https://www.dancesoul.com.tw/schedule/choreography-%e5%b7%b4%e8%b1%aa-7/2027-02-04/
CATEGORIES:Choreography,常態課_一般,課程
END:VEVENT
BEGIN:VEVENT
DTSTART;TZID=Asia/Shanghai:20270209T192500
DTEND;TZID=Asia/Shanghai:20270209T202500
DTSTAMP:20260426T014045
CREATED:20260327T083744Z
LAST-MODIFIED:20260327T083744Z
UID:10034288-1802201100-1802204700@www.dancesoul.com.tw
SUMMARY:Choreography-羅毅
DESCRIPTION:
URL:https://www.dancesoul.com.tw/schedule/choreography-%e7%be%85%e6%af%85-2-2/2027-02-09/
CATEGORIES:Choreography,常態課_一般,課程
END:VEVENT
BEGIN:VEVENT
DTSTART;TZID=Asia/Shanghai:20270211T213500
DTEND;TZID=Asia/Shanghai:20270211T223500
DTSTAMP:20260426T014045
CREATED:20250828T104929Z
LAST-MODIFIED:20250828T104929Z
UID:10026296-1802381700-1802385300@www.dancesoul.com.tw
SUMMARY:Choreography-巴豪
DESCRIPTION:
URL:https://www.dancesoul.com.tw/schedule/choreography-%e5%b7%b4%e8%b1%aa-7/2027-02-11/
CATEGORIES:Choreography,常態課_一般,課程
END:VEVENT
BEGIN:VEVENT
DTSTART;TZID=Asia/Shanghai:20270216T192500
DTEND;TZID=Asia/Shanghai:20270216T202500
DTSTAMP:20260426T014045
CREATED:20260327T083744Z
LAST-MODIFIED:20260327T083744Z
UID:10034289-1802805900-1802809500@www.dancesoul.com.tw
SUMMARY:Choreography-羅毅
DESCRIPTION:
URL:https://www.dancesoul.com.tw/schedule/choreography-%e7%be%85%e6%af%85-2-2/2027-02-16/
CATEGORIES:Choreography,常態課_一般,課程
END:VEVENT
BEGIN:VEVENT
DTSTART;TZID=Asia/Shanghai:20270218T213500
DTEND;TZID=Asia/Shanghai:20270218T223500
DTSTAMP:20260426T014045
CREATED:20250828T104929Z
LAST-MODIFIED:20250828T104929Z
UID:10026297-1802986500-1802990100@www.dancesoul.com.tw
SUMMARY:Choreography-巴豪
DESCRIPTION:
URL:https://www.dancesoul.com.tw/schedule/choreography-%e5%b7%b4%e8%b1%aa-7/2027-02-18/
CATEGORIES:Choreography,常態課_一般,課程
END:VEVENT
BEGIN:VEVENT
DTSTART;TZID=Asia/Shanghai:20270223T192500
DTEND;TZID=Asia/Shanghai:20270223T202500
DTSTAMP:20260426T014045
CREATED:20260327T083744Z
LAST-MODIFIED:20260327T083744Z
UID:10034290-1803410700-1803414300@www.dancesoul.com.tw
SUMMARY:Choreography-羅毅
DESCRIPTION:
URL:https://www.dancesoul.com.tw/schedule/choreography-%e7%be%85%e6%af%85-2-2/2027-02-23/
CATEGORIES:Choreography,常態課_一般,課程
END:VEVENT
BEGIN:VEVENT
DTSTART;TZID=Asia/Shanghai:20270225T213500
DTEND;TZID=Asia/Shanghai:20270225T223500
DTSTAMP:20260426T014045
CREATED:20250828T104929Z
LAST-MODIFIED:20250828T104929Z
UID:10026298-1803591300-1803594900@www.dancesoul.com.tw
SUMMARY:Choreography-巴豪
DESCRIPTION:
URL:https://www.dancesoul.com.tw/schedule/choreography-%e5%b7%b4%e8%b1%aa-7/2027-02-25/
CATEGORIES:Choreography,常態課_一般,課程
END:VEVENT
BEGIN:VEVENT
DTSTART;TZID=Asia/Shanghai:20270302T192500
DTEND;TZID=Asia/Shanghai:20270302T202500
DTSTAMP:20260426T014045
CREATED:20260327T083744Z
LAST-MODIFIED:20260327T083744Z
UID:10034291-1804015500-1804019100@www.dancesoul.com.tw
SUMMARY:Choreography-羅毅
DESCRIPTION:
URL:https://www.dancesoul.com.tw/schedule/choreography-%e7%be%85%e6%af%85-2-2/2027-03-02/
CATEGORIES:Choreography,常態課_一般,課程
END:VEVENT
BEGIN:VEVENT
DTSTART;TZID=Asia/Shanghai:20270304T213500
DTEND;TZID=Asia/Shanghai:20270304T223500
DTSTAMP:20260426T014045
CREATED:20250828T104929Z
LAST-MODIFIED:20250828T104929Z
UID:10026299-1804196100-1804199700@www.dancesoul.com.tw
SUMMARY:Choreography-巴豪
DESCRIPTION:
URL:https://www.dancesoul.com.tw/schedule/choreography-%e5%b7%b4%e8%b1%aa-7/2027-03-04/
CATEGORIES:Choreography,常態課_一般,課程
END:VEVENT
BEGIN:VEVENT
DTSTART;TZID=Asia/Shanghai:20270309T192500
DTEND;TZID=Asia/Shanghai:20270309T202500
DTSTAMP:20260426T014045
CREATED:20260327T083744Z
LAST-MODIFIED:20260327T083744Z
UID:10034292-1804620300-1804623900@www.dancesoul.com.tw
SUMMARY:Choreography-羅毅
DESCRIPTION:
URL:https://www.dancesoul.com.tw/schedule/choreography-%e7%be%85%e6%af%85-2-2/2027-03-09/
CATEGORIES:Choreography,常態課_一般,課程
END:VEVENT
BEGIN:VEVENT
DTSTART;TZID=Asia/Shanghai:20270311T213500
DTEND;TZID=Asia/Shanghai:20270311T223500
DTSTAMP:20260426T014045
CREATED:20250828T104929Z
LAST-MODIFIED:20250828T104929Z
UID:10026300-1804800900-1804804500@www.dancesoul.com.tw
SUMMARY:Choreography-巴豪
DESCRIPTION:
URL:https://www.dancesoul.com.tw/schedule/choreography-%e5%b7%b4%e8%b1%aa-7/2027-03-11/
CATEGORIES:Choreography,常態課_一般,課程
END:VEVENT
BEGIN:VEVENT
DTSTART;TZID=Asia/Shanghai:20270316T192500
DTEND;TZID=Asia/Shanghai:20270316T202500
DTSTAMP:20260426T014045
CREATED:20260327T083744Z
LAST-MODIFIED:20260327T083744Z
UID:10034293-1805225100-1805228700@www.dancesoul.com.tw
SUMMARY:Choreography-羅毅
DESCRIPTION:
URL:https://www.dancesoul.com.tw/schedule/choreography-%e7%be%85%e6%af%85-2-2/2027-03-16/
CATEGORIES:Choreography,常態課_一般,課程
END:VEVENT
BEGIN:VEVENT
DTSTART;TZID=Asia/Shanghai:20270318T213500
DTEND;TZID=Asia/Shanghai:20270318T223500
DTSTAMP:20260426T014045
CREATED:20250828T104929Z
LAST-MODIFIED:20250828T104929Z
UID:10026301-1805405700-1805409300@www.dancesoul.com.tw
SUMMARY:Choreography-巴豪
DESCRIPTION:
URL:https://www.dancesoul.com.tw/schedule/choreography-%e5%b7%b4%e8%b1%aa-7/2027-03-18/
CATEGORIES:Choreography,常態課_一般,課程
END:VEVENT
BEGIN:VEVENT
DTSTART;TZID=Asia/Shanghai:20270323T192500
DTEND;TZID=Asia/Shanghai:20270323T202500
DTSTAMP:20260426T014045
CREATED:20260327T083744Z
LAST-MODIFIED:20260327T083744Z
UID:10034294-1805829900-1805833500@www.dancesoul.com.tw
SUMMARY:Choreography-羅毅
DESCRIPTION:
URL:https://www.dancesoul.com.tw/schedule/choreography-%e7%be%85%e6%af%85-2-2/2027-03-23/
CATEGORIES:Choreography,常態課_一般,課程
END:VEVENT
BEGIN:VEVENT
DTSTART;TZID=Asia/Shanghai:20270325T213500
DTEND;TZID=Asia/Shanghai:20270325T223500
DTSTAMP:20260426T014045
CREATED:20250828T104929Z
LAST-MODIFIED:20250828T104929Z
UID:10026302-1806010500-1806014100@www.dancesoul.com.tw
SUMMARY:Choreography-巴豪
DESCRIPTION:
URL:https://www.dancesoul.com.tw/schedule/choreography-%e5%b7%b4%e8%b1%aa-7/2027-03-25/
CATEGORIES:Choreography,常態課_一般,課程
END:VEVENT
BEGIN:VEVENT
DTSTART;TZID=Asia/Shanghai:20270330T192500
DTEND;TZID=Asia/Shanghai:20270330T202500
DTSTAMP:20260426T014045
CREATED:20260327T083744Z
LAST-MODIFIED:20260327T083744Z
UID:10034295-1806434700-1806438300@www.dancesoul.com.tw
SUMMARY:Choreography-羅毅
DESCRIPTION:
URL:https://www.dancesoul.com.tw/schedule/choreography-%e7%be%85%e6%af%85-2-2/2027-03-30/
CATEGORIES:Choreography,常態課_一般,課程
END:VEVENT
BEGIN:VEVENT
DTSTART;TZID=Asia/Shanghai:20270401T213500
DTEND;TZID=Asia/Shanghai:20270401T223500
DTSTAMP:20260426T014045
CREATED:20250828T104929Z
LAST-MODIFIED:20250828T104929Z
UID:10026303-1806615300-1806618900@www.dancesoul.com.tw
SUMMARY:Choreography-巴豪
DESCRIPTION:
URL:https://www.dancesoul.com.tw/schedule/choreography-%e5%b7%b4%e8%b1%aa-7/2027-04-01/
CATEGORIES:Choreography,常態課_一般,課程
END:VEVENT
BEGIN:VEVENT
DTSTART;TZID=Asia/Shanghai:20270406T192500
DTEND;TZID=Asia/Shanghai:20270406T202500
DTSTAMP:20260426T014045
CREATED:20260327T083744Z
LAST-MODIFIED:20260327T083744Z
UID:10034296-1807039500-1807043100@www.dancesoul.com.tw
SUMMARY:Choreography-羅毅
DESCRIPTION:
URL:https://www.dancesoul.com.tw/schedule/choreography-%e7%be%85%e6%af%85-2-2/2027-04-06/
CATEGORIES:Choreography,常態課_一般,課程
END:VEVENT
BEGIN:VEVENT
DTSTART;TZID=Asia/Shanghai:20270408T213500
DTEND;TZID=Asia/Shanghai:20270408T223500
DTSTAMP:20260426T014045
CREATED:20250828T104929Z
LAST-MODIFIED:20250828T104929Z
UID:10026304-1807220100-1807223700@www.dancesoul.com.tw
SUMMARY:Choreography-巴豪
DESCRIPTION:
URL:https://www.dancesoul.com.tw/schedule/choreography-%e5%b7%b4%e8%b1%aa-7/2027-04-08/
CATEGORIES:Choreography,常態課_一般,課程
END:VEVENT
BEGIN:VEVENT
DTSTART;TZID=Asia/Shanghai:20270413T192500
DTEND;TZID=Asia/Shanghai:20270413T202500
DTSTAMP:20260426T014045
CREATED:20260327T083744Z
LAST-MODIFIED:20260327T083744Z
UID:10034297-1807644300-1807647900@www.dancesoul.com.tw
SUMMARY:Choreography-羅毅
DESCRIPTION:
URL:https://www.dancesoul.com.tw/schedule/choreography-%e7%be%85%e6%af%85-2-2/2027-04-13/
CATEGORIES:Choreography,常態課_一般,課程
END:VEVENT
BEGIN:VEVENT
DTSTART;TZID=Asia/Shanghai:20270415T213500
DTEND;TZID=Asia/Shanghai:20270415T223500
DTSTAMP:20260426T014045
CREATED:20250828T104929Z
LAST-MODIFIED:20250828T104929Z
UID:10026305-1807824900-1807828500@www.dancesoul.com.tw
SUMMARY:Choreography-巴豪
DESCRIPTION:
URL:https://www.dancesoul.com.tw/schedule/choreography-%e5%b7%b4%e8%b1%aa-7/2027-04-15/
CATEGORIES:Choreography,常態課_一般,課程
END:VEVENT
BEGIN:VEVENT
DTSTART;TZID=Asia/Shanghai:20270420T192500
DTEND;TZID=Asia/Shanghai:20270420T202500
DTSTAMP:20260426T014045
CREATED:20260327T083744Z
LAST-MODIFIED:20260327T083744Z
UID:10034298-1808249100-1808252700@www.dancesoul.com.tw
SUMMARY:Choreography-羅毅
DESCRIPTION:
URL:https://www.dancesoul.com.tw/schedule/choreography-%e7%be%85%e6%af%85-2-2/2027-04-20/
CATEGORIES:Choreography,常態課_一般,課程
END:VEVENT
BEGIN:VEVENT
DTSTART;TZID=Asia/Shanghai:20270422T213500
DTEND;TZID=Asia/Shanghai:20270422T223500
DTSTAMP:20260426T014045
CREATED:20250828T104929Z
LAST-MODIFIED:20250828T104929Z
UID:10026306-1808429700-1808433300@www.dancesoul.com.tw
SUMMARY:Choreography-巴豪
DESCRIPTION:
URL:https://www.dancesoul.com.tw/schedule/choreography-%e5%b7%b4%e8%b1%aa-7/2027-04-22/
CATEGORIES:Choreography,常態課_一般,課程
END:VEVENT
BEGIN:VEVENT
DTSTART;TZID=Asia/Shanghai:20270427T192500
DTEND;TZID=Asia/Shanghai:20270427T202500
DTSTAMP:20260426T014045
CREATED:20260327T083744Z
LAST-MODIFIED:20260327T083744Z
UID:10034299-1808853900-1808857500@www.dancesoul.com.tw
SUMMARY:Choreography-羅毅
DESCRIPTION:
URL:https://www.dancesoul.com.tw/schedule/choreography-%e7%be%85%e6%af%85-2-2/2027-04-27/
CATEGORIES:Choreography,常態課_一般,課程
END:VEVENT
BEGIN:VEVENT
DTSTART;TZID=Asia/Shanghai:20270429T213500
DTEND;TZID=Asia/Shanghai:20270429T223500
DTSTAMP:20260426T014045
CREATED:20250828T104929Z
LAST-MODIFIED:20250828T104929Z
UID:10026307-1809034500-1809038100@www.dancesoul.com.tw
SUMMARY:Choreography-巴豪
DESCRIPTION:
URL:https://www.dancesoul.com.tw/schedule/choreography-%e5%b7%b4%e8%b1%aa-7/2027-04-29/
CATEGORIES:Choreography,常態課_一般,課程
END:VEVENT
BEGIN:VEVENT
DTSTART;TZID=Asia/Shanghai:20270504T192500
DTEND;TZID=Asia/Shanghai:20270504T202500
DTSTAMP:20260426T014045
CREATED:20260327T083744Z
LAST-MODIFIED:20260327T083744Z
UID:10034300-1809458700-1809462300@www.dancesoul.com.tw
SUMMARY:Choreography-羅毅
DESCRIPTION:
URL:https://www.dancesoul.com.tw/schedule/choreography-%e7%be%85%e6%af%85-2-2/2027-05-04/
CATEGORIES:Choreography,常態課_一般,課程
END:VEVENT
BEGIN:VEVENT
DTSTART;TZID=Asia/Shanghai:20270506T213500
DTEND;TZID=Asia/Shanghai:20270506T223500
DTSTAMP:20260426T014045
CREATED:20250828T104929Z
LAST-MODIFIED:20250828T104929Z
UID:10026308-1809639300-1809642900@www.dancesoul.com.tw
SUMMARY:Choreography-巴豪
DESCRIPTION:
URL:https://www.dancesoul.com.tw/schedule/choreography-%e5%b7%b4%e8%b1%aa-7/2027-05-06/
CATEGORIES:Choreography,常態課_一般,課程
END:VEVENT
BEGIN:VEVENT
DTSTART;TZID=Asia/Shanghai:20270511T192500
DTEND;TZID=Asia/Shanghai:20270511T202500
DTSTAMP:20260426T014045
CREATED:20260327T083744Z
LAST-MODIFIED:20260327T083744Z
UID:10034301-1810063500-1810067100@www.dancesoul.com.tw
SUMMARY:Choreography-羅毅
DESCRIPTION:
URL:https://www.dancesoul.com.tw/schedule/choreography-%e7%be%85%e6%af%85-2-2/2027-05-11/
CATEGORIES:Choreography,常態課_一般,課程
END:VEVENT
BEGIN:VEVENT
DTSTART;TZID=Asia/Shanghai:20270513T213500
DTEND;TZID=Asia/Shanghai:20270513T223500
DTSTAMP:20260426T014045
CREATED:20250828T104929Z
LAST-MODIFIED:20250828T104929Z
UID:10026309-1810244100-1810247700@www.dancesoul.com.tw
SUMMARY:Choreography-巴豪
DESCRIPTION:
URL:https://www.dancesoul.com.tw/schedule/choreography-%e5%b7%b4%e8%b1%aa-7/2027-05-13/
CATEGORIES:Choreography,常態課_一般,課程
END:VEVENT
END:VCALENDAR