BEGIN:VCALENDAR
VERSION:2.0
PRODID:-//DANCE SOUL 舞魂街舞學校 - ECPv6.15.18//NONSGML v1.0//EN
CALSCALE:GREGORIAN
METHOD:PUBLISH
X-WR-CALNAME:DANCE SOUL 舞魂街舞學校
X-ORIGINAL-URL:https://www.dancesoul.com.tw
X-WR-CALDESC:Events for DANCE SOUL 舞魂街舞學校
REFRESH-INTERVAL;VALUE=DURATION:PT1H
X-Robots-Tag:noindex
X-PUBLISHED-TTL:PT1H
BEGIN:VTIMEZONE
TZID:Asia/Shanghai
BEGIN:STANDARD
TZOFFSETFROM:+0800
TZOFFSETTO:+0800
TZNAME:CST
DTSTART:20230101T000000
END:STANDARD
END:VTIMEZONE
BEGIN:VEVENT
DTSTART;TZID=Asia/Shanghai:20240129T205000
DTEND;TZID=Asia/Shanghai:20240129T215000
DTSTAMP:20260426T101419
CREATED:20231228T092305Z
LAST-MODIFIED:20231228T092305Z
UID:10018916-1706561400-1706565000@www.dancesoul.com.tw
SUMMARY:Jazz Funk-魏小美
DESCRIPTION:
URL:https://www.dancesoul.com.tw/schedule/jazz-funk-%e9%ad%8f%e5%b0%8f%e7%be%8e-66/2024-01-29/
CATEGORIES:Jazz Funk,課程
END:VEVENT
END:VCALENDAR