BEGIN:VCALENDAR
VERSION:2.0
PRODID:-//DANCE SOUL 舞魂街舞學校 - ECPv6.15.18//NONSGML v1.0//EN
CALSCALE:GREGORIAN
METHOD:PUBLISH
X-ORIGINAL-URL:https://www.dancesoul.com.tw
X-WR-CALDESC:Events for DANCE SOUL 舞魂街舞學校
REFRESH-INTERVAL;VALUE=DURATION:PT1H
X-Robots-Tag:noindex
X-PUBLISHED-TTL:PT1H
BEGIN:VTIMEZONE
TZID:Asia/Shanghai
BEGIN:STANDARD
TZOFFSETFROM:+0800
TZOFFSETTO:+0800
TZNAME:CST
DTSTART:20230101T000000
END:STANDARD
END:VTIMEZONE
BEGIN:VEVENT
DTSTART;TZID=Asia/Shanghai:20240310T132000
DTEND;TZID=Asia/Shanghai:20240310T142000
DTSTAMP:20260425T234805
CREATED:20240225T072102Z
LAST-MODIFIED:20240225T072102Z
UID:10019244-1710076800-1710080400@www.dancesoul.com.tw
SUMMARY:兒童街舞-羿芃
DESCRIPTION:
URL:https://www.dancesoul.com.tw/schedule/%e5%85%92%e7%ab%a5%e8%a1%97%e8%88%9e-%e7%be%bf%e8%8a%83-3/2024-03-10/
CATEGORIES:兒童街舞,兒童課,課程
END:VEVENT
BEGIN:VEVENT
DTSTART;TZID=Asia/Shanghai:20240310T143000
DTEND;TZID=Asia/Shanghai:20240310T153000
DTSTAMP:20260425T234805
CREATED:20240225T072357Z
LAST-MODIFIED:20240225T072357Z
UID:10019249-1710081000-1710084600@www.dancesoul.com.tw
SUMMARY:兒童MV-(LE SSERAFIM - Swan Song)-羿芃
DESCRIPTION:
URL:https://www.dancesoul.com.tw/schedule/%e5%85%92%e7%ab%a5mv-le-sserafim-swan-song-%e7%be%bf%e8%8a%83/2024-03-10/
CATEGORIES:兒童MV,兒童課,課程
END:VEVENT
BEGIN:VEVENT
DTSTART;TZID=Asia/Shanghai:20240310T154000
DTEND;TZID=Asia/Shanghai:20240310T164000
DTSTAMP:20260425T234805
CREATED:20240225T081631Z
LAST-MODIFIED:20240225T081631Z
UID:10019254-1710085200-1710088800@www.dancesoul.com.tw
SUMMARY:兒童街舞-傘傘
DESCRIPTION:
URL:https://www.dancesoul.com.tw/schedule/%e5%85%92%e7%ab%a5%e8%a1%97%e8%88%9e-%e5%82%98%e5%82%98-33/2024-03-10/
CATEGORIES:兒童MV,兒童課,課程
END:VEVENT
BEGIN:VEVENT
DTSTART;TZID=Asia/Shanghai:20240310T180000
DTEND;TZID=Asia/Shanghai:20240310T190000
DTSTAMP:20260425T234805
CREATED:20240225T082018Z
LAST-MODIFIED:20240225T082018Z
UID:10019264-1710093600-1710097200@www.dancesoul.com.tw
SUMMARY:Street Jazz-育暉
DESCRIPTION:
URL:https://www.dancesoul.com.tw/schedule/street-jazz-%e8%82%b2%e6%9a%89-45/2024-03-10/
CATEGORIES:STREET JAZZ,常態課_一般,課程
END:VEVENT
END:VCALENDAR