BEGIN:VCALENDAR
VERSION:2.0
PRODID:-//DANCE SOUL 舞魂街舞學校 - ECPv6.15.18//NONSGML v1.0//EN
CALSCALE:GREGORIAN
METHOD:PUBLISH
X-WR-CALNAME:DANCE SOUL 舞魂街舞學校
X-ORIGINAL-URL:https://www.dancesoul.com.tw
X-WR-CALDESC:Events for DANCE SOUL 舞魂街舞學校
REFRESH-INTERVAL;VALUE=DURATION:PT1H
X-Robots-Tag:noindex
X-PUBLISHED-TTL:PT1H
BEGIN:VTIMEZONE
TZID:Asia/Shanghai
BEGIN:STANDARD
TZOFFSETFROM:+0800
TZOFFSETTO:+0800
TZNAME:CST
DTSTART:20230101T000000
END:STANDARD
END:VTIMEZONE
BEGIN:VEVENT
DTSTART;TZID=Asia/Shanghai:20240414T132000
DTEND;TZID=Asia/Shanghai:20240414T142000
DTSTAMP:20260423T031402
CREATED:20240326T090818Z
LAST-MODIFIED:20240326T090818Z
UID:10019366-1713100800-1713104400@www.dancesoul.com.tw
SUMMARY:兒童街舞-羿芃
DESCRIPTION:
URL:https://www.dancesoul.com.tw/schedule/%e5%85%92%e7%ab%a5%e8%a1%97%e8%88%9e-%e7%be%bf%e8%8a%83-4/2024-04-14/
CATEGORIES:兒童街舞,兒童課,課程
END:VEVENT
BEGIN:VEVENT
DTSTART;TZID=Asia/Shanghai:20240414T143000
DTEND;TZID=Asia/Shanghai:20240414T153000
DTSTAMP:20260423T031402
CREATED:20240326T091011Z
LAST-MODIFIED:20240326T091011Z
UID:10019370-1713105000-1713108600@www.dancesoul.com.tw
SUMMARY:兒童MV-(LE SSERAFIM - EASY)-羿芃
DESCRIPTION:
URL:https://www.dancesoul.com.tw/schedule/%e5%85%92%e7%ab%a5mv-le-sserafim-easy-%e7%be%bf%e8%8a%83/2024-04-14/
CATEGORIES:兒童MV,兒童課,課程
END:VEVENT
BEGIN:VEVENT
DTSTART;TZID=Asia/Shanghai:20240414T154000
DTEND;TZID=Asia/Shanghai:20240414T164000
DTSTAMP:20260423T031402
CREATED:20240326T091220Z
LAST-MODIFIED:20240326T091220Z
UID:10019374-1713109200-1713112800@www.dancesoul.com.tw
SUMMARY:兒童街舞-傘傘
DESCRIPTION:
URL:https://www.dancesoul.com.tw/schedule/%e5%85%92%e7%ab%a5%e8%a1%97%e8%88%9e-%e5%82%98%e5%82%98-35/2024-04-14/
CATEGORIES:兒童街舞,兒童課,課程
END:VEVENT
BEGIN:VEVENT
DTSTART;TZID=Asia/Shanghai:20240414T180000
DTEND;TZID=Asia/Shanghai:20240414T190000
DTSTAMP:20260423T031402
CREATED:20240326T091920Z
LAST-MODIFIED:20240326T091920Z
UID:10019382-1713117600-1713121200@www.dancesoul.com.tw
SUMMARY:Street Jazz-育暉
DESCRIPTION:
URL:https://www.dancesoul.com.tw/schedule/street-jazz-%e8%82%b2%e6%9a%89-46/2024-04-14/
CATEGORIES:STREET JAZZ,常態課_一般,課程
END:VEVENT
END:VCALENDAR