BEGIN:VCALENDAR
VERSION:2.0
PRODID:-//DANCE SOUL 舞魂街舞學校 - ECPv6.15.18//NONSGML v1.0//EN
CALSCALE:GREGORIAN
METHOD:PUBLISH
X-ORIGINAL-URL:https://www.dancesoul.com.tw
X-WR-CALDESC:Events for DANCE SOUL 舞魂街舞學校
REFRESH-INTERVAL;VALUE=DURATION:PT1H
X-Robots-Tag:noindex
X-PUBLISHED-TTL:PT1H
BEGIN:VTIMEZONE
TZID:Asia/Shanghai
BEGIN:STANDARD
TZOFFSETFROM:+0800
TZOFFSETTO:+0800
TZNAME:CST
DTSTART:20230101T000000
END:STANDARD
END:VTIMEZONE
BEGIN:VEVENT
DTSTART;TZID=Asia/Shanghai:20240525T132000
DTEND;TZID=Asia/Shanghai:20240525T142000
DTSTAMP:20260423T020053
CREATED:20240423T084049Z
LAST-MODIFIED:20240423T084049Z
UID:10019460-1716643200-1716646800@www.dancesoul.com.tw
SUMMARY:兒童街舞-薇臻
DESCRIPTION:
URL:https://www.dancesoul.com.tw/schedule/%e5%85%92%e7%ab%a5%e8%a1%97%e8%88%9e-%e8%96%87%e8%87%bb-6/2024-05-25/
CATEGORIES:兒童街舞,兒童課,課程
END:VEVENT
BEGIN:VEVENT
DTSTART;TZID=Asia/Shanghai:20240525T143000
DTEND;TZID=Asia/Shanghai:20240525T153000
DTSTAMP:20260423T020053
CREATED:20240423T084325Z
LAST-MODIFIED:20240423T084325Z
UID:10019464-1716647400-1716651000@www.dancesoul.com.tw
SUMMARY:兒童MV-(BABYMONSTER - SHEESH)-薇臻
DESCRIPTION:
URL:https://www.dancesoul.com.tw/schedule/%e5%85%92%e7%ab%a5mv-babymonster-sheesh-%e8%96%87%e8%87%bb/2024-05-25/
CATEGORIES:兒童MV,兒童課,課程
END:VEVENT
BEGIN:VEVENT
DTSTART;TZID=Asia/Shanghai:20240525T154000
DTEND;TZID=Asia/Shanghai:20240525T164000
DTSTAMP:20260423T020053
CREATED:20240423T084617Z
LAST-MODIFIED:20240423T084617Z
UID:10019468-1716651600-1716655200@www.dancesoul.com.tw
SUMMARY:兒童街舞-傘傘
DESCRIPTION:
URL:https://www.dancesoul.com.tw/schedule/%e5%85%92%e7%ab%a5%e8%a1%97%e8%88%9e-%e5%82%98%e5%82%98-36/2024-05-25/
CATEGORIES:兒童街舞,兒童課,課程
END:VEVENT
BEGIN:VEVENT
DTSTART;TZID=Asia/Shanghai:20240525T180000
DTEND;TZID=Asia/Shanghai:20240525T190000
DTSTAMP:20260423T020053
CREATED:20240423T084935Z
LAST-MODIFIED:20240423T084935Z
UID:10019476-1716660000-1716663600@www.dancesoul.com.tw
SUMMARY:Popping-紀威
DESCRIPTION:
URL:https://www.dancesoul.com.tw/schedule/popping-%e7%b4%80%e5%a8%81-40/2024-05-25/
CATEGORIES:Poppin,常態課_一般,課程
END:VEVENT
END:VCALENDAR