BEGIN:VCALENDAR
VERSION:2.0
PRODID:-//DANCE SOUL 舞魂街舞學校 - ECPv6.15.18//NONSGML v1.0//EN
CALSCALE:GREGORIAN
METHOD:PUBLISH
X-WR-CALNAME:DANCE SOUL 舞魂街舞學校
X-ORIGINAL-URL:https://www.dancesoul.com.tw
X-WR-CALDESC:Events for DANCE SOUL 舞魂街舞學校
REFRESH-INTERVAL;VALUE=DURATION:PT1H
X-Robots-Tag:noindex
X-PUBLISHED-TTL:PT1H
BEGIN:VTIMEZONE
TZID:Asia/Shanghai
BEGIN:STANDARD
TZOFFSETFROM:+0800
TZOFFSETTO:+0800
TZNAME:CST
DTSTART:20230101T000000
END:STANDARD
END:VTIMEZONE
BEGIN:VEVENT
DTSTART;TZID=Asia/Shanghai:20240602T132000
DTEND;TZID=Asia/Shanghai:20240602T142000
DTSTAMP:20260422T021813
CREATED:20240523T100321Z
LAST-MODIFIED:20240523T100321Z
UID:10019621-1717334400-1717338000@www.dancesoul.com.tw
SUMMARY:兒童街舞-羿芃
DESCRIPTION:
URL:https://www.dancesoul.com.tw/schedule/%e5%85%92%e7%ab%a5%e8%a1%97%e8%88%9e-%e7%be%bf%e8%8a%83-6/2024-06-02/
CATEGORIES:兒童街舞,兒童課,課程
END:VEVENT
BEGIN:VEVENT
DTSTART;TZID=Asia/Shanghai:20240602T143000
DTEND;TZID=Asia/Shanghai:20240602T153000
DTSTAMP:20260422T021813
CREATED:20240523T101335Z
LAST-MODIFIED:20240523T101335Z
UID:10019626-1717338600-1717342200@www.dancesoul.com.tw
SUMMARY:兒童MV-(IVE - HEYA)-羿芃
DESCRIPTION:
URL:https://www.dancesoul.com.tw/schedule/%e5%85%92%e7%ab%a5mv-ive-heya-%e7%be%bf%e8%8a%83/2024-06-02/
CATEGORIES:兒童MV,兒童課,課程
END:VEVENT
BEGIN:VEVENT
DTSTART;TZID=Asia/Shanghai:20240602T154000
DTEND;TZID=Asia/Shanghai:20240602T164000
DTSTAMP:20260422T021813
CREATED:20240523T101428Z
LAST-MODIFIED:20240523T101428Z
UID:10019631-1717342800-1717346400@www.dancesoul.com.tw
SUMMARY:兒童街舞-傘傘
DESCRIPTION:
URL:https://www.dancesoul.com.tw/schedule/%e5%85%92%e7%ab%a5%e8%a1%97%e8%88%9e-%e5%82%98%e5%82%98-39/2024-06-02/
CATEGORIES:兒童街舞,兒童課,課程
END:VEVENT
BEGIN:VEVENT
DTSTART;TZID=Asia/Shanghai:20240602T180000
DTEND;TZID=Asia/Shanghai:20240602T190000
DTSTAMP:20260422T021813
CREATED:20240523T101857Z
LAST-MODIFIED:20240523T101857Z
UID:10019641-1717351200-1717354800@www.dancesoul.com.tw
SUMMARY:Afro Style-聖恩
DESCRIPTION:
URL:https://www.dancesoul.com.tw/schedule/afro-style-%e8%81%96%e6%81%a9/2024-06-02/
CATEGORIES:Afro Style,Afro Style,常態課_一般,課程
END:VEVENT
END:VCALENDAR