BEGIN:VCALENDAR
VERSION:2.0
PRODID:-//DANCE SOUL 舞魂街舞學校 - ECPv6.15.18//NONSGML v1.0//EN
CALSCALE:GREGORIAN
METHOD:PUBLISH
X-WR-CALNAME:DANCE SOUL 舞魂街舞學校
X-ORIGINAL-URL:https://www.dancesoul.com.tw
X-WR-CALDESC:Events for DANCE SOUL 舞魂街舞學校
REFRESH-INTERVAL;VALUE=DURATION:PT1H
X-Robots-Tag:noindex
X-PUBLISHED-TTL:PT1H
BEGIN:VTIMEZONE
TZID:Asia/Shanghai
BEGIN:STANDARD
TZOFFSETFROM:+0800
TZOFFSETTO:+0800
TZNAME:CST
DTSTART:20230101T000000
END:STANDARD
END:VTIMEZONE
BEGIN:VEVENT
DTSTART;TZID=Asia/Shanghai:20240608T132000
DTEND;TZID=Asia/Shanghai:20240608T142000
DTSTAMP:20260422T020055
CREATED:20240523T095134Z
LAST-MODIFIED:20240523T095134Z
UID:10019582-1717852800-1717856400@www.dancesoul.com.tw
SUMMARY:兒童街舞-薇臻
DESCRIPTION:
URL:https://www.dancesoul.com.tw/schedule/%e5%85%92%e7%ab%a5%e8%a1%97%e8%88%9e-%e8%96%87%e8%87%bb-7/2024-06-08/
CATEGORIES:兒童街舞,兒童課,課程
END:VEVENT
BEGIN:VEVENT
DTSTART;TZID=Asia/Shanghai:20240608T143000
DTEND;TZID=Asia/Shanghai:20240608T153000
DTSTAMP:20260422T020055
CREATED:20240523T095250Z
LAST-MODIFIED:20240523T095250Z
UID:10019587-1717857000-1717860600@www.dancesoul.com.tw
SUMMARY:兒童MV-(IVE - Accendio)-薇臻
DESCRIPTION:
URL:https://www.dancesoul.com.tw/schedule/%e5%85%92%e7%ab%a5mv-ive-accendio-%e8%96%87%e8%87%bb/2024-06-08/
CATEGORIES:兒童MV,兒童課,課程
END:VEVENT
BEGIN:VEVENT
DTSTART;TZID=Asia/Shanghai:20240608T154000
DTEND;TZID=Asia/Shanghai:20240608T164000
DTSTAMP:20260422T020055
CREATED:20240523T095423Z
LAST-MODIFIED:20240523T095423Z
UID:10019592-1717861200-1717864800@www.dancesoul.com.tw
SUMMARY:兒童街舞-傘傘
DESCRIPTION:
URL:https://www.dancesoul.com.tw/schedule/%e5%85%92%e7%ab%a5%e8%a1%97%e8%88%9e-%e5%82%98%e5%82%98-38/2024-06-08/
CATEGORIES:兒童街舞,兒童課,課程
END:VEVENT
BEGIN:VEVENT
DTSTART;TZID=Asia/Shanghai:20240608T180000
DTEND;TZID=Asia/Shanghai:20240608T190000
DTSTAMP:20260422T020055
CREATED:20240523T095944Z
LAST-MODIFIED:20240523T095944Z
UID:10019607-1717869600-1717873200@www.dancesoul.com.tw
SUMMARY:Popping-紀威
DESCRIPTION:
URL:https://www.dancesoul.com.tw/schedule/popping-%e7%b4%80%e5%a8%81-41/2024-06-08/
CATEGORIES:Poppin,常態課_一般,課程
END:VEVENT
END:VCALENDAR