BEGIN:VCALENDAR
VERSION:2.0
PRODID:-//DANCE SOUL 舞魂街舞學校 - ECPv6.15.18//NONSGML v1.0//EN
CALSCALE:GREGORIAN
METHOD:PUBLISH
X-WR-CALNAME:DANCE SOUL 舞魂街舞學校
X-ORIGINAL-URL:https://www.dancesoul.com.tw
X-WR-CALDESC:Events for DANCE SOUL 舞魂街舞學校
REFRESH-INTERVAL;VALUE=DURATION:PT1H
X-Robots-Tag:noindex
X-PUBLISHED-TTL:PT1H
BEGIN:VTIMEZONE
TZID:Asia/Shanghai
BEGIN:STANDARD
TZOFFSETFROM:+0800
TZOFFSETTO:+0800
TZNAME:CST
DTSTART:20230101T000000
END:STANDARD
END:VTIMEZONE
BEGIN:VEVENT
DTSTART;TZID=Asia/Shanghai:20240706T132000
DTEND;TZID=Asia/Shanghai:20240706T142000
DTSTAMP:20260421T114237
CREATED:20240624T073413Z
LAST-MODIFIED:20240624T073413Z
UID:10019714-1720272000-1720275600@www.dancesoul.com.tw
SUMMARY:兒童街舞-薇臻
DESCRIPTION:
URL:https://www.dancesoul.com.tw/schedule/%e5%85%92%e7%ab%a5%e8%a1%97%e8%88%9e-%e8%96%87%e8%87%bb-8/2024-07-06/
CATEGORIES:兒童街舞,兒童課,課程
END:VEVENT
BEGIN:VEVENT
DTSTART;TZID=Asia/Shanghai:20240706T143000
DTEND;TZID=Asia/Shanghai:20240706T153000
DTSTAMP:20260421T114237
CREATED:20240624T075531Z
LAST-MODIFIED:20240624T075531Z
UID:10019718-1720276200-1720279800@www.dancesoul.com.tw
SUMMARY:兒童MV-(Aespa - Armageddon)-薇臻
DESCRIPTION:
URL:https://www.dancesoul.com.tw/schedule/%e5%85%92%e7%ab%a5mv-aespa-armageddon-%e8%96%87%e8%87%bb/2024-07-06/
CATEGORIES:兒童MV,兒童課,課程
END:VEVENT
BEGIN:VEVENT
DTSTART;TZID=Asia/Shanghai:20240706T154000
DTEND;TZID=Asia/Shanghai:20240706T164000
DTSTAMP:20260421T114237
CREATED:20240624T081217Z
LAST-MODIFIED:20240624T081217Z
UID:10019722-1720280400-1720284000@www.dancesoul.com.tw
SUMMARY:兒童基礎街舞-傘傘
DESCRIPTION:
URL:https://www.dancesoul.com.tw/schedule/%e5%85%92%e7%ab%a5%e5%9f%ba%e7%a4%8e%e8%a1%97%e8%88%9e-%e5%82%98%e5%82%98/2024-07-06/
CATEGORIES:兒童基礎街舞,兒童課,課程
END:VEVENT
BEGIN:VEVENT
DTSTART;TZID=Asia/Shanghai:20240706T180000
DTEND;TZID=Asia/Shanghai:20240706T190000
DTSTAMP:20260421T114237
CREATED:20240624T081646Z
LAST-MODIFIED:20240624T081646Z
UID:10019730-1720288800-1720292400@www.dancesoul.com.tw
SUMMARY:Popping-紀威
DESCRIPTION:
URL:https://www.dancesoul.com.tw/schedule/popping-%e7%b4%80%e5%a8%81-42/2024-07-06/
CATEGORIES:Poppin,常態課_一般,課程
END:VEVENT
END:VCALENDAR