BEGIN:VCALENDAR
VERSION:2.0
PRODID:-//DANCE SOUL 舞魂街舞學校 - ECPv6.15.18//NONSGML v1.0//EN
CALSCALE:GREGORIAN
METHOD:PUBLISH
X-ORIGINAL-URL:https://www.dancesoul.com.tw
X-WR-CALDESC:Events for DANCE SOUL 舞魂街舞學校
REFRESH-INTERVAL;VALUE=DURATION:PT1H
X-Robots-Tag:noindex
X-PUBLISHED-TTL:PT1H
BEGIN:VTIMEZONE
TZID:Asia/Shanghai
BEGIN:STANDARD
TZOFFSETFROM:+0800
TZOFFSETTO:+0800
TZNAME:CST
DTSTART:20230101T000000
END:STANDARD
END:VTIMEZONE
BEGIN:VEVENT
DTSTART;TZID=Asia/Shanghai:20240723T150000
DTEND;TZID=Asia/Shanghai:20240723T160000
DTSTAMP:20260421T114422
CREATED:20240625T090729Z
LAST-MODIFIED:20240625T090729Z
UID:10019927-1721746800-1721750400@www.dancesoul.com.tw
SUMMARY:兒童MV-(NAYEON - ABCD)-薇臻
DESCRIPTION:
URL:https://www.dancesoul.com.tw/schedule/%e5%85%92%e7%ab%a5mv-nayeon-abcd-%e8%96%87%e8%87%bb/2024-07-23/
CATEGORIES:兒童MV,兒童課,課程
END:VEVENT
BEGIN:VEVENT
DTSTART;TZID=Asia/Shanghai:20240723T172000
DTEND;TZID=Asia/Shanghai:20240723T182000
DTSTAMP:20260421T114422
CREATED:20240624T091655Z
LAST-MODIFIED:20240624T091751Z
UID:10019827-1721755200-1721758800@www.dancesoul.com.tw
SUMMARY:Hip Hop-子賢
DESCRIPTION:
URL:https://www.dancesoul.com.tw/schedule/hip-hop-%e5%ad%90%e8%b3%a2/2024-07-23/
CATEGORIES:Hip Hop,常態課_一般,課程
END:VEVENT
BEGIN:VEVENT
DTSTART;TZID=Asia/Shanghai:20240723T194000
DTEND;TZID=Asia/Shanghai:20240723T204000
DTSTAMP:20260421T114422
CREATED:20240624T092110Z
LAST-MODIFIED:20240624T092110Z
UID:10019837-1721763600-1721767200@www.dancesoul.com.tw
SUMMARY:Street Jazz-Denis
DESCRIPTION:
URL:https://www.dancesoul.com.tw/schedule/street-jazz-denis-46/2024-07-23/
CATEGORIES:STREET JAZZ,常態課_一般,課程
END:VEVENT
BEGIN:VEVENT
DTSTART;TZID=Asia/Shanghai:20240723T205000
DTEND;TZID=Asia/Shanghai:20240723T215000
DTSTAMP:20260421T114422
CREATED:20240624T092244Z
LAST-MODIFIED:20240624T092244Z
UID:10019842-1721767800-1721771400@www.dancesoul.com.tw
SUMMARY:Choreography-少麟
DESCRIPTION:
URL:https://www.dancesoul.com.tw/schedule/choreography-%e5%b0%91%e9%ba%9f-10/2024-07-23/
CATEGORIES:Choreography,常態課_一般,課程
END:VEVENT
END:VCALENDAR