BEGIN:VCALENDAR
VERSION:2.0
PRODID:-//DANCE SOUL 舞魂街舞學校 - ECPv6.15.18//NONSGML v1.0//EN
CALSCALE:GREGORIAN
METHOD:PUBLISH
X-WR-CALNAME:DANCE SOUL 舞魂街舞學校
X-ORIGINAL-URL:https://www.dancesoul.com.tw
X-WR-CALDESC:Events for DANCE SOUL 舞魂街舞學校
REFRESH-INTERVAL;VALUE=DURATION:PT1H
X-Robots-Tag:noindex
X-PUBLISHED-TTL:PT1H
BEGIN:VTIMEZONE
TZID:Asia/Shanghai
BEGIN:STANDARD
TZOFFSETFROM:+0800
TZOFFSETTO:+0800
TZNAME:CST
DTSTART:20230101T000000
END:STANDARD
END:VTIMEZONE
BEGIN:VEVENT
DTSTART;TZID=Asia/Shanghai:20240730T150000
DTEND;TZID=Asia/Shanghai:20240730T160000
DTSTAMP:20260421T081249
CREATED:20240625T090729Z
LAST-MODIFIED:20240625T090729Z
UID:10019928-1722351600-1722355200@www.dancesoul.com.tw
SUMMARY:兒童MV-(NAYEON - ABCD)-薇臻
DESCRIPTION:
URL:https://www.dancesoul.com.tw/schedule/%e5%85%92%e7%ab%a5mv-nayeon-abcd-%e8%96%87%e8%87%bb/2024-07-30/
CATEGORIES:兒童MV,兒童課,課程
END:VEVENT
BEGIN:VEVENT
DTSTART;TZID=Asia/Shanghai:20240730T172000
DTEND;TZID=Asia/Shanghai:20240730T182000
DTSTAMP:20260421T081249
CREATED:20240624T091655Z
LAST-MODIFIED:20240624T091751Z
UID:10019828-1722360000-1722363600@www.dancesoul.com.tw
SUMMARY:Hip Hop-子賢
DESCRIPTION:
URL:https://www.dancesoul.com.tw/schedule/hip-hop-%e5%ad%90%e8%b3%a2/2024-07-30/
CATEGORIES:Hip Hop,常態課_一般,課程
END:VEVENT
BEGIN:VEVENT
DTSTART;TZID=Asia/Shanghai:20240730T194000
DTEND;TZID=Asia/Shanghai:20240730T204000
DTSTAMP:20260421T081249
CREATED:20240624T092110Z
LAST-MODIFIED:20240624T092110Z
UID:10019838-1722368400-1722372000@www.dancesoul.com.tw
SUMMARY:Street Jazz-Denis
DESCRIPTION:
URL:https://www.dancesoul.com.tw/schedule/street-jazz-denis-46/2024-07-30/
CATEGORIES:STREET JAZZ,常態課_一般,課程
END:VEVENT
BEGIN:VEVENT
DTSTART;TZID=Asia/Shanghai:20240730T205000
DTEND;TZID=Asia/Shanghai:20240730T215000
DTSTAMP:20260421T081249
CREATED:20240624T092244Z
LAST-MODIFIED:20240624T092244Z
UID:10019843-1722372600-1722376200@www.dancesoul.com.tw
SUMMARY:Choreography-少麟
DESCRIPTION:
URL:https://www.dancesoul.com.tw/schedule/choreography-%e5%b0%91%e9%ba%9f-10/2024-07-30/
CATEGORIES:Choreography,常態課_一般,課程
END:VEVENT
END:VCALENDAR