BEGIN:VCALENDAR
VERSION:2.0
PRODID:-//DANCE SOUL 舞魂街舞學校 - ECPv6.15.18//NONSGML v1.0//EN
CALSCALE:GREGORIAN
METHOD:PUBLISH
X-ORIGINAL-URL:https://www.dancesoul.com.tw
X-WR-CALDESC:Events for DANCE SOUL 舞魂街舞學校
REFRESH-INTERVAL;VALUE=DURATION:PT1H
X-Robots-Tag:noindex
X-PUBLISHED-TTL:PT1H
BEGIN:VTIMEZONE
TZID:Asia/Shanghai
BEGIN:STANDARD
TZOFFSETFROM:+0800
TZOFFSETTO:+0800
TZNAME:CST
DTSTART:20230101T000000
END:STANDARD
END:VTIMEZONE
BEGIN:VEVENT
DTSTART;TZID=Asia/Shanghai:20240731T150000
DTEND;TZID=Asia/Shanghai:20240731T160000
DTSTAMP:20260421T081302
CREATED:20240625T090444Z
LAST-MODIFIED:20240625T090444Z
UID:10019923-1722438000-1722441600@www.dancesoul.com.tw
SUMMARY:兒童MV-(BABYMONSTER - LIKE THAT)-昀珊
DESCRIPTION:
URL:https://www.dancesoul.com.tw/schedule/%e5%85%92%e7%ab%a5mv-babymonster-like-that-%e6%98%80%e7%8f%8a-2/
CATEGORIES:兒童MV,兒童課,課程
END:VEVENT
BEGIN:VEVENT
DTSTART;TZID=Asia/Shanghai:20240731T172000
DTEND;TZID=Asia/Shanghai:20240731T182000
DTSTAMP:20260421T081302
CREATED:20240624T092529Z
LAST-MODIFIED:20240624T092529Z
UID:10019853-1722446400-1722450000@www.dancesoul.com.tw
SUMMARY:Choreography-七七
DESCRIPTION:
URL:https://www.dancesoul.com.tw/schedule/choreography-%e4%b8%83%e4%b8%83/2024-07-31/
CATEGORIES:Choreography,常態課_一般,課程
END:VEVENT
BEGIN:VEVENT
DTSTART;TZID=Asia/Shanghai:20240731T194000
DTEND;TZID=Asia/Shanghai:20240731T204000
DTSTAMP:20260421T081302
CREATED:20240624T092800Z
LAST-MODIFIED:20240624T092800Z
UID:10019863-1722454800-1722458400@www.dancesoul.com.tw
SUMMARY:Street Jazz-Larry
DESCRIPTION:
URL:https://www.dancesoul.com.tw/schedule/street-jazz-larry-17/2024-07-31/
CATEGORIES:STREET JAZZ,常態課_一般,課程
END:VEVENT
BEGIN:VEVENT
DTSTART;TZID=Asia/Shanghai:20240731T205000
DTEND;TZID=Asia/Shanghai:20240731T215000
DTSTAMP:20260421T081302
CREATED:20240624T092858Z
LAST-MODIFIED:20240624T092858Z
UID:10019868-1722459000-1722462600@www.dancesoul.com.tw
SUMMARY:Free Style-承達
DESCRIPTION:
URL:https://www.dancesoul.com.tw/schedule/free-style-%e6%89%bf%e9%81%94-40/2024-07-31/
CATEGORIES:Freestyle,常態課_一般,課程
END:VEVENT
END:VCALENDAR