BEGIN:VCALENDAR
VERSION:2.0
PRODID:-//DANCE SOUL 舞魂街舞學校 - ECPv6.15.18//NONSGML v1.0//EN
CALSCALE:GREGORIAN
METHOD:PUBLISH
X-WR-CALNAME:DANCE SOUL 舞魂街舞學校
X-ORIGINAL-URL:https://www.dancesoul.com.tw
X-WR-CALDESC:Events for DANCE SOUL 舞魂街舞學校
REFRESH-INTERVAL;VALUE=DURATION:PT1H
X-Robots-Tag:noindex
X-PUBLISHED-TTL:PT1H
BEGIN:VTIMEZONE
TZID:Asia/Shanghai
BEGIN:STANDARD
TZOFFSETFROM:+0800
TZOFFSETTO:+0800
TZNAME:CST
DTSTART:20230101T000000
END:STANDARD
END:VTIMEZONE
BEGIN:VEVENT
DTSTART;TZID=Asia/Shanghai:20240814T150000
DTEND;TZID=Asia/Shanghai:20240814T160000
DTSTAMP:20260421T081242
CREATED:20240726T112814Z
LAST-MODIFIED:20240726T112814Z
UID:10019997-1723647600-1723651200@www.dancesoul.com.tw
SUMMARY:兒童MV-((G)I-DLE - Klaxon)-昀珊
DESCRIPTION:
URL:https://www.dancesoul.com.tw/schedule/%e5%85%92%e7%ab%a5mv-gi-dle-klaxon-%e6%98%80%e7%8f%8a/2024-08-14/
CATEGORIES:兒童MV,兒童課,課程
END:VEVENT
BEGIN:VEVENT
DTSTART;TZID=Asia/Shanghai:20240814T172000
DTEND;TZID=Asia/Shanghai:20240814T182000
DTSTAMP:20260421T081242
CREATED:20240726T120322Z
LAST-MODIFIED:20240726T120322Z
UID:10020058-1723656000-1723659600@www.dancesoul.com.tw
SUMMARY:Choreography-七七
DESCRIPTION:
URL:https://www.dancesoul.com.tw/schedule/choreography-%e4%b8%83%e4%b8%83-2/2024-08-14/
CATEGORIES:Choreography,常態課_一般,課程
END:VEVENT
BEGIN:VEVENT
DTSTART;TZID=Asia/Shanghai:20240814T194000
DTEND;TZID=Asia/Shanghai:20240814T204000
DTSTAMP:20260421T081242
CREATED:20240726T120715Z
LAST-MODIFIED:20240726T120715Z
UID:10020066-1723664400-1723668000@www.dancesoul.com.tw
SUMMARY:Street Jazz-Larry
DESCRIPTION:
URL:https://www.dancesoul.com.tw/schedule/street-jazz-larry-18/2024-08-14/
CATEGORIES:STREET JAZZ,常態課_一般,課程
END:VEVENT
BEGIN:VEVENT
DTSTART;TZID=Asia/Shanghai:20240814T205000
DTEND;TZID=Asia/Shanghai:20240814T215000
DTSTAMP:20260421T081242
CREATED:20240726T120815Z
LAST-MODIFIED:20240726T120815Z
UID:10020070-1723668600-1723672200@www.dancesoul.com.tw
SUMMARY:Free Style-承達
DESCRIPTION:
URL:https://www.dancesoul.com.tw/schedule/free-style-%e6%89%bf%e9%81%94-41/2024-08-14/
CATEGORIES:Freestyle,常態課_一般,課程
END:VEVENT
END:VCALENDAR