BEGIN:VCALENDAR
VERSION:2.0
PRODID:-//DANCE SOUL 舞魂街舞學校 - ECPv6.15.18//NONSGML v1.0//EN
CALSCALE:GREGORIAN
METHOD:PUBLISH
X-ORIGINAL-URL:https://www.dancesoul.com.tw
X-WR-CALDESC:Events for DANCE SOUL 舞魂街舞學校
REFRESH-INTERVAL;VALUE=DURATION:PT1H
X-Robots-Tag:noindex
X-PUBLISHED-TTL:PT1H
BEGIN:VTIMEZONE
TZID:Asia/Shanghai
BEGIN:STANDARD
TZOFFSETFROM:+0800
TZOFFSETTO:+0800
TZNAME:CST
DTSTART:20230101T000000
END:STANDARD
END:VTIMEZONE
BEGIN:VEVENT
DTSTART;TZID=Asia/Shanghai:20240908T132000
DTEND;TZID=Asia/Shanghai:20240908T142000
DTSTAMP:20260421T054101
CREATED:20240829T081729Z
LAST-MODIFIED:20240829T081729Z
UID:10020162-1725801600-1725805200@www.dancesoul.com.tw
SUMMARY:兒童街舞-羿芃
DESCRIPTION:
URL:https://www.dancesoul.com.tw/schedule/%e5%85%92%e7%ab%a5%e8%a1%97%e8%88%9e-%e7%be%bf%e8%8a%83-9/2024-09-08/
CATEGORIES:兒童街舞,兒童課,課程
END:VEVENT
BEGIN:VEVENT
DTSTART;TZID=Asia/Shanghai:20240908T143000
DTEND;TZID=Asia/Shanghai:20240908T153000
DTSTAMP:20260421T054101
CREATED:20240829T083116Z
LAST-MODIFIED:20240829T083116Z
UID:10020167-1725805800-1725809400@www.dancesoul.com.tw
SUMMARY:兒童MV-(XG - SOMETHING AIN'T RIGHT)-羿芃
DESCRIPTION:
URL:https://www.dancesoul.com.tw/schedule/%e5%85%92%e7%ab%a5mv-xg-something-aint-right-%e7%be%bf%e8%8a%83/2024-09-08/
CATEGORIES:兒童MV,兒童課,課程
END:VEVENT
BEGIN:VEVENT
DTSTART;TZID=Asia/Shanghai:20240908T154000
DTEND;TZID=Asia/Shanghai:20240908T164000
DTSTAMP:20260421T054101
CREATED:20240829T083425Z
LAST-MODIFIED:20240829T083425Z
UID:10020172-1725810000-1725813600@www.dancesoul.com.tw
SUMMARY:兒童 Street Jazz-羿芃
DESCRIPTION:
URL:https://www.dancesoul.com.tw/schedule/%e5%85%92%e7%ab%a5-street-jazz-%e7%be%bf%e8%8a%83/2024-09-08/
CATEGORIES:兒童 Street Jazz,兒童課,課程
END:VEVENT
BEGIN:VEVENT
DTSTART;TZID=Asia/Shanghai:20240908T180000
DTEND;TZID=Asia/Shanghai:20240908T190000
DTSTAMP:20260421T054101
CREATED:20240829T083705Z
LAST-MODIFIED:20240829T083705Z
UID:10020182-1725818400-1725822000@www.dancesoul.com.tw
SUMMARY:Jazz Funk-姿昀
DESCRIPTION:
URL:https://www.dancesoul.com.tw/schedule/jazz-funk-%e5%a7%bf%e6%98%80-2/2024-09-08/
CATEGORIES:Jazz Funk,常態課_一般,課程
END:VEVENT
END:VCALENDAR