BEGIN:VCALENDAR
VERSION:2.0
PRODID:-//DANCE SOUL 舞魂街舞學校 - ECPv6.15.18//NONSGML v1.0//EN
CALSCALE:GREGORIAN
METHOD:PUBLISH
X-ORIGINAL-URL:https://www.dancesoul.com.tw
X-WR-CALDESC:Events for DANCE SOUL 舞魂街舞學校
REFRESH-INTERVAL;VALUE=DURATION:PT1H
X-Robots-Tag:noindex
X-PUBLISHED-TTL:PT1H
BEGIN:VTIMEZONE
TZID:Asia/Shanghai
BEGIN:STANDARD
TZOFFSETFROM:+0800
TZOFFSETTO:+0800
TZNAME:CST
DTSTART:20230101T000000
END:STANDARD
END:VTIMEZONE
BEGIN:VEVENT
DTSTART;TZID=Asia/Shanghai:20240914T132000
DTEND;TZID=Asia/Shanghai:20240914T142000
DTSTAMP:20260421T072337
CREATED:20240829T072832Z
LAST-MODIFIED:20240829T072832Z
UID:10020134-1726320000-1726323600@www.dancesoul.com.tw
SUMMARY:兒童街舞-薇臻
DESCRIPTION:
URL:https://www.dancesoul.com.tw/schedule/%e5%85%92%e7%ab%a5%e8%a1%97%e8%88%9e-%e8%96%87%e8%87%bb-10/2024-09-14/
CATEGORIES:兒童街舞,兒童課,課程
END:VEVENT
BEGIN:VEVENT
DTSTART;TZID=Asia/Shanghai:20240914T143000
DTEND;TZID=Asia/Shanghai:20240914T153000
DTSTAMP:20260421T072337
CREATED:20240829T074408Z
LAST-MODIFIED:20240914T082845Z
UID:10020138-1726324200-1726327800@www.dancesoul.com.tw
SUMMARY:兒童MV-(LEE CHAE YEON - Don't)-薇臻
DESCRIPTION:
URL:https://www.dancesoul.com.tw/schedule/%e5%85%92%e7%ab%a5mv-lee-chae-yeon-dont-%e8%96%87%e8%87%bb/2024-09-14/
CATEGORIES:兒童MV,兒童課,課程
END:VEVENT
BEGIN:VEVENT
DTSTART;TZID=Asia/Shanghai:20240914T154000
DTEND;TZID=Asia/Shanghai:20240914T164000
DTSTAMP:20260421T072337
CREATED:20240829T080200Z
LAST-MODIFIED:20240829T080200Z
UID:10020142-1726328400-1726332000@www.dancesoul.com.tw
SUMMARY:兒童基礎街舞-傘傘
DESCRIPTION:
URL:https://www.dancesoul.com.tw/schedule/%e5%85%92%e7%ab%a5%e5%9f%ba%e7%a4%8e%e8%a1%97%e8%88%9e-%e5%82%98%e5%82%98-3/2024-09-14/
CATEGORIES:兒童基礎街舞,兒童課,課程
END:VEVENT
BEGIN:VEVENT
DTSTART;TZID=Asia/Shanghai:20240914T180000
DTEND;TZID=Asia/Shanghai:20240914T190000
DTSTAMP:20260421T072337
CREATED:20240829T080620Z
LAST-MODIFIED:20240829T080620Z
UID:10020150-1726336800-1726340400@www.dancesoul.com.tw
SUMMARY:Popping-紀威
DESCRIPTION:
URL:https://www.dancesoul.com.tw/schedule/popping-%e7%b4%80%e5%a8%81-44/2024-09-14/
CATEGORIES:Poppin,常態課_一般,課程
END:VEVENT
END:VCALENDAR