BEGIN:VCALENDAR
VERSION:2.0
PRODID:-//DANCE SOUL 舞魂街舞學校 - ECPv6.15.18//NONSGML v1.0//EN
CALSCALE:GREGORIAN
METHOD:PUBLISH
X-WR-CALNAME:DANCE SOUL 舞魂街舞學校
X-ORIGINAL-URL:https://www.dancesoul.com.tw
X-WR-CALDESC:Events for DANCE SOUL 舞魂街舞學校
REFRESH-INTERVAL;VALUE=DURATION:PT1H
X-Robots-Tag:noindex
X-PUBLISHED-TTL:PT1H
BEGIN:VTIMEZONE
TZID:Asia/Shanghai
BEGIN:STANDARD
TZOFFSETFROM:+0800
TZOFFSETTO:+0800
TZNAME:CST
DTSTART:20230101T000000
END:STANDARD
END:VTIMEZONE
BEGIN:VEVENT
DTSTART;TZID=Asia/Shanghai:20241011T205000
DTEND;TZID=Asia/Shanghai:20241011T215000
DTSTAMP:20260421T053648
CREATED:20240924T093551Z
LAST-MODIFIED:20240924T093551Z
UID:10020419-1728679800-1728683400@www.dancesoul.com.tw
SUMMARY:Jazz Funk-鈴鐺
DESCRIPTION:
URL:https://www.dancesoul.com.tw/schedule/jazz-funk-%e9%88%b4%e9%90%ba-23/2024-10-11/
CATEGORIES:Jazz Funk,常態課_一般,課程
END:VEVENT
END:VCALENDAR