BEGIN:VCALENDAR
VERSION:2.0
PRODID:-//DANCE SOUL 舞魂街舞學校 - ECPv6.15.18//NONSGML v1.0//EN
CALSCALE:GREGORIAN
METHOD:PUBLISH
X-WR-CALNAME:DANCE SOUL 舞魂街舞學校
X-ORIGINAL-URL:https://www.dancesoul.com.tw
X-WR-CALDESC:Events for DANCE SOUL 舞魂街舞學校
REFRESH-INTERVAL;VALUE=DURATION:PT1H
X-Robots-Tag:noindex
X-PUBLISHED-TTL:PT1H
BEGIN:VTIMEZONE
TZID:Asia/Shanghai
BEGIN:STANDARD
TZOFFSETFROM:+0800
TZOFFSETTO:+0800
TZNAME:CST
DTSTART:20230101T000000
END:STANDARD
END:VTIMEZONE
BEGIN:VEVENT
DTSTART;TZID=Asia/Shanghai:20241012T132000
DTEND;TZID=Asia/Shanghai:20241012T142000
DTSTAMP:20260421T053648
CREATED:20240924T081208Z
LAST-MODIFIED:20240924T081208Z
UID:10020309-1728739200-1728742800@www.dancesoul.com.tw
SUMMARY:兒童街舞-薇臻
DESCRIPTION:
URL:https://www.dancesoul.com.tw/schedule/%e5%85%92%e7%ab%a5%e8%a1%97%e8%88%9e-%e8%96%87%e8%87%bb-11/2024-10-12/
CATEGORIES:兒童街舞,兒童課,課程
END:VEVENT
BEGIN:VEVENT
DTSTART;TZID=Asia/Shanghai:20241012T143000
DTEND;TZID=Asia/Shanghai:20241012T153000
DTSTAMP:20260421T053648
CREATED:20240924T081611Z
LAST-MODIFIED:20240924T081611Z
UID:10020313-1728743400-1728747000@www.dancesoul.com.tw
SUMMARY:兒童MV-(MEOVV - MEOW)-薇臻
DESCRIPTION:
URL:https://www.dancesoul.com.tw/schedule/%e5%85%92%e7%ab%a5mv-meovv-meow-%e8%96%87%e8%87%bb/2024-10-12/
CATEGORIES:兒童MV,兒童課,課程
END:VEVENT
BEGIN:VEVENT
DTSTART;TZID=Asia/Shanghai:20241012T154000
DTEND;TZID=Asia/Shanghai:20241012T164000
DTSTAMP:20260421T053648
CREATED:20240924T081744Z
LAST-MODIFIED:20240924T081744Z
UID:10020317-1728747600-1728751200@www.dancesoul.com.tw
SUMMARY:兒童基礎街舞-傘傘
DESCRIPTION:
URL:https://www.dancesoul.com.tw/schedule/%e5%85%92%e7%ab%a5%e5%9f%ba%e7%a4%8e%e8%a1%97%e8%88%9e-%e5%82%98%e5%82%98-4/2024-10-12/
CATEGORIES:兒童基礎街舞,兒童課,課程
END:VEVENT
BEGIN:VEVENT
DTSTART;TZID=Asia/Shanghai:20241012T180000
DTEND;TZID=Asia/Shanghai:20241012T190000
DTSTAMP:20260421T053648
CREATED:20240924T082012Z
LAST-MODIFIED:20240924T082012Z
UID:10020325-1728756000-1728759600@www.dancesoul.com.tw
SUMMARY:Popping-紀威
DESCRIPTION:
URL:https://www.dancesoul.com.tw/schedule/popping-%e7%b4%80%e5%a8%81-45/2024-10-12/
CATEGORIES:Poppin,常態課_一般,課程
END:VEVENT
END:VCALENDAR