BEGIN:VCALENDAR
VERSION:2.0
PRODID:-//DANCE SOUL 舞魂街舞學校 - ECPv6.15.18//NONSGML v1.0//EN
CALSCALE:GREGORIAN
METHOD:PUBLISH
X-ORIGINAL-URL:https://www.dancesoul.com.tw
X-WR-CALDESC:Events for DANCE SOUL 舞魂街舞學校
REFRESH-INTERVAL;VALUE=DURATION:PT1H
X-Robots-Tag:noindex
X-PUBLISHED-TTL:PT1H
BEGIN:VTIMEZONE
TZID:Asia/Shanghai
BEGIN:STANDARD
TZOFFSETFROM:+0800
TZOFFSETTO:+0800
TZNAME:CST
DTSTART:20240101T000000
END:STANDARD
END:VTIMEZONE
BEGIN:VEVENT
DTSTART;TZID=Asia/Shanghai:20250109T182000
DTEND;TZID=Asia/Shanghai:20250109T190000
DTSTAMP:20260423T020046
CREATED:20241230T082609Z
LAST-MODIFIED:20241230T082609Z
UID:10020849-1736446800-1736449200@www.dancesoul.com.tw
SUMMARY:Jazz Funk-瑜庭
DESCRIPTION:
URL:https://www.dancesoul.com.tw/schedule/jazz-funk-%e7%91%9c%e5%ba%ad-2/2025-01-09/
CATEGORIES:Jazz Funk,Jazz Funk 初級,Waacking 初級,常態課_一般,課程
END:VEVENT
BEGIN:VEVENT
DTSTART;TZID=Asia/Shanghai:20250109T192500
DTEND;TZID=Asia/Shanghai:20250109T202500
DTSTAMP:20260423T020046
CREATED:20241230T082740Z
LAST-MODIFIED:20241230T082740Z
UID:10020853-1736450700-1736454300@www.dancesoul.com.tw
SUMMARY:Choreography-芭比
DESCRIPTION:
URL:https://www.dancesoul.com.tw/schedule/choreography-%e8%8a%ad%e6%af%94-29/2025-01-09/
CATEGORIES:Choreography,常態課_一般,課程
END:VEVENT
BEGIN:VEVENT
DTSTART;TZID=Asia/Shanghai:20250109T203000
DTEND;TZID=Asia/Shanghai:20250109T213000
DTSTAMP:20260423T020046
CREATED:20241230T082850Z
LAST-MODIFIED:20241230T082850Z
UID:10020857-1736454600-1736458200@www.dancesoul.com.tw
SUMMARY:Hip Hop-林彤
DESCRIPTION:
URL:https://www.dancesoul.com.tw/schedule/hip-hop-%e6%9e%97%e5%bd%a4-25/2025-01-09/
CATEGORIES:Hip Hop,常態課_一般,課程
END:VEVENT
BEGIN:VEVENT
DTSTART;TZID=Asia/Shanghai:20250109T213500
DTEND;TZID=Asia/Shanghai:20250109T223500
DTSTAMP:20260423T020046
CREATED:20241230T083105Z
LAST-MODIFIED:20241230T083152Z
UID:10020865-1736458500-1736462100@www.dancesoul.com.tw
SUMMARY:Choreography-巴豪
DESCRIPTION:
URL:https://www.dancesoul.com.tw/schedule/choreography-%e5%b7%b4%e8%b1%aa/2025-01-09/
CATEGORIES:Choreography,常態課_一般,課程
END:VEVENT
END:VCALENDAR