BEGIN:VCALENDAR
VERSION:2.0
PRODID:-//DANCE SOUL 舞魂街舞學校 - ECPv6.15.18//NONSGML v1.0//EN
CALSCALE:GREGORIAN
METHOD:PUBLISH
X-WR-CALNAME:DANCE SOUL 舞魂街舞學校
X-ORIGINAL-URL:https://www.dancesoul.com.tw
X-WR-CALDESC:Events for DANCE SOUL 舞魂街舞學校
REFRESH-INTERVAL;VALUE=DURATION:PT1H
X-Robots-Tag:noindex
X-PUBLISHED-TTL:PT1H
BEGIN:VTIMEZONE
TZID:Asia/Shanghai
BEGIN:STANDARD
TZOFFSETFROM:+0800
TZOFFSETTO:+0800
TZNAME:CST
DTSTART:20240101T000000
END:STANDARD
END:VTIMEZONE
BEGIN:VEVENT
DTSTART;TZID=Asia/Shanghai:20260414T202000
DTEND;TZID=Asia/Shanghai:20260414T212000
DTSTAMP:20260421T020757
CREATED:20250828T100203Z
LAST-MODIFIED:20250828T100203Z
UID:10023907-1776198000-1776201600@www.dancesoul.com.tw
SUMMARY:Free Style-俊宏
DESCRIPTION:
URL:https://www.dancesoul.com.tw/schedule/free-style-%e4%bf%8a%e5%ae%8f-29/2026-04-14/
CATEGORIES:Freestyle,常態課_一般,課程
END:VEVENT
BEGIN:VEVENT
DTSTART;TZID=Asia/Shanghai:20260407T202000
DTEND;TZID=Asia/Shanghai:20260407T212000
DTSTAMP:20260421T020757
CREATED:20250828T100203Z
LAST-MODIFIED:20250828T100203Z
UID:10023906-1775593200-1775596800@www.dancesoul.com.tw
SUMMARY:Free Style-俊宏
DESCRIPTION:
URL:https://www.dancesoul.com.tw/schedule/free-style-%e4%bf%8a%e5%ae%8f-29/2026-04-07/
CATEGORIES:Freestyle,常態課_一般,課程
END:VEVENT
BEGIN:VEVENT
DTSTART;TZID=Asia/Shanghai:20260331T202000
DTEND;TZID=Asia/Shanghai:20260331T212000
DTSTAMP:20260421T020757
CREATED:20250828T100203Z
LAST-MODIFIED:20250828T100203Z
UID:10023905-1774988400-1774992000@www.dancesoul.com.tw
SUMMARY:Free Style-俊宏
DESCRIPTION:
URL:https://www.dancesoul.com.tw/schedule/free-style-%e4%bf%8a%e5%ae%8f-29/2026-03-31/
CATEGORIES:Freestyle,常態課_一般,課程
END:VEVENT
BEGIN:VEVENT
DTSTART;TZID=Asia/Shanghai:20260324T202000
DTEND;TZID=Asia/Shanghai:20260324T212000
DTSTAMP:20260421T020757
CREATED:20250828T100203Z
LAST-MODIFIED:20250828T100203Z
UID:10023904-1774383600-1774387200@www.dancesoul.com.tw
SUMMARY:Free Style-俊宏
DESCRIPTION:
URL:https://www.dancesoul.com.tw/schedule/free-style-%e4%bf%8a%e5%ae%8f-29/2026-03-24/
CATEGORIES:Freestyle,常態課_一般,課程
END:VEVENT
BEGIN:VEVENT
DTSTART;TZID=Asia/Shanghai:20260317T202000
DTEND;TZID=Asia/Shanghai:20260317T212000
DTSTAMP:20260421T020757
CREATED:20250828T100203Z
LAST-MODIFIED:20250828T100203Z
UID:10023903-1773778800-1773782400@www.dancesoul.com.tw
SUMMARY:Free Style-俊宏
DESCRIPTION:
URL:https://www.dancesoul.com.tw/schedule/free-style-%e4%bf%8a%e5%ae%8f-29/2026-03-17/
CATEGORIES:Freestyle,常態課_一般,課程
END:VEVENT
BEGIN:VEVENT
DTSTART;TZID=Asia/Shanghai:20260310T202000
DTEND;TZID=Asia/Shanghai:20260310T212000
DTSTAMP:20260421T020757
CREATED:20250828T100203Z
LAST-MODIFIED:20250828T100203Z
UID:10023902-1773174000-1773177600@www.dancesoul.com.tw
SUMMARY:Free Style-俊宏
DESCRIPTION:
URL:https://www.dancesoul.com.tw/schedule/free-style-%e4%bf%8a%e5%ae%8f-29/2026-03-10/
CATEGORIES:Freestyle,常態課_一般,課程
END:VEVENT
BEGIN:VEVENT
DTSTART;TZID=Asia/Shanghai:20260303T202000
DTEND;TZID=Asia/Shanghai:20260303T212000
DTSTAMP:20260421T020757
CREATED:20250828T100203Z
LAST-MODIFIED:20250828T100203Z
UID:10023901-1772569200-1772572800@www.dancesoul.com.tw
SUMMARY:Free Style-俊宏
DESCRIPTION:
URL:https://www.dancesoul.com.tw/schedule/free-style-%e4%bf%8a%e5%ae%8f-29/2026-03-03/
CATEGORIES:Freestyle,常態課_一般,課程
END:VEVENT
BEGIN:VEVENT
DTSTART;TZID=Asia/Shanghai:20260224T202000
DTEND;TZID=Asia/Shanghai:20260224T212000
DTSTAMP:20260421T020757
CREATED:20250828T100203Z
LAST-MODIFIED:20250828T100203Z
UID:10023900-1771964400-1771968000@www.dancesoul.com.tw
SUMMARY:Free Style-俊宏
DESCRIPTION:
URL:https://www.dancesoul.com.tw/schedule/free-style-%e4%bf%8a%e5%ae%8f-29/2026-02-24/
CATEGORIES:Freestyle,常態課_一般,課程
END:VEVENT
BEGIN:VEVENT
DTSTART;TZID=Asia/Shanghai:20260217T202000
DTEND;TZID=Asia/Shanghai:20260217T212000
DTSTAMP:20260421T020757
CREATED:20250828T100203Z
LAST-MODIFIED:20250828T100203Z
UID:10023899-1771359600-1771363200@www.dancesoul.com.tw
SUMMARY:Free Style-俊宏
DESCRIPTION:
URL:https://www.dancesoul.com.tw/schedule/free-style-%e4%bf%8a%e5%ae%8f-29/2026-02-17/
CATEGORIES:Freestyle,常態課_一般,課程
END:VEVENT
BEGIN:VEVENT
DTSTART;TZID=Asia/Shanghai:20260210T202000
DTEND;TZID=Asia/Shanghai:20260210T212000
DTSTAMP:20260421T020757
CREATED:20250828T100203Z
LAST-MODIFIED:20250828T100203Z
UID:10023898-1770754800-1770758400@www.dancesoul.com.tw
SUMMARY:Free Style-俊宏
DESCRIPTION:
URL:https://www.dancesoul.com.tw/schedule/free-style-%e4%bf%8a%e5%ae%8f-29/2026-02-10/
CATEGORIES:Freestyle,常態課_一般,課程
END:VEVENT
BEGIN:VEVENT
DTSTART;TZID=Asia/Shanghai:20260203T202000
DTEND;TZID=Asia/Shanghai:20260203T212000
DTSTAMP:20260421T020757
CREATED:20250828T100203Z
LAST-MODIFIED:20250828T100203Z
UID:10023897-1770150000-1770153600@www.dancesoul.com.tw
SUMMARY:Free Style-俊宏
DESCRIPTION:
URL:https://www.dancesoul.com.tw/schedule/free-style-%e4%bf%8a%e5%ae%8f-29/2026-02-03/
CATEGORIES:Freestyle,常態課_一般,課程
END:VEVENT
BEGIN:VEVENT
DTSTART;TZID=Asia/Shanghai:20260127T202000
DTEND;TZID=Asia/Shanghai:20260127T212000
DTSTAMP:20260421T020757
CREATED:20250828T100203Z
LAST-MODIFIED:20250828T100203Z
UID:10023896-1769545200-1769548800@www.dancesoul.com.tw
SUMMARY:Free Style-俊宏
DESCRIPTION:
URL:https://www.dancesoul.com.tw/schedule/free-style-%e4%bf%8a%e5%ae%8f-29/2026-01-27/
CATEGORIES:Freestyle,常態課_一般,課程
END:VEVENT
BEGIN:VEVENT
DTSTART;TZID=Asia/Shanghai:20260120T202000
DTEND;TZID=Asia/Shanghai:20260120T212000
DTSTAMP:20260421T020757
CREATED:20250828T100203Z
LAST-MODIFIED:20250828T100203Z
UID:10023895-1768940400-1768944000@www.dancesoul.com.tw
SUMMARY:Free Style-俊宏
DESCRIPTION:
URL:https://www.dancesoul.com.tw/schedule/free-style-%e4%bf%8a%e5%ae%8f-29/2026-01-20/
CATEGORIES:Freestyle,常態課_一般,課程
END:VEVENT
BEGIN:VEVENT
DTSTART;TZID=Asia/Shanghai:20260113T202000
DTEND;TZID=Asia/Shanghai:20260113T212000
DTSTAMP:20260421T020757
CREATED:20250828T100203Z
LAST-MODIFIED:20250828T100203Z
UID:10023894-1768335600-1768339200@www.dancesoul.com.tw
SUMMARY:Free Style-俊宏
DESCRIPTION:
URL:https://www.dancesoul.com.tw/schedule/free-style-%e4%bf%8a%e5%ae%8f-29/2026-01-13/
CATEGORIES:Freestyle,常態課_一般,課程
END:VEVENT
BEGIN:VEVENT
DTSTART;TZID=Asia/Shanghai:20260106T202000
DTEND;TZID=Asia/Shanghai:20260106T212000
DTSTAMP:20260421T020757
CREATED:20250828T100203Z
LAST-MODIFIED:20250828T100203Z
UID:10023893-1767730800-1767734400@www.dancesoul.com.tw
SUMMARY:Free Style-俊宏
DESCRIPTION:
URL:https://www.dancesoul.com.tw/schedule/free-style-%e4%bf%8a%e5%ae%8f-29/2026-01-06/
CATEGORIES:Freestyle,常態課_一般,課程
END:VEVENT
BEGIN:VEVENT
DTSTART;TZID=Asia/Shanghai:20251230T202000
DTEND;TZID=Asia/Shanghai:20251230T212000
DTSTAMP:20260421T020757
CREATED:20250828T100203Z
LAST-MODIFIED:20250828T100203Z
UID:10023892-1767126000-1767129600@www.dancesoul.com.tw
SUMMARY:Free Style-俊宏
DESCRIPTION:
URL:https://www.dancesoul.com.tw/schedule/free-style-%e4%bf%8a%e5%ae%8f-29/2025-12-30/
CATEGORIES:Freestyle,常態課_一般,課程
END:VEVENT
BEGIN:VEVENT
DTSTART;TZID=Asia/Shanghai:20251223T202000
DTEND;TZID=Asia/Shanghai:20251223T212000
DTSTAMP:20260421T020757
CREATED:20250828T100203Z
LAST-MODIFIED:20250828T100203Z
UID:10023891-1766521200-1766524800@www.dancesoul.com.tw
SUMMARY:Free Style-俊宏
DESCRIPTION:
URL:https://www.dancesoul.com.tw/schedule/free-style-%e4%bf%8a%e5%ae%8f-29/2025-12-23/
CATEGORIES:Freestyle,常態課_一般,課程
END:VEVENT
BEGIN:VEVENT
DTSTART;TZID=Asia/Shanghai:20251216T202000
DTEND;TZID=Asia/Shanghai:20251216T212000
DTSTAMP:20260421T020758
CREATED:20250828T100203Z
LAST-MODIFIED:20250828T100203Z
UID:10023890-1765916400-1765920000@www.dancesoul.com.tw
SUMMARY:Free Style-俊宏
DESCRIPTION:
URL:https://www.dancesoul.com.tw/schedule/free-style-%e4%bf%8a%e5%ae%8f-29/2025-12-16/
CATEGORIES:Freestyle,常態課_一般,課程
END:VEVENT
BEGIN:VEVENT
DTSTART;TZID=Asia/Shanghai:20251209T202000
DTEND;TZID=Asia/Shanghai:20251209T212000
DTSTAMP:20260421T020758
CREATED:20250828T100203Z
LAST-MODIFIED:20250828T100203Z
UID:10023889-1765311600-1765315200@www.dancesoul.com.tw
SUMMARY:Free Style-俊宏
DESCRIPTION:
URL:https://www.dancesoul.com.tw/schedule/free-style-%e4%bf%8a%e5%ae%8f-29/2025-12-09/
CATEGORIES:Freestyle,常態課_一般,課程
END:VEVENT
BEGIN:VEVENT
DTSTART;TZID=Asia/Shanghai:20251202T202000
DTEND;TZID=Asia/Shanghai:20251202T212000
DTSTAMP:20260421T020758
CREATED:20250828T100203Z
LAST-MODIFIED:20250828T100203Z
UID:10023888-1764706800-1764710400@www.dancesoul.com.tw
SUMMARY:Free Style-俊宏
DESCRIPTION:
URL:https://www.dancesoul.com.tw/schedule/free-style-%e4%bf%8a%e5%ae%8f-29/2025-12-02/
CATEGORIES:Freestyle,常態課_一般,課程
END:VEVENT
BEGIN:VEVENT
DTSTART;TZID=Asia/Shanghai:20251125T202000
DTEND;TZID=Asia/Shanghai:20251125T212000
DTSTAMP:20260421T020758
CREATED:20250828T100203Z
LAST-MODIFIED:20250828T100203Z
UID:10023887-1764102000-1764105600@www.dancesoul.com.tw
SUMMARY:Free Style-俊宏
DESCRIPTION:
URL:https://www.dancesoul.com.tw/schedule/free-style-%e4%bf%8a%e5%ae%8f-29/2025-11-25/
CATEGORIES:Freestyle,常態課_一般,課程
END:VEVENT
BEGIN:VEVENT
DTSTART;TZID=Asia/Shanghai:20251118T202000
DTEND;TZID=Asia/Shanghai:20251118T212000
DTSTAMP:20260421T020758
CREATED:20250828T100203Z
LAST-MODIFIED:20250828T100203Z
UID:10023886-1763497200-1763500800@www.dancesoul.com.tw
SUMMARY:Free Style-俊宏
DESCRIPTION:
URL:https://www.dancesoul.com.tw/schedule/free-style-%e4%bf%8a%e5%ae%8f-29/2025-11-18/
CATEGORIES:Freestyle,常態課_一般,課程
END:VEVENT
BEGIN:VEVENT
DTSTART;TZID=Asia/Shanghai:20251111T202000
DTEND;TZID=Asia/Shanghai:20251111T212000
DTSTAMP:20260421T020758
CREATED:20250828T100203Z
LAST-MODIFIED:20250828T100203Z
UID:10023885-1762892400-1762896000@www.dancesoul.com.tw
SUMMARY:Free Style-俊宏
DESCRIPTION:
URL:https://www.dancesoul.com.tw/schedule/free-style-%e4%bf%8a%e5%ae%8f-29/2025-11-11/
CATEGORIES:Freestyle,常態課_一般,課程
END:VEVENT
BEGIN:VEVENT
DTSTART;TZID=Asia/Shanghai:20251104T202000
DTEND;TZID=Asia/Shanghai:20251104T212000
DTSTAMP:20260421T020758
CREATED:20250828T100203Z
LAST-MODIFIED:20250828T100203Z
UID:10023884-1762287600-1762291200@www.dancesoul.com.tw
SUMMARY:Free Style-俊宏
DESCRIPTION:
URL:https://www.dancesoul.com.tw/schedule/free-style-%e4%bf%8a%e5%ae%8f-29/2025-11-04/
CATEGORIES:Freestyle,常態課_一般,課程
END:VEVENT
BEGIN:VEVENT
DTSTART;TZID=Asia/Shanghai:20251028T202000
DTEND;TZID=Asia/Shanghai:20251028T212000
DTSTAMP:20260421T020758
CREATED:20250828T100203Z
LAST-MODIFIED:20250828T100203Z
UID:10023883-1761682800-1761686400@www.dancesoul.com.tw
SUMMARY:Free Style-俊宏
DESCRIPTION:
URL:https://www.dancesoul.com.tw/schedule/free-style-%e4%bf%8a%e5%ae%8f-29/2025-10-28/
CATEGORIES:Freestyle,常態課_一般,課程
END:VEVENT
BEGIN:VEVENT
DTSTART;TZID=Asia/Shanghai:20251021T202000
DTEND;TZID=Asia/Shanghai:20251021T212000
DTSTAMP:20260421T020758
CREATED:20250828T100203Z
LAST-MODIFIED:20250828T100203Z
UID:10023882-1761078000-1761081600@www.dancesoul.com.tw
SUMMARY:Free Style-俊宏
DESCRIPTION:
URL:https://www.dancesoul.com.tw/schedule/free-style-%e4%bf%8a%e5%ae%8f-29/2025-10-21/
CATEGORIES:Freestyle,常態課_一般,課程
END:VEVENT
BEGIN:VEVENT
DTSTART;TZID=Asia/Shanghai:20251014T202000
DTEND;TZID=Asia/Shanghai:20251014T212000
DTSTAMP:20260421T020758
CREATED:20250828T100203Z
LAST-MODIFIED:20250828T100203Z
UID:10023881-1760473200-1760476800@www.dancesoul.com.tw
SUMMARY:Free Style-俊宏
DESCRIPTION:
URL:https://www.dancesoul.com.tw/schedule/free-style-%e4%bf%8a%e5%ae%8f-29/2025-10-14/
CATEGORIES:Freestyle,常態課_一般,課程
END:VEVENT
BEGIN:VEVENT
DTSTART;TZID=Asia/Shanghai:20251007T202000
DTEND;TZID=Asia/Shanghai:20251007T212000
DTSTAMP:20260421T020758
CREATED:20250828T100203Z
LAST-MODIFIED:20250828T100203Z
UID:10023880-1759868400-1759872000@www.dancesoul.com.tw
SUMMARY:Free Style-俊宏
DESCRIPTION:
URL:https://www.dancesoul.com.tw/schedule/free-style-%e4%bf%8a%e5%ae%8f-29/2025-10-07/
CATEGORIES:Freestyle,常態課_一般,課程
END:VEVENT
BEGIN:VEVENT
DTSTART;TZID=Asia/Shanghai:20250930T202000
DTEND;TZID=Asia/Shanghai:20250930T212000
DTSTAMP:20260421T020758
CREATED:20250828T100203Z
LAST-MODIFIED:20250828T100203Z
UID:10023879-1759263600-1759267200@www.dancesoul.com.tw
SUMMARY:Free Style-俊宏
DESCRIPTION:
URL:https://www.dancesoul.com.tw/schedule/free-style-%e4%bf%8a%e5%ae%8f-29/2025-09-30/
CATEGORIES:Freestyle,常態課_一般,課程
END:VEVENT
BEGIN:VEVENT
DTSTART;TZID=Asia/Shanghai:20250923T202000
DTEND;TZID=Asia/Shanghai:20250923T212000
DTSTAMP:20260421T020758
CREATED:20250828T100203Z
LAST-MODIFIED:20250828T100203Z
UID:10023878-1758658800-1758662400@www.dancesoul.com.tw
SUMMARY:Free Style-俊宏
DESCRIPTION:
URL:https://www.dancesoul.com.tw/schedule/free-style-%e4%bf%8a%e5%ae%8f-29/2025-09-23/
CATEGORIES:Freestyle,常態課_一般,課程
END:VEVENT
END:VCALENDAR