BEGIN:VCALENDAR
VERSION:2.0
PRODID:-//DANCE SOUL 舞魂街舞學校 - ECPv6.15.18//NONSGML v1.0//EN
CALSCALE:GREGORIAN
METHOD:PUBLISH
X-WR-CALNAME:DANCE SOUL 舞魂街舞學校
X-ORIGINAL-URL:https://www.dancesoul.com.tw
X-WR-CALDESC:Events for DANCE SOUL 舞魂街舞學校
REFRESH-INTERVAL;VALUE=DURATION:PT1H
X-Robots-Tag:noindex
X-PUBLISHED-TTL:PT1H
BEGIN:VTIMEZONE
TZID:Asia/Shanghai
BEGIN:STANDARD
TZOFFSETFROM:+0800
TZOFFSETTO:+0800
TZNAME:CST
DTSTART:20240101T000000
END:STANDARD
END:VTIMEZONE
BEGIN:VEVENT
DTSTART;TZID=Asia/Shanghai:20250826T203000
DTEND;TZID=Asia/Shanghai:20250826T213000
DTSTAMP:20260426T080334
CREATED:20250623T121559Z
LAST-MODIFIED:20250725T075356Z
UID:10022078-1756240200-1756243800@www.dancesoul.com.tw
SUMMARY:Free Style-俊宏
DESCRIPTION:
URL:https://www.dancesoul.com.tw/schedule/free-style-%e4%bf%8a%e5%ae%8f-28/2025-08-26/
CATEGORIES:Freestyle
END:VEVENT
BEGIN:VEVENT
DTSTART;TZID=Asia/Shanghai:20250827T203000
DTEND;TZID=Asia/Shanghai:20250827T213000
DTSTAMP:20260426T080334
CREATED:20250725T080152Z
LAST-MODIFIED:20250725T080152Z
UID:10022104-1756326600-1756330200@www.dancesoul.com.tw
SUMMARY:Free Style-承達
DESCRIPTION:
URL:https://www.dancesoul.com.tw/schedule/free-style-%e6%89%bf%e9%81%94-52/2025-08-27/
CATEGORIES:Freestyle,常態課_一般,課程
END:VEVENT
END:VCALENDAR