BEGIN:VCALENDAR
VERSION:2.0
PRODID:-//DANCE SOUL 舞魂街舞學校 - ECPv6.15.18//NONSGML v1.0//EN
CALSCALE:GREGORIAN
METHOD:PUBLISH
X-ORIGINAL-URL:https://www.dancesoul.com.tw
X-WR-CALDESC:Events for DANCE SOUL 舞魂街舞學校
REFRESH-INTERVAL;VALUE=DURATION:PT1H
X-Robots-Tag:noindex
X-PUBLISHED-TTL:PT1H
BEGIN:VTIMEZONE
TZID:Asia/Shanghai
BEGIN:STANDARD
TZOFFSETFROM:+0800
TZOFFSETTO:+0800
TZNAME:CST
DTSTART:20240101T000000
END:STANDARD
END:VTIMEZONE
BEGIN:VEVENT
DTSTART;TZID=Asia/Shanghai:20250703T192500
DTEND;TZID=Asia/Shanghai:20250703T202500
DTSTAMP:20260422T031128
CREATED:20250623T123638Z
LAST-MODIFIED:20250725T081646Z
UID:10021926-1751570700-1751574300@www.dancesoul.com.tw
SUMMARY:Hip Hop-佐佐
DESCRIPTION:
URL:https://www.dancesoul.com.tw/schedule/hip-hop-%e4%bd%90%e4%bd%90/2025-07-03/
CATEGORIES:Hip Hop
END:VEVENT
BEGIN:VEVENT
DTSTART;TZID=Asia/Shanghai:20250703T203000
DTEND;TZID=Asia/Shanghai:20250703T213000
DTSTAMP:20260422T031128
CREATED:20250623T123744Z
LAST-MODIFIED:20250725T081741Z
UID:10021931-1751574600-1751578200@www.dancesoul.com.tw
SUMMARY:Hip Hop-林彤
DESCRIPTION:
URL:https://www.dancesoul.com.tw/schedule/hip-hop-%e6%9e%97%e5%bd%a4-30/2025-07-03/
CATEGORIES:Hip Hop
END:VEVENT
BEGIN:VEVENT
DTSTART;TZID=Asia/Shanghai:20250706T192500
DTEND;TZID=Asia/Shanghai:20250706T202500
DTSTAMP:20260422T031128
CREATED:20250623T133518Z
LAST-MODIFIED:20250623T133518Z
UID:10022018-1751829900-1751833500@www.dancesoul.com.tw
SUMMARY:Hip Hop(初)-Rod
DESCRIPTION:
URL:https://www.dancesoul.com.tw/schedule/hip-hop%e5%88%9d-rod-3/2025-07-06/
CATEGORIES:Hip Hop,Hip Hop 初級
END:VEVENT
BEGIN:VEVENT
DTSTART;TZID=Asia/Shanghai:20250710T192500
DTEND;TZID=Asia/Shanghai:20250710T202500
DTSTAMP:20260422T031128
CREATED:20250623T123638Z
LAST-MODIFIED:20250725T081646Z
UID:10021927-1752175500-1752179100@www.dancesoul.com.tw
SUMMARY:Hip Hop-佐佐
DESCRIPTION:
URL:https://www.dancesoul.com.tw/schedule/hip-hop-%e4%bd%90%e4%bd%90/2025-07-10/
CATEGORIES:Hip Hop
END:VEVENT
BEGIN:VEVENT
DTSTART;TZID=Asia/Shanghai:20250710T203000
DTEND;TZID=Asia/Shanghai:20250710T213000
DTSTAMP:20260422T031128
CREATED:20250623T123744Z
LAST-MODIFIED:20250725T081741Z
UID:10021932-1752179400-1752183000@www.dancesoul.com.tw
SUMMARY:Hip Hop-林彤
DESCRIPTION:
URL:https://www.dancesoul.com.tw/schedule/hip-hop-%e6%9e%97%e5%bd%a4-30/2025-07-10/
CATEGORIES:Hip Hop
END:VEVENT
BEGIN:VEVENT
DTSTART;TZID=Asia/Shanghai:20250713T192500
DTEND;TZID=Asia/Shanghai:20250713T202500
DTSTAMP:20260422T031128
CREATED:20250623T133518Z
LAST-MODIFIED:20250623T133518Z
UID:10022019-1752434700-1752438300@www.dancesoul.com.tw
SUMMARY:Hip Hop(初)-Rod
DESCRIPTION:
URL:https://www.dancesoul.com.tw/schedule/hip-hop%e5%88%9d-rod-3/2025-07-13/
CATEGORIES:Hip Hop,Hip Hop 初級
END:VEVENT
BEGIN:VEVENT
DTSTART;TZID=Asia/Shanghai:20250717T192500
DTEND;TZID=Asia/Shanghai:20250717T202500
DTSTAMP:20260422T031128
CREATED:20250623T123638Z
LAST-MODIFIED:20250725T081646Z
UID:10021928-1752780300-1752783900@www.dancesoul.com.tw
SUMMARY:Hip Hop-佐佐
DESCRIPTION:
URL:https://www.dancesoul.com.tw/schedule/hip-hop-%e4%bd%90%e4%bd%90/2025-07-17/
CATEGORIES:Hip Hop
END:VEVENT
BEGIN:VEVENT
DTSTART;TZID=Asia/Shanghai:20250717T203000
DTEND;TZID=Asia/Shanghai:20250717T213000
DTSTAMP:20260422T031128
CREATED:20250623T123744Z
LAST-MODIFIED:20250725T081741Z
UID:10021933-1752784200-1752787800@www.dancesoul.com.tw
SUMMARY:Hip Hop-林彤
DESCRIPTION:
URL:https://www.dancesoul.com.tw/schedule/hip-hop-%e6%9e%97%e5%bd%a4-30/2025-07-17/
CATEGORIES:Hip Hop
END:VEVENT
BEGIN:VEVENT
DTSTART;TZID=Asia/Shanghai:20250720T192500
DTEND;TZID=Asia/Shanghai:20250720T202500
DTSTAMP:20260422T031128
CREATED:20250623T133518Z
LAST-MODIFIED:20250623T133518Z
UID:10022020-1753039500-1753043100@www.dancesoul.com.tw
SUMMARY:Hip Hop(初)-Rod
DESCRIPTION:
URL:https://www.dancesoul.com.tw/schedule/hip-hop%e5%88%9d-rod-3/2025-07-20/
CATEGORIES:Hip Hop,Hip Hop 初級
END:VEVENT
BEGIN:VEVENT
DTSTART;TZID=Asia/Shanghai:20250724T192500
DTEND;TZID=Asia/Shanghai:20250724T202500
DTSTAMP:20260422T031128
CREATED:20250623T123638Z
LAST-MODIFIED:20250725T081646Z
UID:10021929-1753385100-1753388700@www.dancesoul.com.tw
SUMMARY:Hip Hop-佐佐
DESCRIPTION:
URL:https://www.dancesoul.com.tw/schedule/hip-hop-%e4%bd%90%e4%bd%90/2025-07-24/
CATEGORIES:Hip Hop
END:VEVENT
BEGIN:VEVENT
DTSTART;TZID=Asia/Shanghai:20250724T203000
DTEND;TZID=Asia/Shanghai:20250724T213000
DTSTAMP:20260422T031128
CREATED:20250623T123744Z
LAST-MODIFIED:20250725T081741Z
UID:10021934-1753389000-1753392600@www.dancesoul.com.tw
SUMMARY:Hip Hop-林彤
DESCRIPTION:
URL:https://www.dancesoul.com.tw/schedule/hip-hop-%e6%9e%97%e5%bd%a4-30/2025-07-24/
CATEGORIES:Hip Hop
END:VEVENT
BEGIN:VEVENT
DTSTART;TZID=Asia/Shanghai:20250727T192500
DTEND;TZID=Asia/Shanghai:20250727T202500
DTSTAMP:20260422T031128
CREATED:20250623T133518Z
LAST-MODIFIED:20250623T133518Z
UID:10022021-1753644300-1753647900@www.dancesoul.com.tw
SUMMARY:Hip Hop(初)-Rod
DESCRIPTION:
URL:https://www.dancesoul.com.tw/schedule/hip-hop%e5%88%9d-rod-3/2025-07-27/
CATEGORIES:Hip Hop,Hip Hop 初級
END:VEVENT
BEGIN:VEVENT
DTSTART;TZID=Asia/Shanghai:20250731T192500
DTEND;TZID=Asia/Shanghai:20250731T202500
DTSTAMP:20260422T031128
CREATED:20250623T123638Z
LAST-MODIFIED:20250725T081646Z
UID:10021930-1753989900-1753993500@www.dancesoul.com.tw
SUMMARY:Hip Hop-佐佐
DESCRIPTION:
URL:https://www.dancesoul.com.tw/schedule/hip-hop-%e4%bd%90%e4%bd%90/2025-07-31/
CATEGORIES:Hip Hop
END:VEVENT
BEGIN:VEVENT
DTSTART;TZID=Asia/Shanghai:20250731T203000
DTEND;TZID=Asia/Shanghai:20250731T213000
DTSTAMP:20260422T031128
CREATED:20250623T123744Z
LAST-MODIFIED:20250725T081741Z
UID:10021935-1753993800-1753997400@www.dancesoul.com.tw
SUMMARY:Hip Hop-林彤
DESCRIPTION:
URL:https://www.dancesoul.com.tw/schedule/hip-hop-%e6%9e%97%e5%bd%a4-30/2025-07-31/
CATEGORIES:Hip Hop
END:VEVENT
END:VCALENDAR