BEGIN:VCALENDAR
VERSION:2.0
PRODID:-//DANCE SOUL 舞魂街舞學校 - ECPv6.15.18//NONSGML v1.0//EN
CALSCALE:GREGORIAN
METHOD:PUBLISH
X-WR-CALNAME:DANCE SOUL 舞魂街舞學校
X-ORIGINAL-URL:https://www.dancesoul.com.tw
X-WR-CALDESC:Events for DANCE SOUL 舞魂街舞學校
REFRESH-INTERVAL;VALUE=DURATION:PT1H
X-Robots-Tag:noindex
X-PUBLISHED-TTL:PT1H
BEGIN:VTIMEZONE
TZID:Asia/Shanghai
BEGIN:STANDARD
TZOFFSETFROM:+0800
TZOFFSETTO:+0800
TZNAME:CST
DTSTART:20250101T000000
END:STANDARD
END:VTIMEZONE
BEGIN:VEVENT
DTSTART;TZID=Asia/Shanghai:20260101T182000
DTEND;TZID=Asia/Shanghai:20260101T192000
DTSTAMP:20260421T020838
CREATED:20251202T055643Z
LAST-MODIFIED:20251202T055645Z
UID:10025458-1767291600-1767295200@www.dancesoul.com.tw
SUMMARY:Street Jazz-羊羊
DESCRIPTION:
URL:https://www.dancesoul.com.tw/schedule/hip-hop-%e4%bd%90%e4%bd%90-2-2/2026-01-01/
CATEGORIES:Hip Hop,常態課_一般,課程
END:VEVENT
BEGIN:VEVENT
DTSTART;TZID=Asia/Shanghai:20260104T192500
DTEND;TZID=Asia/Shanghai:20260104T202500
DTSTAMP:20260421T020838
CREATED:20250901T060526Z
LAST-MODIFIED:20250901T060526Z
UID:10030150-1767554700-1767558300@www.dancesoul.com.tw
SUMMARY:Hip Hop-承翰
DESCRIPTION:
URL:https://www.dancesoul.com.tw/schedule/hip-hop-%e6%89%bf%e7%bf%b0-2/2026-01-04/
CATEGORIES:Hip Hop,常態課_一般,課程
END:VEVENT
BEGIN:VEVENT
DTSTART;TZID=Asia/Shanghai:20260108T182000
DTEND;TZID=Asia/Shanghai:20260108T192000
DTSTAMP:20260421T020838
CREATED:20251202T055643Z
LAST-MODIFIED:20251202T055645Z
UID:10025459-1767896400-1767900000@www.dancesoul.com.tw
SUMMARY:Street Jazz-羊羊
DESCRIPTION:
URL:https://www.dancesoul.com.tw/schedule/hip-hop-%e4%bd%90%e4%bd%90-2-2/2026-01-08/
CATEGORIES:Hip Hop,常態課_一般,課程
END:VEVENT
BEGIN:VEVENT
DTSTART;TZID=Asia/Shanghai:20260111T192500
DTEND;TZID=Asia/Shanghai:20260111T202500
DTSTAMP:20260421T020838
CREATED:20250901T060526Z
LAST-MODIFIED:20250901T060526Z
UID:10030151-1768159500-1768163100@www.dancesoul.com.tw
SUMMARY:Hip Hop-承翰
DESCRIPTION:
URL:https://www.dancesoul.com.tw/schedule/hip-hop-%e6%89%bf%e7%bf%b0-2/2026-01-11/
CATEGORIES:Hip Hop,常態課_一般,課程
END:VEVENT
BEGIN:VEVENT
DTSTART;TZID=Asia/Shanghai:20260115T182000
DTEND;TZID=Asia/Shanghai:20260115T192000
DTSTAMP:20260421T020838
CREATED:20251202T055643Z
LAST-MODIFIED:20251202T055645Z
UID:10025460-1768501200-1768504800@www.dancesoul.com.tw
SUMMARY:Street Jazz-羊羊
DESCRIPTION:
URL:https://www.dancesoul.com.tw/schedule/hip-hop-%e4%bd%90%e4%bd%90-2-2/2026-01-15/
CATEGORIES:Hip Hop,常態課_一般,課程
END:VEVENT
BEGIN:VEVENT
DTSTART;TZID=Asia/Shanghai:20260118T192500
DTEND;TZID=Asia/Shanghai:20260118T202500
DTSTAMP:20260421T020838
CREATED:20250901T060526Z
LAST-MODIFIED:20250901T060526Z
UID:10030152-1768764300-1768767900@www.dancesoul.com.tw
SUMMARY:Hip Hop-承翰
DESCRIPTION:
URL:https://www.dancesoul.com.tw/schedule/hip-hop-%e6%89%bf%e7%bf%b0-2/2026-01-18/
CATEGORIES:Hip Hop,常態課_一般,課程
END:VEVENT
BEGIN:VEVENT
DTSTART;TZID=Asia/Shanghai:20260122T182000
DTEND;TZID=Asia/Shanghai:20260122T192000
DTSTAMP:20260421T020838
CREATED:20251202T055643Z
LAST-MODIFIED:20251202T055645Z
UID:10025461-1769106000-1769109600@www.dancesoul.com.tw
SUMMARY:Street Jazz-羊羊
DESCRIPTION:
URL:https://www.dancesoul.com.tw/schedule/hip-hop-%e4%bd%90%e4%bd%90-2-2/2026-01-22/
CATEGORIES:Hip Hop,常態課_一般,課程
END:VEVENT
BEGIN:VEVENT
DTSTART;TZID=Asia/Shanghai:20260125T192500
DTEND;TZID=Asia/Shanghai:20260125T202500
DTSTAMP:20260421T020838
CREATED:20250901T060526Z
LAST-MODIFIED:20250901T060526Z
UID:10030153-1769369100-1769372700@www.dancesoul.com.tw
SUMMARY:Hip Hop-承翰
DESCRIPTION:
URL:https://www.dancesoul.com.tw/schedule/hip-hop-%e6%89%bf%e7%bf%b0-2/2026-01-25/
CATEGORIES:Hip Hop,常態課_一般,課程
END:VEVENT
BEGIN:VEVENT
DTSTART;TZID=Asia/Shanghai:20260129T182000
DTEND;TZID=Asia/Shanghai:20260129T192000
DTSTAMP:20260421T020838
CREATED:20251202T055643Z
LAST-MODIFIED:20251202T055645Z
UID:10025462-1769710800-1769714400@www.dancesoul.com.tw
SUMMARY:Street Jazz-羊羊
DESCRIPTION:
URL:https://www.dancesoul.com.tw/schedule/hip-hop-%e4%bd%90%e4%bd%90-2-2/2026-01-29/
CATEGORIES:Hip Hop,常態課_一般,課程
END:VEVENT
END:VCALENDAR