BEGIN:VCALENDAR
VERSION:2.0
PRODID:-//DANCE SOUL 舞魂街舞學校 - ECPv6.15.18//NONSGML v1.0//EN
CALSCALE:GREGORIAN
METHOD:PUBLISH
X-ORIGINAL-URL:https://www.dancesoul.com.tw
X-WR-CALDESC:Events for DANCE SOUL 舞魂街舞學校
REFRESH-INTERVAL;VALUE=DURATION:PT1H
X-Robots-Tag:noindex
X-PUBLISHED-TTL:PT1H
BEGIN:VTIMEZONE
TZID:Asia/Shanghai
BEGIN:STANDARD
TZOFFSETFROM:+0800
TZOFFSETTO:+0800
TZNAME:CST
DTSTART:20250101T000000
END:STANDARD
END:VTIMEZONE
BEGIN:VEVENT
DTSTART;TZID=Asia/Shanghai:20260301T192500
DTEND;TZID=Asia/Shanghai:20260301T202500
DTSTAMP:20260420T175234
CREATED:20250901T060526Z
LAST-MODIFIED:20250901T060526Z
UID:10030158-1772393100-1772396700@www.dancesoul.com.tw
SUMMARY:Hip Hop-承翰
DESCRIPTION:
URL:https://www.dancesoul.com.tw/schedule/hip-hop-%e6%89%bf%e7%bf%b0-2/2026-03-01/
CATEGORIES:Hip Hop,常態課_一般,課程
END:VEVENT
BEGIN:VEVENT
DTSTART;TZID=Asia/Shanghai:20260301T192500
DTEND;TZID=Asia/Shanghai:20260301T202500
DTSTAMP:20260420T175234
CREATED:20260327T081608Z
LAST-MODIFIED:20260327T081608Z
UID:10030162-1772393100-1772396700@www.dancesoul.com.tw
SUMMARY:Hip Hop-ROD
DESCRIPTION:
URL:https://www.dancesoul.com.tw/schedule/hip-hop-%e6%89%bf%e7%bf%b0-2-2/2026-03-01/
CATEGORIES:Hip Hop,常態課_一般,課程
END:VEVENT
BEGIN:VEVENT
DTSTART;TZID=Asia/Shanghai:20260303T213500
DTEND;TZID=Asia/Shanghai:20260303T223500
DTSTAMP:20260420T175234
CREATED:20260327T081822Z
LAST-MODIFIED:20260327T081932Z
UID:10030161-1772573700-1772577300@www.dancesoul.com.tw
SUMMARY:Hip Hop-承翰
DESCRIPTION:
URL:https://www.dancesoul.com.tw/schedule/hip-hop-%e6%89%bf%e7%bf%b0-2-3/2026-03-03/
CATEGORIES:Hip Hop,常態課_一般,課程
END:VEVENT
BEGIN:VEVENT
DTSTART;TZID=Asia/Shanghai:20260305T182000
DTEND;TZID=Asia/Shanghai:20260305T192000
DTSTAMP:20260420T175234
CREATED:20251202T055643Z
LAST-MODIFIED:20251202T055645Z
UID:10025467-1772734800-1772738400@www.dancesoul.com.tw
SUMMARY:Street Jazz-羊羊
DESCRIPTION:
URL:https://www.dancesoul.com.tw/schedule/hip-hop-%e4%bd%90%e4%bd%90-2-2/2026-03-05/
CATEGORIES:Hip Hop,常態課_一般,課程
END:VEVENT
BEGIN:VEVENT
DTSTART;TZID=Asia/Shanghai:20260308T192500
DTEND;TZID=Asia/Shanghai:20260308T202500
DTSTAMP:20260420T175234
CREATED:20250901T060526Z
LAST-MODIFIED:20250901T060526Z
UID:10030159-1772997900-1773001500@www.dancesoul.com.tw
SUMMARY:Hip Hop-承翰
DESCRIPTION:
URL:https://www.dancesoul.com.tw/schedule/hip-hop-%e6%89%bf%e7%bf%b0-2/2026-03-08/
CATEGORIES:Hip Hop,常態課_一般,課程
END:VEVENT
BEGIN:VEVENT
DTSTART;TZID=Asia/Shanghai:20260308T192500
DTEND;TZID=Asia/Shanghai:20260308T202500
DTSTAMP:20260420T175234
CREATED:20260327T081608Z
LAST-MODIFIED:20260327T081608Z
UID:10032075-1772997900-1773001500@www.dancesoul.com.tw
SUMMARY:Hip Hop-ROD
DESCRIPTION:
URL:https://www.dancesoul.com.tw/schedule/hip-hop-%e6%89%bf%e7%bf%b0-2-2/2026-03-08/
CATEGORIES:Hip Hop,常態課_一般,課程
END:VEVENT
BEGIN:VEVENT
DTSTART;TZID=Asia/Shanghai:20260310T213500
DTEND;TZID=Asia/Shanghai:20260310T223500
DTSTAMP:20260420T175234
CREATED:20260327T081822Z
LAST-MODIFIED:20260327T081932Z
UID:10032108-1773178500-1773182100@www.dancesoul.com.tw
SUMMARY:Hip Hop-承翰
DESCRIPTION:
URL:https://www.dancesoul.com.tw/schedule/hip-hop-%e6%89%bf%e7%bf%b0-2-3/2026-03-10/
CATEGORIES:Hip Hop,常態課_一般,課程
END:VEVENT
BEGIN:VEVENT
DTSTART;TZID=Asia/Shanghai:20260312T182000
DTEND;TZID=Asia/Shanghai:20260312T192000
DTSTAMP:20260420T175234
CREATED:20251202T055643Z
LAST-MODIFIED:20251202T055645Z
UID:10025468-1773339600-1773343200@www.dancesoul.com.tw
SUMMARY:Street Jazz-羊羊
DESCRIPTION:
URL:https://www.dancesoul.com.tw/schedule/hip-hop-%e4%bd%90%e4%bd%90-2-2/2026-03-12/
CATEGORIES:Hip Hop,常態課_一般,課程
END:VEVENT
BEGIN:VEVENT
DTSTART;TZID=Asia/Shanghai:20260315T192500
DTEND;TZID=Asia/Shanghai:20260315T202500
DTSTAMP:20260420T175234
CREATED:20250901T060526Z
LAST-MODIFIED:20250901T060526Z
UID:10030160-1773602700-1773606300@www.dancesoul.com.tw
SUMMARY:Hip Hop-承翰
DESCRIPTION:
URL:https://www.dancesoul.com.tw/schedule/hip-hop-%e6%89%bf%e7%bf%b0-2/2026-03-15/
CATEGORIES:Hip Hop,常態課_一般,課程
END:VEVENT
BEGIN:VEVENT
DTSTART;TZID=Asia/Shanghai:20260315T192500
DTEND;TZID=Asia/Shanghai:20260315T202500
DTSTAMP:20260420T175234
CREATED:20260327T081608Z
LAST-MODIFIED:20260327T081608Z
UID:10032076-1773602700-1773606300@www.dancesoul.com.tw
SUMMARY:Hip Hop-ROD
DESCRIPTION:
URL:https://www.dancesoul.com.tw/schedule/hip-hop-%e6%89%bf%e7%bf%b0-2-2/2026-03-15/
CATEGORIES:Hip Hop,常態課_一般,課程
END:VEVENT
BEGIN:VEVENT
DTSTART;TZID=Asia/Shanghai:20260317T213500
DTEND;TZID=Asia/Shanghai:20260317T223500
DTSTAMP:20260420T175234
CREATED:20260327T081822Z
LAST-MODIFIED:20260327T081932Z
UID:10032109-1773783300-1773786900@www.dancesoul.com.tw
SUMMARY:Hip Hop-承翰
DESCRIPTION:
URL:https://www.dancesoul.com.tw/schedule/hip-hop-%e6%89%bf%e7%bf%b0-2-3/2026-03-17/
CATEGORIES:Hip Hop,常態課_一般,課程
END:VEVENT
BEGIN:VEVENT
DTSTART;TZID=Asia/Shanghai:20260319T182000
DTEND;TZID=Asia/Shanghai:20260319T192000
DTSTAMP:20260420T175234
CREATED:20251202T055643Z
LAST-MODIFIED:20251202T055645Z
UID:10025469-1773944400-1773948000@www.dancesoul.com.tw
SUMMARY:Street Jazz-羊羊
DESCRIPTION:
URL:https://www.dancesoul.com.tw/schedule/hip-hop-%e4%bd%90%e4%bd%90-2-2/2026-03-19/
CATEGORIES:Hip Hop,常態課_一般,課程
END:VEVENT
BEGIN:VEVENT
DTSTART;TZID=Asia/Shanghai:20260322T192500
DTEND;TZID=Asia/Shanghai:20260322T202500
DTSTAMP:20260420T175234
CREATED:20260327T081608Z
LAST-MODIFIED:20260327T081608Z
UID:10032077-1774207500-1774211100@www.dancesoul.com.tw
SUMMARY:Hip Hop-ROD
DESCRIPTION:
URL:https://www.dancesoul.com.tw/schedule/hip-hop-%e6%89%bf%e7%bf%b0-2-2/2026-03-22/
CATEGORIES:Hip Hop,常態課_一般,課程
END:VEVENT
BEGIN:VEVENT
DTSTART;TZID=Asia/Shanghai:20260324T213500
DTEND;TZID=Asia/Shanghai:20260324T223500
DTSTAMP:20260420T175234
CREATED:20260327T081822Z
LAST-MODIFIED:20260327T081932Z
UID:10032110-1774388100-1774391700@www.dancesoul.com.tw
SUMMARY:Hip Hop-承翰
DESCRIPTION:
URL:https://www.dancesoul.com.tw/schedule/hip-hop-%e6%89%bf%e7%bf%b0-2-3/2026-03-24/
CATEGORIES:Hip Hop,常態課_一般,課程
END:VEVENT
BEGIN:VEVENT
DTSTART;TZID=Asia/Shanghai:20260326T182000
DTEND;TZID=Asia/Shanghai:20260326T192000
DTSTAMP:20260420T175234
CREATED:20251202T055643Z
LAST-MODIFIED:20251202T055645Z
UID:10025470-1774549200-1774552800@www.dancesoul.com.tw
SUMMARY:Street Jazz-羊羊
DESCRIPTION:
URL:https://www.dancesoul.com.tw/schedule/hip-hop-%e4%bd%90%e4%bd%90-2-2/2026-03-26/
CATEGORIES:Hip Hop,常態課_一般,課程
END:VEVENT
BEGIN:VEVENT
DTSTART;TZID=Asia/Shanghai:20260329T192500
DTEND;TZID=Asia/Shanghai:20260329T202500
DTSTAMP:20260420T175234
CREATED:20260327T081608Z
LAST-MODIFIED:20260327T081608Z
UID:10032078-1774812300-1774815900@www.dancesoul.com.tw
SUMMARY:Hip Hop-ROD
DESCRIPTION:
URL:https://www.dancesoul.com.tw/schedule/hip-hop-%e6%89%bf%e7%bf%b0-2-2/2026-03-29/
CATEGORIES:Hip Hop,常態課_一般,課程
END:VEVENT
BEGIN:VEVENT
DTSTART;TZID=Asia/Shanghai:20260331T213500
DTEND;TZID=Asia/Shanghai:20260331T223500
DTSTAMP:20260420T175234
CREATED:20260327T081822Z
LAST-MODIFIED:20260327T081932Z
UID:10032111-1774992900-1774996500@www.dancesoul.com.tw
SUMMARY:Hip Hop-承翰
DESCRIPTION:
URL:https://www.dancesoul.com.tw/schedule/hip-hop-%e6%89%bf%e7%bf%b0-2-3/2026-03-31/
CATEGORIES:Hip Hop,常態課_一般,課程
END:VEVENT
END:VCALENDAR