BEGIN:VCALENDAR
VERSION:2.0
PRODID:-//DANCE SOUL 舞魂街舞學校 - ECPv6.15.18//NONSGML v1.0//EN
CALSCALE:GREGORIAN
METHOD:PUBLISH
X-ORIGINAL-URL:https://www.dancesoul.com.tw
X-WR-CALDESC:Events for DANCE SOUL 舞魂街舞學校
REFRESH-INTERVAL;VALUE=DURATION:PT1H
X-Robots-Tag:noindex
X-PUBLISHED-TTL:PT1H
BEGIN:VTIMEZONE
TZID:Asia/Shanghai
BEGIN:STANDARD
TZOFFSETFROM:+0800
TZOFFSETTO:+0800
TZNAME:CST
DTSTART:20250101T000000
END:STANDARD
END:VTIMEZONE
BEGIN:VEVENT
DTSTART;TZID=Asia/Shanghai:20260503T192500
DTEND;TZID=Asia/Shanghai:20260503T202500
DTSTAMP:20260420T193540
CREATED:20260327T081608Z
LAST-MODIFIED:20260327T081608Z
UID:10030167-1777836300-1777839900@www.dancesoul.com.tw
SUMMARY:Hip Hop-ROD
DESCRIPTION:
URL:https://www.dancesoul.com.tw/schedule/hip-hop-%e6%89%bf%e7%bf%b0-2-2/2026-05-03/
CATEGORIES:Hip Hop,常態課_一般,課程
END:VEVENT
BEGIN:VEVENT
DTSTART;TZID=Asia/Shanghai:20260505T213500
DTEND;TZID=Asia/Shanghai:20260505T223500
DTSTAMP:20260420T193540
CREATED:20260327T081822Z
LAST-MODIFIED:20260327T081932Z
UID:10032116-1778016900-1778020500@www.dancesoul.com.tw
SUMMARY:Hip Hop-承翰
DESCRIPTION:
URL:https://www.dancesoul.com.tw/schedule/hip-hop-%e6%89%bf%e7%bf%b0-2-3/2026-05-05/
CATEGORIES:Hip Hop,常態課_一般,課程
END:VEVENT
BEGIN:VEVENT
DTSTART;TZID=Asia/Shanghai:20260507T182000
DTEND;TZID=Asia/Shanghai:20260507T192000
DTSTAMP:20260420T193540
CREATED:20251202T055643Z
LAST-MODIFIED:20251202T055645Z
UID:10025476-1778178000-1778181600@www.dancesoul.com.tw
SUMMARY:Street Jazz-羊羊
DESCRIPTION:
URL:https://www.dancesoul.com.tw/schedule/hip-hop-%e4%bd%90%e4%bd%90-2-2/2026-05-07/
CATEGORIES:Hip Hop,常態課_一般,課程
END:VEVENT
BEGIN:VEVENT
DTSTART;TZID=Asia/Shanghai:20260510T192500
DTEND;TZID=Asia/Shanghai:20260510T202500
DTSTAMP:20260420T193540
CREATED:20260327T081608Z
LAST-MODIFIED:20260327T081608Z
UID:10030168-1778441100-1778444700@www.dancesoul.com.tw
SUMMARY:Hip Hop-ROD
DESCRIPTION:
URL:https://www.dancesoul.com.tw/schedule/hip-hop-%e6%89%bf%e7%bf%b0-2-2/2026-05-10/
CATEGORIES:Hip Hop,常態課_一般,課程
END:VEVENT
BEGIN:VEVENT
DTSTART;TZID=Asia/Shanghai:20260512T213500
DTEND;TZID=Asia/Shanghai:20260512T223500
DTSTAMP:20260420T193540
CREATED:20260327T081822Z
LAST-MODIFIED:20260327T081932Z
UID:10032117-1778621700-1778625300@www.dancesoul.com.tw
SUMMARY:Hip Hop-承翰
DESCRIPTION:
URL:https://www.dancesoul.com.tw/schedule/hip-hop-%e6%89%bf%e7%bf%b0-2-3/2026-05-12/
CATEGORIES:Hip Hop,常態課_一般,課程
END:VEVENT
BEGIN:VEVENT
DTSTART;TZID=Asia/Shanghai:20260514T182000
DTEND;TZID=Asia/Shanghai:20260514T192000
DTSTAMP:20260420T193540
CREATED:20251202T055643Z
LAST-MODIFIED:20251202T055645Z
UID:10025477-1778782800-1778786400@www.dancesoul.com.tw
SUMMARY:Street Jazz-羊羊
DESCRIPTION:
URL:https://www.dancesoul.com.tw/schedule/hip-hop-%e4%bd%90%e4%bd%90-2-2/2026-05-14/
CATEGORIES:Hip Hop,常態課_一般,課程
END:VEVENT
BEGIN:VEVENT
DTSTART;TZID=Asia/Shanghai:20260517T192500
DTEND;TZID=Asia/Shanghai:20260517T202500
DTSTAMP:20260420T193540
CREATED:20260327T081608Z
LAST-MODIFIED:20260327T081608Z
UID:10030169-1779045900-1779049500@www.dancesoul.com.tw
SUMMARY:Hip Hop-ROD
DESCRIPTION:
URL:https://www.dancesoul.com.tw/schedule/hip-hop-%e6%89%bf%e7%bf%b0-2-2/2026-05-17/
CATEGORIES:Hip Hop,常態課_一般,課程
END:VEVENT
BEGIN:VEVENT
DTSTART;TZID=Asia/Shanghai:20260519T213500
DTEND;TZID=Asia/Shanghai:20260519T223500
DTSTAMP:20260420T193540
CREATED:20260327T081822Z
LAST-MODIFIED:20260327T081932Z
UID:10032118-1779226500-1779230100@www.dancesoul.com.tw
SUMMARY:Hip Hop-承翰
DESCRIPTION:
URL:https://www.dancesoul.com.tw/schedule/hip-hop-%e6%89%bf%e7%bf%b0-2-3/2026-05-19/
CATEGORIES:Hip Hop,常態課_一般,課程
END:VEVENT
BEGIN:VEVENT
DTSTART;TZID=Asia/Shanghai:20260521T182000
DTEND;TZID=Asia/Shanghai:20260521T192000
DTSTAMP:20260420T193540
CREATED:20251202T055643Z
LAST-MODIFIED:20251202T055645Z
UID:10025478-1779387600-1779391200@www.dancesoul.com.tw
SUMMARY:Street Jazz-羊羊
DESCRIPTION:
URL:https://www.dancesoul.com.tw/schedule/hip-hop-%e4%bd%90%e4%bd%90-2-2/2026-05-21/
CATEGORIES:Hip Hop,常態課_一般,課程
END:VEVENT
BEGIN:VEVENT
DTSTART;TZID=Asia/Shanghai:20260524T192500
DTEND;TZID=Asia/Shanghai:20260524T202500
DTSTAMP:20260420T193540
CREATED:20260327T081608Z
LAST-MODIFIED:20260327T081608Z
UID:10030170-1779650700-1779654300@www.dancesoul.com.tw
SUMMARY:Hip Hop-ROD
DESCRIPTION:
URL:https://www.dancesoul.com.tw/schedule/hip-hop-%e6%89%bf%e7%bf%b0-2-2/2026-05-24/
CATEGORIES:Hip Hop,常態課_一般,課程
END:VEVENT
BEGIN:VEVENT
DTSTART;TZID=Asia/Shanghai:20260526T213500
DTEND;TZID=Asia/Shanghai:20260526T223500
DTSTAMP:20260420T193540
CREATED:20260327T081822Z
LAST-MODIFIED:20260327T081932Z
UID:10032119-1779831300-1779834900@www.dancesoul.com.tw
SUMMARY:Hip Hop-承翰
DESCRIPTION:
URL:https://www.dancesoul.com.tw/schedule/hip-hop-%e6%89%bf%e7%bf%b0-2-3/2026-05-26/
CATEGORIES:Hip Hop,常態課_一般,課程
END:VEVENT
BEGIN:VEVENT
DTSTART;TZID=Asia/Shanghai:20260528T182000
DTEND;TZID=Asia/Shanghai:20260528T192000
DTSTAMP:20260420T193540
CREATED:20251202T055643Z
LAST-MODIFIED:20251202T055645Z
UID:10025479-1779992400-1779996000@www.dancesoul.com.tw
SUMMARY:Street Jazz-羊羊
DESCRIPTION:
URL:https://www.dancesoul.com.tw/schedule/hip-hop-%e4%bd%90%e4%bd%90-2-2/2026-05-28/
CATEGORIES:Hip Hop,常態課_一般,課程
END:VEVENT
BEGIN:VEVENT
DTSTART;TZID=Asia/Shanghai:20260531T192500
DTEND;TZID=Asia/Shanghai:20260531T202500
DTSTAMP:20260420T193540
CREATED:20260327T081608Z
LAST-MODIFIED:20260327T081608Z
UID:10030171-1780255500-1780259100@www.dancesoul.com.tw
SUMMARY:Hip Hop-ROD
DESCRIPTION:
URL:https://www.dancesoul.com.tw/schedule/hip-hop-%e6%89%bf%e7%bf%b0-2-2/2026-05-31/
CATEGORIES:Hip Hop,常態課_一般,課程
END:VEVENT
END:VCALENDAR