BEGIN:VCALENDAR
VERSION:2.0
PRODID:-//DANCE SOUL 舞魂街舞學校 - ECPv6.15.18//NONSGML v1.0//EN
CALSCALE:GREGORIAN
METHOD:PUBLISH
X-WR-CALNAME:DANCE SOUL 舞魂街舞學校
X-ORIGINAL-URL:https://www.dancesoul.com.tw
X-WR-CALDESC:Events for DANCE SOUL 舞魂街舞學校
REFRESH-INTERVAL;VALUE=DURATION:PT1H
X-Robots-Tag:noindex
X-PUBLISHED-TTL:PT1H
BEGIN:VTIMEZONE
TZID:Asia/Shanghai
BEGIN:STANDARD
TZOFFSETFROM:+0800
TZOFFSETTO:+0800
TZNAME:CST
DTSTART:20250101T000000
END:STANDARD
END:VTIMEZONE
BEGIN:VEVENT
DTSTART;TZID=Asia/Shanghai:20260802T192500
DTEND;TZID=Asia/Shanghai:20260802T202500
DTSTAMP:20260421T075138
CREATED:20260327T081608Z
LAST-MODIFIED:20260327T081608Z
UID:10030180-1785698700-1785702300@www.dancesoul.com.tw
SUMMARY:Hip Hop-ROD
DESCRIPTION:
URL:https://www.dancesoul.com.tw/schedule/hip-hop-%e6%89%bf%e7%bf%b0-2-2/2026-08-02/
CATEGORIES:Hip Hop,常態課_一般,課程
END:VEVENT
BEGIN:VEVENT
DTSTART;TZID=Asia/Shanghai:20260804T213500
DTEND;TZID=Asia/Shanghai:20260804T223500
DTSTAMP:20260421T075138
CREATED:20260327T081822Z
LAST-MODIFIED:20260327T081932Z
UID:10032129-1785879300-1785882900@www.dancesoul.com.tw
SUMMARY:Hip Hop-承翰
DESCRIPTION:
URL:https://www.dancesoul.com.tw/schedule/hip-hop-%e6%89%bf%e7%bf%b0-2-3/2026-08-04/
CATEGORIES:Hip Hop,常態課_一般,課程
END:VEVENT
BEGIN:VEVENT
DTSTART;TZID=Asia/Shanghai:20260806T182000
DTEND;TZID=Asia/Shanghai:20260806T192000
DTSTAMP:20260421T075138
CREATED:20251202T055643Z
LAST-MODIFIED:20251202T055645Z
UID:10025489-1786040400-1786044000@www.dancesoul.com.tw
SUMMARY:Street Jazz-羊羊
DESCRIPTION:
URL:https://www.dancesoul.com.tw/schedule/hip-hop-%e4%bd%90%e4%bd%90-2-2/2026-08-06/
CATEGORIES:Hip Hop,常態課_一般,課程
END:VEVENT
BEGIN:VEVENT
DTSTART;TZID=Asia/Shanghai:20260809T192500
DTEND;TZID=Asia/Shanghai:20260809T202500
DTSTAMP:20260421T075138
CREATED:20260327T081608Z
LAST-MODIFIED:20260327T081608Z
UID:10030181-1786303500-1786307100@www.dancesoul.com.tw
SUMMARY:Hip Hop-ROD
DESCRIPTION:
URL:https://www.dancesoul.com.tw/schedule/hip-hop-%e6%89%bf%e7%bf%b0-2-2/2026-08-09/
CATEGORIES:Hip Hop,常態課_一般,課程
END:VEVENT
BEGIN:VEVENT
DTSTART;TZID=Asia/Shanghai:20260811T213500
DTEND;TZID=Asia/Shanghai:20260811T223500
DTSTAMP:20260421T075138
CREATED:20260327T081822Z
LAST-MODIFIED:20260327T081932Z
UID:10032130-1786484100-1786487700@www.dancesoul.com.tw
SUMMARY:Hip Hop-承翰
DESCRIPTION:
URL:https://www.dancesoul.com.tw/schedule/hip-hop-%e6%89%bf%e7%bf%b0-2-3/2026-08-11/
CATEGORIES:Hip Hop,常態課_一般,課程
END:VEVENT
BEGIN:VEVENT
DTSTART;TZID=Asia/Shanghai:20260813T182000
DTEND;TZID=Asia/Shanghai:20260813T192000
DTSTAMP:20260421T075138
CREATED:20251202T055643Z
LAST-MODIFIED:20251202T055645Z
UID:10025490-1786645200-1786648800@www.dancesoul.com.tw
SUMMARY:Street Jazz-羊羊
DESCRIPTION:
URL:https://www.dancesoul.com.tw/schedule/hip-hop-%e4%bd%90%e4%bd%90-2-2/2026-08-13/
CATEGORIES:Hip Hop,常態課_一般,課程
END:VEVENT
BEGIN:VEVENT
DTSTART;TZID=Asia/Shanghai:20260816T192500
DTEND;TZID=Asia/Shanghai:20260816T202500
DTSTAMP:20260421T075138
CREATED:20260327T081608Z
LAST-MODIFIED:20260327T081608Z
UID:10030182-1786908300-1786911900@www.dancesoul.com.tw
SUMMARY:Hip Hop-ROD
DESCRIPTION:
URL:https://www.dancesoul.com.tw/schedule/hip-hop-%e6%89%bf%e7%bf%b0-2-2/2026-08-16/
CATEGORIES:Hip Hop,常態課_一般,課程
END:VEVENT
BEGIN:VEVENT
DTSTART;TZID=Asia/Shanghai:20260818T213500
DTEND;TZID=Asia/Shanghai:20260818T223500
DTSTAMP:20260421T075138
CREATED:20260327T081822Z
LAST-MODIFIED:20260327T081932Z
UID:10032131-1787088900-1787092500@www.dancesoul.com.tw
SUMMARY:Hip Hop-承翰
DESCRIPTION:
URL:https://www.dancesoul.com.tw/schedule/hip-hop-%e6%89%bf%e7%bf%b0-2-3/2026-08-18/
CATEGORIES:Hip Hop,常態課_一般,課程
END:VEVENT
BEGIN:VEVENT
DTSTART;TZID=Asia/Shanghai:20260820T182000
DTEND;TZID=Asia/Shanghai:20260820T192000
DTSTAMP:20260421T075138
CREATED:20251202T055643Z
LAST-MODIFIED:20251202T055645Z
UID:10025491-1787250000-1787253600@www.dancesoul.com.tw
SUMMARY:Street Jazz-羊羊
DESCRIPTION:
URL:https://www.dancesoul.com.tw/schedule/hip-hop-%e4%bd%90%e4%bd%90-2-2/2026-08-20/
CATEGORIES:Hip Hop,常態課_一般,課程
END:VEVENT
BEGIN:VEVENT
DTSTART;TZID=Asia/Shanghai:20260823T192500
DTEND;TZID=Asia/Shanghai:20260823T202500
DTSTAMP:20260421T075138
CREATED:20260327T081608Z
LAST-MODIFIED:20260327T081608Z
UID:10030183-1787513100-1787516700@www.dancesoul.com.tw
SUMMARY:Hip Hop-ROD
DESCRIPTION:
URL:https://www.dancesoul.com.tw/schedule/hip-hop-%e6%89%bf%e7%bf%b0-2-2/2026-08-23/
CATEGORIES:Hip Hop,常態課_一般,課程
END:VEVENT
BEGIN:VEVENT
DTSTART;TZID=Asia/Shanghai:20260825T213500
DTEND;TZID=Asia/Shanghai:20260825T223500
DTSTAMP:20260421T075138
CREATED:20260327T081822Z
LAST-MODIFIED:20260327T081932Z
UID:10032132-1787693700-1787697300@www.dancesoul.com.tw
SUMMARY:Hip Hop-承翰
DESCRIPTION:
URL:https://www.dancesoul.com.tw/schedule/hip-hop-%e6%89%bf%e7%bf%b0-2-3/2026-08-25/
CATEGORIES:Hip Hop,常態課_一般,課程
END:VEVENT
BEGIN:VEVENT
DTSTART;TZID=Asia/Shanghai:20260827T182000
DTEND;TZID=Asia/Shanghai:20260827T192000
DTSTAMP:20260421T075138
CREATED:20251202T055643Z
LAST-MODIFIED:20251202T055645Z
UID:10025492-1787854800-1787858400@www.dancesoul.com.tw
SUMMARY:Street Jazz-羊羊
DESCRIPTION:
URL:https://www.dancesoul.com.tw/schedule/hip-hop-%e4%bd%90%e4%bd%90-2-2/2026-08-27/
CATEGORIES:Hip Hop,常態課_一般,課程
END:VEVENT
BEGIN:VEVENT
DTSTART;TZID=Asia/Shanghai:20260830T192500
DTEND;TZID=Asia/Shanghai:20260830T202500
DTSTAMP:20260421T075138
CREATED:20260327T081608Z
LAST-MODIFIED:20260327T081608Z
UID:10030184-1788117900-1788121500@www.dancesoul.com.tw
SUMMARY:Hip Hop-ROD
DESCRIPTION:
URL:https://www.dancesoul.com.tw/schedule/hip-hop-%e6%89%bf%e7%bf%b0-2-2/2026-08-30/
CATEGORIES:Hip Hop,常態課_一般,課程
END:VEVENT
END:VCALENDAR