BEGIN:VCALENDAR
VERSION:2.0
PRODID:-//DANCE SOUL 舞魂街舞學校 - ECPv6.15.18//NONSGML v1.0//EN
CALSCALE:GREGORIAN
METHOD:PUBLISH
X-ORIGINAL-URL:https://www.dancesoul.com.tw
X-WR-CALDESC:Events for DANCE SOUL 舞魂街舞學校
REFRESH-INTERVAL;VALUE=DURATION:PT1H
X-Robots-Tag:noindex
X-PUBLISHED-TTL:PT1H
BEGIN:VTIMEZONE
TZID:Asia/Shanghai
BEGIN:STANDARD
TZOFFSETFROM:+0800
TZOFFSETTO:+0800
TZNAME:CST
DTSTART:20250101T000000
END:STANDARD
END:VTIMEZONE
BEGIN:VEVENT
DTSTART;TZID=Asia/Shanghai:20261201T213500
DTEND;TZID=Asia/Shanghai:20261201T223500
DTSTAMP:20260422T054645
CREATED:20260327T081822Z
LAST-MODIFIED:20260327T081932Z
UID:10032146-1796160900-1796164500@www.dancesoul.com.tw
SUMMARY:Hip Hop-承翰
DESCRIPTION:
URL:https://www.dancesoul.com.tw/schedule/hip-hop-%e6%89%bf%e7%bf%b0-2-3/2026-12-01/
CATEGORIES:Hip Hop,常態課_一般,課程
END:VEVENT
BEGIN:VEVENT
DTSTART;TZID=Asia/Shanghai:20261203T182000
DTEND;TZID=Asia/Shanghai:20261203T192000
DTSTAMP:20260422T054645
CREATED:20251202T055643Z
LAST-MODIFIED:20251202T055645Z
UID:10025506-1796322000-1796325600@www.dancesoul.com.tw
SUMMARY:Street Jazz-羊羊
DESCRIPTION:
URL:https://www.dancesoul.com.tw/schedule/hip-hop-%e4%bd%90%e4%bd%90-2-2/2026-12-03/
CATEGORIES:Hip Hop,常態課_一般,課程
END:VEVENT
BEGIN:VEVENT
DTSTART;TZID=Asia/Shanghai:20261206T192500
DTEND;TZID=Asia/Shanghai:20261206T202500
DTSTAMP:20260422T054645
CREATED:20260327T081608Z
LAST-MODIFIED:20260327T081608Z
UID:10030198-1796585100-1796588700@www.dancesoul.com.tw
SUMMARY:Hip Hop-ROD
DESCRIPTION:
URL:https://www.dancesoul.com.tw/schedule/hip-hop-%e6%89%bf%e7%bf%b0-2-2/2026-12-06/
CATEGORIES:Hip Hop,常態課_一般,課程
END:VEVENT
BEGIN:VEVENT
DTSTART;TZID=Asia/Shanghai:20261208T213500
DTEND;TZID=Asia/Shanghai:20261208T223500
DTSTAMP:20260422T054645
CREATED:20260327T081822Z
LAST-MODIFIED:20260327T081932Z
UID:10032147-1796765700-1796769300@www.dancesoul.com.tw
SUMMARY:Hip Hop-承翰
DESCRIPTION:
URL:https://www.dancesoul.com.tw/schedule/hip-hop-%e6%89%bf%e7%bf%b0-2-3/2026-12-08/
CATEGORIES:Hip Hop,常態課_一般,課程
END:VEVENT
BEGIN:VEVENT
DTSTART;TZID=Asia/Shanghai:20261210T182000
DTEND;TZID=Asia/Shanghai:20261210T192000
DTSTAMP:20260422T054645
CREATED:20251202T055643Z
LAST-MODIFIED:20251202T055645Z
UID:10025507-1796926800-1796930400@www.dancesoul.com.tw
SUMMARY:Street Jazz-羊羊
DESCRIPTION:
URL:https://www.dancesoul.com.tw/schedule/hip-hop-%e4%bd%90%e4%bd%90-2-2/2026-12-10/
CATEGORIES:Hip Hop,常態課_一般,課程
END:VEVENT
BEGIN:VEVENT
DTSTART;TZID=Asia/Shanghai:20261213T192500
DTEND;TZID=Asia/Shanghai:20261213T202500
DTSTAMP:20260422T054645
CREATED:20260327T081608Z
LAST-MODIFIED:20260327T081608Z
UID:10030199-1797189900-1797193500@www.dancesoul.com.tw
SUMMARY:Hip Hop-ROD
DESCRIPTION:
URL:https://www.dancesoul.com.tw/schedule/hip-hop-%e6%89%bf%e7%bf%b0-2-2/2026-12-13/
CATEGORIES:Hip Hop,常態課_一般,課程
END:VEVENT
BEGIN:VEVENT
DTSTART;TZID=Asia/Shanghai:20261215T213500
DTEND;TZID=Asia/Shanghai:20261215T223500
DTSTAMP:20260422T054645
CREATED:20260327T081822Z
LAST-MODIFIED:20260327T081932Z
UID:10032148-1797370500-1797374100@www.dancesoul.com.tw
SUMMARY:Hip Hop-承翰
DESCRIPTION:
URL:https://www.dancesoul.com.tw/schedule/hip-hop-%e6%89%bf%e7%bf%b0-2-3/2026-12-15/
CATEGORIES:Hip Hop,常態課_一般,課程
END:VEVENT
BEGIN:VEVENT
DTSTART;TZID=Asia/Shanghai:20261217T182000
DTEND;TZID=Asia/Shanghai:20261217T192000
DTSTAMP:20260422T054645
CREATED:20251202T055643Z
LAST-MODIFIED:20251202T055645Z
UID:10025508-1797531600-1797535200@www.dancesoul.com.tw
SUMMARY:Street Jazz-羊羊
DESCRIPTION:
URL:https://www.dancesoul.com.tw/schedule/hip-hop-%e4%bd%90%e4%bd%90-2-2/2026-12-17/
CATEGORIES:Hip Hop,常態課_一般,課程
END:VEVENT
BEGIN:VEVENT
DTSTART;TZID=Asia/Shanghai:20261220T192500
DTEND;TZID=Asia/Shanghai:20261220T202500
DTSTAMP:20260422T054645
CREATED:20260327T081608Z
LAST-MODIFIED:20260327T081608Z
UID:10030200-1797794700-1797798300@www.dancesoul.com.tw
SUMMARY:Hip Hop-ROD
DESCRIPTION:
URL:https://www.dancesoul.com.tw/schedule/hip-hop-%e6%89%bf%e7%bf%b0-2-2/2026-12-20/
CATEGORIES:Hip Hop,常態課_一般,課程
END:VEVENT
BEGIN:VEVENT
DTSTART;TZID=Asia/Shanghai:20261222T213500
DTEND;TZID=Asia/Shanghai:20261222T223500
DTSTAMP:20260422T054645
CREATED:20260327T081822Z
LAST-MODIFIED:20260327T081932Z
UID:10032149-1797975300-1797978900@www.dancesoul.com.tw
SUMMARY:Hip Hop-承翰
DESCRIPTION:
URL:https://www.dancesoul.com.tw/schedule/hip-hop-%e6%89%bf%e7%bf%b0-2-3/2026-12-22/
CATEGORIES:Hip Hop,常態課_一般,課程
END:VEVENT
BEGIN:VEVENT
DTSTART;TZID=Asia/Shanghai:20261224T182000
DTEND;TZID=Asia/Shanghai:20261224T192000
DTSTAMP:20260422T054645
CREATED:20251202T055643Z
LAST-MODIFIED:20251202T055645Z
UID:10025509-1798136400-1798140000@www.dancesoul.com.tw
SUMMARY:Street Jazz-羊羊
DESCRIPTION:
URL:https://www.dancesoul.com.tw/schedule/hip-hop-%e4%bd%90%e4%bd%90-2-2/2026-12-24/
CATEGORIES:Hip Hop,常態課_一般,課程
END:VEVENT
BEGIN:VEVENT
DTSTART;TZID=Asia/Shanghai:20261227T192500
DTEND;TZID=Asia/Shanghai:20261227T202500
DTSTAMP:20260422T054645
CREATED:20260327T081608Z
LAST-MODIFIED:20260327T081608Z
UID:10030201-1798399500-1798403100@www.dancesoul.com.tw
SUMMARY:Hip Hop-ROD
DESCRIPTION:
URL:https://www.dancesoul.com.tw/schedule/hip-hop-%e6%89%bf%e7%bf%b0-2-2/2026-12-27/
CATEGORIES:Hip Hop,常態課_一般,課程
END:VEVENT
BEGIN:VEVENT
DTSTART;TZID=Asia/Shanghai:20261229T213500
DTEND;TZID=Asia/Shanghai:20261229T223500
DTSTAMP:20260422T054645
CREATED:20260327T081822Z
LAST-MODIFIED:20260327T081932Z
UID:10032150-1798580100-1798583700@www.dancesoul.com.tw
SUMMARY:Hip Hop-承翰
DESCRIPTION:
URL:https://www.dancesoul.com.tw/schedule/hip-hop-%e6%89%bf%e7%bf%b0-2-3/2026-12-29/
CATEGORIES:Hip Hop,常態課_一般,課程
END:VEVENT
BEGIN:VEVENT
DTSTART;TZID=Asia/Shanghai:20261231T182000
DTEND;TZID=Asia/Shanghai:20261231T192000
DTSTAMP:20260422T054645
CREATED:20251202T055643Z
LAST-MODIFIED:20251202T055645Z
UID:10025510-1798741200-1798744800@www.dancesoul.com.tw
SUMMARY:Street Jazz-羊羊
DESCRIPTION:
URL:https://www.dancesoul.com.tw/schedule/hip-hop-%e4%bd%90%e4%bd%90-2-2/2026-12-31/
CATEGORIES:Hip Hop,常態課_一般,課程
END:VEVENT
END:VCALENDAR