BEGIN:VCALENDAR
VERSION:2.0
PRODID:-//DANCE SOUL 舞魂街舞學校 - ECPv6.15.18//NONSGML v1.0//EN
CALSCALE:GREGORIAN
METHOD:PUBLISH
X-WR-CALNAME:DANCE SOUL 舞魂街舞學校
X-ORIGINAL-URL:https://www.dancesoul.com.tw
X-WR-CALDESC:Events for DANCE SOUL 舞魂街舞學校
REFRESH-INTERVAL;VALUE=DURATION:PT1H
X-Robots-Tag:noindex
X-PUBLISHED-TTL:PT1H
BEGIN:VTIMEZONE
TZID:Asia/Shanghai
BEGIN:STANDARD
TZOFFSETFROM:+0800
TZOFFSETTO:+0800
TZNAME:CST
DTSTART:20260101T000000
END:STANDARD
END:VTIMEZONE
BEGIN:VEVENT
DTSTART;TZID=Asia/Shanghai:20270103T192500
DTEND;TZID=Asia/Shanghai:20270103T202500
DTSTAMP:20260423T060237
CREATED:20260327T081608Z
LAST-MODIFIED:20260327T081608Z
UID:10030202-1799004300-1799007900@www.dancesoul.com.tw
SUMMARY:Hip Hop-ROD
DESCRIPTION:
URL:https://www.dancesoul.com.tw/schedule/hip-hop-%e6%89%bf%e7%bf%b0-2-2/2027-01-03/
CATEGORIES:Hip Hop,常態課_一般,課程
END:VEVENT
BEGIN:VEVENT
DTSTART;TZID=Asia/Shanghai:20270105T213500
DTEND;TZID=Asia/Shanghai:20270105T223500
DTSTAMP:20260423T060237
CREATED:20260327T081822Z
LAST-MODIFIED:20260327T081932Z
UID:10032151-1799184900-1799188500@www.dancesoul.com.tw
SUMMARY:Hip Hop-承翰
DESCRIPTION:
URL:https://www.dancesoul.com.tw/schedule/hip-hop-%e6%89%bf%e7%bf%b0-2-3/2027-01-05/
CATEGORIES:Hip Hop,常態課_一般,課程
END:VEVENT
BEGIN:VEVENT
DTSTART;TZID=Asia/Shanghai:20270107T182000
DTEND;TZID=Asia/Shanghai:20270107T192000
DTSTAMP:20260423T060237
CREATED:20251202T055643Z
LAST-MODIFIED:20251202T055645Z
UID:10025511-1799346000-1799349600@www.dancesoul.com.tw
SUMMARY:Street Jazz-羊羊
DESCRIPTION:
URL:https://www.dancesoul.com.tw/schedule/hip-hop-%e4%bd%90%e4%bd%90-2-2/2027-01-07/
CATEGORIES:Hip Hop,常態課_一般,課程
END:VEVENT
BEGIN:VEVENT
DTSTART;TZID=Asia/Shanghai:20270110T192500
DTEND;TZID=Asia/Shanghai:20270110T202500
DTSTAMP:20260423T060237
CREATED:20260327T081608Z
LAST-MODIFIED:20260327T081608Z
UID:10030203-1799609100-1799612700@www.dancesoul.com.tw
SUMMARY:Hip Hop-ROD
DESCRIPTION:
URL:https://www.dancesoul.com.tw/schedule/hip-hop-%e6%89%bf%e7%bf%b0-2-2/2027-01-10/
CATEGORIES:Hip Hop,常態課_一般,課程
END:VEVENT
BEGIN:VEVENT
DTSTART;TZID=Asia/Shanghai:20270112T213500
DTEND;TZID=Asia/Shanghai:20270112T223500
DTSTAMP:20260423T060237
CREATED:20260327T081822Z
LAST-MODIFIED:20260327T081932Z
UID:10032152-1799789700-1799793300@www.dancesoul.com.tw
SUMMARY:Hip Hop-承翰
DESCRIPTION:
URL:https://www.dancesoul.com.tw/schedule/hip-hop-%e6%89%bf%e7%bf%b0-2-3/2027-01-12/
CATEGORIES:Hip Hop,常態課_一般,課程
END:VEVENT
BEGIN:VEVENT
DTSTART;TZID=Asia/Shanghai:20270114T182000
DTEND;TZID=Asia/Shanghai:20270114T192000
DTSTAMP:20260423T060237
CREATED:20251202T055643Z
LAST-MODIFIED:20251202T055645Z
UID:10025512-1799950800-1799954400@www.dancesoul.com.tw
SUMMARY:Street Jazz-羊羊
DESCRIPTION:
URL:https://www.dancesoul.com.tw/schedule/hip-hop-%e4%bd%90%e4%bd%90-2-2/2027-01-14/
CATEGORIES:Hip Hop,常態課_一般,課程
END:VEVENT
BEGIN:VEVENT
DTSTART;TZID=Asia/Shanghai:20270117T192500
DTEND;TZID=Asia/Shanghai:20270117T202500
DTSTAMP:20260423T060237
CREATED:20260327T081608Z
LAST-MODIFIED:20260327T081608Z
UID:10030204-1800213900-1800217500@www.dancesoul.com.tw
SUMMARY:Hip Hop-ROD
DESCRIPTION:
URL:https://www.dancesoul.com.tw/schedule/hip-hop-%e6%89%bf%e7%bf%b0-2-2/2027-01-17/
CATEGORIES:Hip Hop,常態課_一般,課程
END:VEVENT
BEGIN:VEVENT
DTSTART;TZID=Asia/Shanghai:20270119T213500
DTEND;TZID=Asia/Shanghai:20270119T223500
DTSTAMP:20260423T060237
CREATED:20260327T081822Z
LAST-MODIFIED:20260327T081932Z
UID:10032153-1800394500-1800398100@www.dancesoul.com.tw
SUMMARY:Hip Hop-承翰
DESCRIPTION:
URL:https://www.dancesoul.com.tw/schedule/hip-hop-%e6%89%bf%e7%bf%b0-2-3/2027-01-19/
CATEGORIES:Hip Hop,常態課_一般,課程
END:VEVENT
BEGIN:VEVENT
DTSTART;TZID=Asia/Shanghai:20270121T182000
DTEND;TZID=Asia/Shanghai:20270121T192000
DTSTAMP:20260423T060237
CREATED:20251202T055643Z
LAST-MODIFIED:20251202T055645Z
UID:10025513-1800555600-1800559200@www.dancesoul.com.tw
SUMMARY:Street Jazz-羊羊
DESCRIPTION:
URL:https://www.dancesoul.com.tw/schedule/hip-hop-%e4%bd%90%e4%bd%90-2-2/2027-01-21/
CATEGORIES:Hip Hop,常態課_一般,課程
END:VEVENT
BEGIN:VEVENT
DTSTART;TZID=Asia/Shanghai:20270124T192500
DTEND;TZID=Asia/Shanghai:20270124T202500
DTSTAMP:20260423T060237
CREATED:20260327T081608Z
LAST-MODIFIED:20260327T081608Z
UID:10030205-1800818700-1800822300@www.dancesoul.com.tw
SUMMARY:Hip Hop-ROD
DESCRIPTION:
URL:https://www.dancesoul.com.tw/schedule/hip-hop-%e6%89%bf%e7%bf%b0-2-2/2027-01-24/
CATEGORIES:Hip Hop,常態課_一般,課程
END:VEVENT
BEGIN:VEVENT
DTSTART;TZID=Asia/Shanghai:20270126T213500
DTEND;TZID=Asia/Shanghai:20270126T223500
DTSTAMP:20260423T060237
CREATED:20260327T081822Z
LAST-MODIFIED:20260327T081932Z
UID:10032154-1800999300-1801002900@www.dancesoul.com.tw
SUMMARY:Hip Hop-承翰
DESCRIPTION:
URL:https://www.dancesoul.com.tw/schedule/hip-hop-%e6%89%bf%e7%bf%b0-2-3/2027-01-26/
CATEGORIES:Hip Hop,常態課_一般,課程
END:VEVENT
BEGIN:VEVENT
DTSTART;TZID=Asia/Shanghai:20270128T182000
DTEND;TZID=Asia/Shanghai:20270128T192000
DTSTAMP:20260423T060237
CREATED:20251202T055643Z
LAST-MODIFIED:20251202T055645Z
UID:10025514-1801160400-1801164000@www.dancesoul.com.tw
SUMMARY:Street Jazz-羊羊
DESCRIPTION:
URL:https://www.dancesoul.com.tw/schedule/hip-hop-%e4%bd%90%e4%bd%90-2-2/2027-01-28/
CATEGORIES:Hip Hop,常態課_一般,課程
END:VEVENT
BEGIN:VEVENT
DTSTART;TZID=Asia/Shanghai:20270131T192500
DTEND;TZID=Asia/Shanghai:20270131T202500
DTSTAMP:20260423T060237
CREATED:20260327T081608Z
LAST-MODIFIED:20260327T081608Z
UID:10030206-1801423500-1801427100@www.dancesoul.com.tw
SUMMARY:Hip Hop-ROD
DESCRIPTION:
URL:https://www.dancesoul.com.tw/schedule/hip-hop-%e6%89%bf%e7%bf%b0-2-2/2027-01-31/
CATEGORIES:Hip Hop,常態課_一般,課程
END:VEVENT
END:VCALENDAR