BEGIN:VCALENDAR
VERSION:2.0
PRODID:-//DANCE SOUL 舞魂街舞學校 - ECPv6.15.18//NONSGML v1.0//EN
CALSCALE:GREGORIAN
METHOD:PUBLISH
X-WR-CALNAME:DANCE SOUL 舞魂街舞學校
X-ORIGINAL-URL:https://www.dancesoul.com.tw
X-WR-CALDESC:Events for DANCE SOUL 舞魂街舞學校
REFRESH-INTERVAL;VALUE=DURATION:PT1H
X-Robots-Tag:noindex
X-PUBLISHED-TTL:PT1H
BEGIN:VTIMEZONE
TZID:Asia/Shanghai
BEGIN:STANDARD
TZOFFSETFROM:+0800
TZOFFSETTO:+0800
TZNAME:CST
DTSTART:20260101T000000
END:STANDARD
END:VTIMEZONE
BEGIN:VEVENT
DTSTART;TZID=Asia/Shanghai:20270202T213500
DTEND;TZID=Asia/Shanghai:20270202T223500
DTSTAMP:20260423T060331
CREATED:20260327T081822Z
LAST-MODIFIED:20260327T081932Z
UID:10032155-1801604100-1801607700@www.dancesoul.com.tw
SUMMARY:Hip Hop-承翰
DESCRIPTION:
URL:https://www.dancesoul.com.tw/schedule/hip-hop-%e6%89%bf%e7%bf%b0-2-3/2027-02-02/
CATEGORIES:Hip Hop,常態課_一般,課程
END:VEVENT
BEGIN:VEVENT
DTSTART;TZID=Asia/Shanghai:20270204T182000
DTEND;TZID=Asia/Shanghai:20270204T192000
DTSTAMP:20260423T060331
CREATED:20251202T055643Z
LAST-MODIFIED:20251202T055645Z
UID:10025515-1801765200-1801768800@www.dancesoul.com.tw
SUMMARY:Street Jazz-羊羊
DESCRIPTION:
URL:https://www.dancesoul.com.tw/schedule/hip-hop-%e4%bd%90%e4%bd%90-2-2/2027-02-04/
CATEGORIES:Hip Hop,常態課_一般,課程
END:VEVENT
BEGIN:VEVENT
DTSTART;TZID=Asia/Shanghai:20270207T192500
DTEND;TZID=Asia/Shanghai:20270207T202500
DTSTAMP:20260423T060331
CREATED:20260327T081608Z
LAST-MODIFIED:20260327T081608Z
UID:10030207-1802028300-1802031900@www.dancesoul.com.tw
SUMMARY:Hip Hop-ROD
DESCRIPTION:
URL:https://www.dancesoul.com.tw/schedule/hip-hop-%e6%89%bf%e7%bf%b0-2-2/2027-02-07/
CATEGORIES:Hip Hop,常態課_一般,課程
END:VEVENT
BEGIN:VEVENT
DTSTART;TZID=Asia/Shanghai:20270209T213500
DTEND;TZID=Asia/Shanghai:20270209T223500
DTSTAMP:20260423T060331
CREATED:20260327T081822Z
LAST-MODIFIED:20260327T081932Z
UID:10032156-1802208900-1802212500@www.dancesoul.com.tw
SUMMARY:Hip Hop-承翰
DESCRIPTION:
URL:https://www.dancesoul.com.tw/schedule/hip-hop-%e6%89%bf%e7%bf%b0-2-3/2027-02-09/
CATEGORIES:Hip Hop,常態課_一般,課程
END:VEVENT
BEGIN:VEVENT
DTSTART;TZID=Asia/Shanghai:20270211T182000
DTEND;TZID=Asia/Shanghai:20270211T192000
DTSTAMP:20260423T060331
CREATED:20251202T055643Z
LAST-MODIFIED:20251202T055645Z
UID:10025516-1802370000-1802373600@www.dancesoul.com.tw
SUMMARY:Street Jazz-羊羊
DESCRIPTION:
URL:https://www.dancesoul.com.tw/schedule/hip-hop-%e4%bd%90%e4%bd%90-2-2/2027-02-11/
CATEGORIES:Hip Hop,常態課_一般,課程
END:VEVENT
BEGIN:VEVENT
DTSTART;TZID=Asia/Shanghai:20270214T192500
DTEND;TZID=Asia/Shanghai:20270214T202500
DTSTAMP:20260423T060331
CREATED:20260327T081608Z
LAST-MODIFIED:20260327T081608Z
UID:10030208-1802633100-1802636700@www.dancesoul.com.tw
SUMMARY:Hip Hop-ROD
DESCRIPTION:
URL:https://www.dancesoul.com.tw/schedule/hip-hop-%e6%89%bf%e7%bf%b0-2-2/2027-02-14/
CATEGORIES:Hip Hop,常態課_一般,課程
END:VEVENT
BEGIN:VEVENT
DTSTART;TZID=Asia/Shanghai:20270216T213500
DTEND;TZID=Asia/Shanghai:20270216T223500
DTSTAMP:20260423T060331
CREATED:20260327T081822Z
LAST-MODIFIED:20260327T081932Z
UID:10032157-1802813700-1802817300@www.dancesoul.com.tw
SUMMARY:Hip Hop-承翰
DESCRIPTION:
URL:https://www.dancesoul.com.tw/schedule/hip-hop-%e6%89%bf%e7%bf%b0-2-3/2027-02-16/
CATEGORIES:Hip Hop,常態課_一般,課程
END:VEVENT
BEGIN:VEVENT
DTSTART;TZID=Asia/Shanghai:20270218T182000
DTEND;TZID=Asia/Shanghai:20270218T192000
DTSTAMP:20260423T060331
CREATED:20251202T055643Z
LAST-MODIFIED:20251202T055645Z
UID:10025517-1802974800-1802978400@www.dancesoul.com.tw
SUMMARY:Street Jazz-羊羊
DESCRIPTION:
URL:https://www.dancesoul.com.tw/schedule/hip-hop-%e4%bd%90%e4%bd%90-2-2/2027-02-18/
CATEGORIES:Hip Hop,常態課_一般,課程
END:VEVENT
BEGIN:VEVENT
DTSTART;TZID=Asia/Shanghai:20270221T192500
DTEND;TZID=Asia/Shanghai:20270221T202500
DTSTAMP:20260423T060331
CREATED:20260327T081608Z
LAST-MODIFIED:20260327T081608Z
UID:10030209-1803237900-1803241500@www.dancesoul.com.tw
SUMMARY:Hip Hop-ROD
DESCRIPTION:
URL:https://www.dancesoul.com.tw/schedule/hip-hop-%e6%89%bf%e7%bf%b0-2-2/2027-02-21/
CATEGORIES:Hip Hop,常態課_一般,課程
END:VEVENT
BEGIN:VEVENT
DTSTART;TZID=Asia/Shanghai:20270223T213500
DTEND;TZID=Asia/Shanghai:20270223T223500
DTSTAMP:20260423T060331
CREATED:20260327T081822Z
LAST-MODIFIED:20260327T081932Z
UID:10032158-1803418500-1803422100@www.dancesoul.com.tw
SUMMARY:Hip Hop-承翰
DESCRIPTION:
URL:https://www.dancesoul.com.tw/schedule/hip-hop-%e6%89%bf%e7%bf%b0-2-3/2027-02-23/
CATEGORIES:Hip Hop,常態課_一般,課程
END:VEVENT
BEGIN:VEVENT
DTSTART;TZID=Asia/Shanghai:20270225T182000
DTEND;TZID=Asia/Shanghai:20270225T192000
DTSTAMP:20260423T060331
CREATED:20251202T055643Z
LAST-MODIFIED:20251202T055645Z
UID:10025518-1803579600-1803583200@www.dancesoul.com.tw
SUMMARY:Street Jazz-羊羊
DESCRIPTION:
URL:https://www.dancesoul.com.tw/schedule/hip-hop-%e4%bd%90%e4%bd%90-2-2/2027-02-25/
CATEGORIES:Hip Hop,常態課_一般,課程
END:VEVENT
BEGIN:VEVENT
DTSTART;TZID=Asia/Shanghai:20270228T192500
DTEND;TZID=Asia/Shanghai:20270228T202500
DTSTAMP:20260423T060331
CREATED:20260327T081608Z
LAST-MODIFIED:20260327T081608Z
UID:10030210-1803842700-1803846300@www.dancesoul.com.tw
SUMMARY:Hip Hop-ROD
DESCRIPTION:
URL:https://www.dancesoul.com.tw/schedule/hip-hop-%e6%89%bf%e7%bf%b0-2-2/2027-02-28/
CATEGORIES:Hip Hop,常態課_一般,課程
END:VEVENT
END:VCALENDAR